Workbook

Sheet SSC
A2: MUNICIPIO | B2: UNIDAD ADMINISTRATIVA | C2: DIRECCIÓN-UBICACIÓN | D2: TIPO DE EQUIPO | E2: CAP.TONELADAS | F2: MODELO | G2: MARCA | H2: INVENTARIO | I2: NO. DE SERIE | J2: Minisplit | K2: Remota | L2: Paquete | M2: Ventana
A3: MEXICALI | B3: ADMINISTRACION SSC | C3: Av. de los Héroes y calle de la Libertad #399, Centro Cívico - comedor planta baja | D3: MINISPLIT | E3: 1 | F3: EMPRCI22-E2 | G3: PRIME | H3: 428124 | J3: =IF(D3="minisplit",1,0) -> 1 | K3: =IF(D3="remota",1,0) -> 0 | L3: =IF(D3="paquete",1,0) -> 0 | M3: =IF(D3="ventana",1,0) -> 0
A4: MEXICALI | B4: ADMINISTRACION SSC | C4: Av. de los Héroes y calle de la Libertad #399, Centro Cívico. - monitoreo sotano | D4: MINISPLIT | E4: 2 | F4: ARU-24A21OF | G4: AURUS | H4: 128121 | J4: =IF(D4="minisplit",1,0) -> 1 | K4: =IF(D4="remota",1,0) -> 0 | L4: =IF(D4="paquete",1,0) -> 0 | M4: =IF(D4="ventana",1,0) -> 0
A5: MEXICALI | B5: ADMINISTRACION SSC | C5: Av. de los Héroes y calle de la Libertad #399, Centro Cívico - sala de escoltas sotano | D5: MINISPLIT | E5: 2 | F5: LM024HI-100P432-1 | G5: LENNOX | H5: 18621 | I5: 52819A36149 | J5: =IF(D5="minisplit",1,0) -> 1 | K5: =IF(D5="remota",1,0) -> 0 | L5: =IF(D5="paquete",1,0) -> 0 | M5: =IF(D5="ventana",1,0) -> 0
A6: MEXICALI | B6: ADMINISTRACION SSC | C6: Av. de los Héroes y calle de la Libertad #399, Centro Cívico - biometria de voz sotano | D6: MINISPLIT | E6: 2 | F6: 4MCW0524HI000AA | G6: TRANE | J6: =IF(D6="minisplit",1,0) -> 1 | K6: =IF(D6="remota",1,0) -> 0 | L6: =IF(D6="paquete",1,0) -> 0 | M6: =IF(D6="ventana",1,0) -> 0
A7: MEXICALI | B7: ADMINISTRACION SSC | C7: Av. de los Héroes y calle de la Libertad #399, Centro Cívico - UPS planta baja | D7: MINISPLIT | E7: 2 | F7: FKESOJ242C | G7: FRIKKO | H7: 428129 | I7: S-2022-72-ID-04-0159 | J7: =IF(D7="minisplit",1,0) -> 1 | K7: =IF(D7="remota",1,0) -> 0 | L7: =IF(D7="paquete",1,0) -> 0 | M7: =IF(D7="ventana",1,0) -> 0
A8: MEXICALI | B8: ADMINISTRACION SSC | C8: Av. de los Héroes y calle de la Libertad #399, Centro Cívico - contraloria interna planta baja | D8: MINISPLIT | E8: 1 | F8: EMPRCI22-E2 | G8: PRIME | H8: 424106 | J8: =IF(D8="minisplit",1,0) -> 1 | K8: =IF(D8="remota",1,0) -> 0 | L8: =IF(D8="paquete",1,0) -> 0 | M8: =IF(D8="ventana",1,0) -> 0
A9: MEXICALI | B9: ADMINISTRACION SSC | C9: Av. de los Héroes y calle de la Libertad #399, Centro Cívico - direccion de asuntos legales 4to piso | D9: MINISPLIT | E9: 2 | F9: KFESOJ242C | G9: FRIKKO | H9: 428119 | I9: S-2021-70-ID-04-0098 | J9: =IF(D9="minisplit",1,0) -> 1 | K9: =IF(D9="remota",1,0) -> 0 | L9: =IF(D9="paquete",1,0) -> 0 | M9: =IF(D9="ventana",1,0) -> 0
A10: MEXICALI | B10: ADMINISTRACION SSC | C10: Av. de los Héroes y calle de la Libertad #399, Centro Cívico - planeacion y desarrollo 4to piso | D10: MINISPLIT | E10: 1 | F10: 40PPRQ123A-E | G10: CARRIER | I10: D202932040716C21170189 | J10: =IF(D10="minisplit",1,0) -> 1 | K10: =IF(D10="remota",1,0) -> 0 | L10: =IF(D10="paquete",1,0) -> 0 | M10: =IF(D10="ventana",1,0) -> 0
A11: MEXICALI | B11: ADMINISTRACION SSC | C11: Av. de los Héroes y calle de la Libertad #399, Centro Cívico - planeacion y desarrollo 4to piso | D11: MINISPLIT | E11: 1 | F11: 40PRQ123A-E | G11: CARRIER | I11: D202932040716C21170399 | J11: =IF(D11="minisplit",1,0) -> 1 | K11: =IF(D11="remota",1,0) -> 0 | L11: =IF(D11="paquete",1,0) -> 0 | M11: =IF(D11="ventana",1,0) -> 0
A12: MEXICALI | B12: ADMINISTRACION SSC | C12: Av. de los Héroes y calle de la Libertad #399, Centro Cívico - oficina titular 4to piso | D12: MINISPLIT | E12: 2 | F12: 2MCW0524E1000AA | G12: TRANE | I12: 1052712172605120085 | J12: =IF(D12="minisplit",1,0) -> 1 | K12: =IF(D12="remota",1,0) -> 0 | L12: =IF(D12="paquete",1,0) -> 0 | M12: =IF(D12="ventana",1,0) -> 0
A13: MEXICALI | B13: ADMINISTRACION SSC | C13: Av. de los Héroes y calle de la Libertad #399, Centro Cívico - sala titular 4to piso | D13: MINISPLIT | E13: 1.5 | F13: A4MCW0518H1000AA | G13: TRANE | H13: 298140 | J13: =IF(D13="minisplit",1,0) -> 1 | K13: =IF(D13="remota",1,0) -> 0 | L13: =IF(D13="paquete",1,0) -> 0 | M13: =IF(D13="ventana",1,0) -> 0
A14: MEXICALI | B14: ADMINISTRACION SSC | C14: Av. de los Héroes y calle de la Libertad #399, Centro Cívico - site 1er piso | D14: MINISPLIT | E14: 2 | F14: FKESOJ242C | G14: FRIKKO | I14: S-2022-72-ID-04-0178 | J14: =IF(D14="minisplit",1,0) -> 1 | K14: =IF(D14="remota",1,0) -> 0 | L14: =IF(D14="paquete",1,0) -> 0 | M14: =IF(D14="ventana",1,0) -> 0
A15: MEXICALI | B15: ADMINISTRACION SSC | C15: Av. de los Héroes y calle de la Libertad #399, Centro Cívico - oficina jefe administrativo 1er piso | D15: MINISPLIT | E15: 2 | F15: FKESOJ242C | G15: FRIKKO | I15: S-2022-72-ID-04-0177 | J15: =IF(D15="minisplit",1,0) -> 1 | K15: =IF(D15="remota",1,0) -> 0 | L15: =IF(D15="paquete",1,0) -> 0 | M15: =IF(D15="ventana",1,0) -> 0
A16: MEXICALI | B16: ADMINISTRACION SSC | C16: Av. de los Héroes y calle de la Libertad #399, Centro Cívico - sala escoltas 4to piso | D16: MINISPLIT | E16: 1 | F16: 73847 | G16: TRANE | H16: 287728 | I16: 3E91470000137 | J16: =IF(D16="minisplit",1,0) -> 1 | K16: =IF(D16="remota",1,0) -> 0 | L16: =IF(D16="paquete",1,0) -> 0 | M16: =IF(D16="ventana",1,0) -> 0
A17: MEXICALI | B17: ADMINISTRACION SSC | C17: Av. de los Héroes y calle de la Libertad #399, Centro Cívico - biometria de voz sotano | D17: MINISPLIT | E17: 2 | F17: 2MCW0524A1AA | G17: TRANE | H17: M3-020487 | J17: =IF(D17="minisplit",1,0) -> 1 | K17: =IF(D17="remota",1,0) -> 0 | L17: =IF(D17="paquete",1,0) -> 0 | M17: =IF(D17="ventana",1,0) -> 0
A18: MEXICALI | B18: ADMINISTRACION SSC | C18: Av. de los Héroes y calle de la Libertad #399, Centro Cívico - biometria de voz sotano | D18: MINISPLIT | E18: 2 | F18: 4MCW0524H1000AA | G18: TRANE | J18: =IF(D18="minisplit",1,0) -> 1 | K18: =IF(D18="remota",1,0) -> 0 | L18: =IF(D18="paquete",1,0) -> 0 | M18: =IF(D18="ventana",1,0) -> 0
A19: MEXICALI | B19: ADMINISTRACION SSC | C19: Av. de los Héroes y calle de la Libertad #399, Centro Cívico - anexo site 1er piso | D19: MINISPLIT | E19: 3 | F19: MCX524GI0RCA | G19: TRANE | I19: 3T1211-215678 | J19: =IF(D19="minisplit",1,0) -> 1 | K19: =IF(D19="remota",1,0) -> 0 | L19: =IF(D19="paquete",1,0) -> 0 | M19: =IF(D19="ventana",1,0) -> 0
A20: MEXICALI | B20: ADMINISTRACION SSC | C20: Av. de los Héroes y calle de la Libertad #399, Centro Cívico - anexo cuarto de UPS planta baja | D20: MINISPLIT | E20: 3 | F20: MCX524GI0RCA | G20: TRANE | I20: 3TI211-215673 | J20: =IF(D20="minisplit",1,0) -> 1 | K20: =IF(D20="remota",1,0) -> 0 | L20: =IF(D20="paquete",1,0) -> 0 | M20: =IF(D20="ventana",1,0) -> 0
A21: MEXICALI | B21: FUERZA ESTATAL DE SEGURIDAD CIUDADANA | C21: ALMACEN GENERAL-CALLE CALFIA # 412 centro civico | D21: MINISPLIT | E21: 2 | F21: W1HXF1(m)-24KW2C | G21: westinghouse | H21: INV-266301 | J21: =IF(D21="minisplit",1,0) -> 1 | K21: =IF(D21="remota",1,0) -> 0 | L21: =IF(D21="paquete",1,0) -> 0 | M21: =IF(D21="ventana",1,0) -> 0
A22: MEXICALI | B22: FUERZA ESTATAL DE SEGURIDAD CIUDADANA | C22: CALLE CALFIA # 412 centro civico | D22: MINISPLIT | E22: 2 | H22: INV-266302 | J22: =IF(D22="minisplit",1,0) -> 1 | K22: =IF(D22="remota",1,0) -> 0 | L22: =IF(D22="paquete",1,0) -> 0 | M22: =IF(D22="ventana",1,0) -> 0
A23: MEXICALI | B23: FUERZA ESTATAL DE SEGURIDAD CIUDADANA | C23: CALLE CALFIA # 412 centro civico | D23: MINISPLIT | E23: 2 | H23: INV-266303 | J23: =IF(D23="minisplit",1,0) -> 1 | K23: =IF(D23="remota",1,0) -> 0 | L23: =IF(D23="paquete",1,0) -> 0 | M23: =IF(D23="ventana",1,0) -> 0
A24: MEXICALI | B24: FUERZA ESTATAL DE SEGURIDAD CIUDADANA | C24: CALLE CALFIA # 412 centro civico | D24: MINISPLIT | E24: 2 | H24: INV-266304 | J24: =IF(D24="minisplit",1,0) -> 1 | K24: =IF(D24="remota",1,0) -> 0 | L24: =IF(D24="paquete",1,0) -> 0 | M24: =IF(D24="ventana",1,0) -> 0
A25: MEXICALI | B25: FUERZA ESTATAL DE SEGURIDAD CIUDADANA | C25: CALLE CALFIA # 412 centro civico | D25: MINISPLIT | E25: 2 | H25: INV-266305 | J25: =IF(D25="minisplit",1,0) -> 1 | K25: =IF(D25="remota",1,0) -> 0 | L25: =IF(D25="paquete",1,0) -> 0 | M25: =IF(D25="ventana",1,0) -> 0
A26: MEXICALI | B26: FUERZA ESTATAL DE SEGURIDAD CIUDADANA | C26: CALLE CALFIA # 412 centro civico | D26: MINISPLIT | E26: 2 | J26: =IF(D26="minisplit",1,0) -> 1 | K26: =IF(D26="remota",1,0) -> 0 | L26: =IF(D26="paquete",1,0) -> 0 | M26: =IF(D26="ventana",1,0) -> 0
A27: MEXICALI | B27: FUERZA ESTATAL DE SEGURIDAD CIUDADANA | C27: CALLE CALFIA # 412 centro civico | D27: MINISPLIT | E27: 2 | J27: =IF(D27="minisplit",1,0) -> 1 | K27: =IF(D27="remota",1,0) -> 0 | L27: =IF(D27="paquete",1,0) -> 0 | M27: =IF(D27="ventana",1,0) -> 0
A28: MEXICALI | B28: FUERZA ESTATAL DE SEGURIDAD CIUDADANA | C28: CALLE CALFIA # 412 centro civico | D28: MINISPLIT | E28: 2 | J28: =IF(D28="minisplit",1,0) -> 1 | K28: =IF(D28="remota",1,0) -> 0 | L28: =IF(D28="paquete",1,0) -> 0 | M28: =IF(D28="ventana",1,0) -> 0
A29: MEXICALI | B29: FUERZA ESTATAL DE SEGURIDAD CIUDADANA | C29: CASETA-CALLE CALFIA # 412 centro civico | D29: MINISPLIT | E29: 2 | H29: INV-266306 | J29: =IF(D29="minisplit",1,0) -> 1 | K29: =IF(D29="remota",1,0) -> 0 | L29: =IF(D29="paquete",1,0) -> 0 | M29: =IF(D29="ventana",1,0) -> 0
A30: MEXICALI | B30: FUERZA ESTATAL DE SEGURIDAD CIUDADANA | C30: ESCUADRON VIOLETA-CALLE CALFIA # 412 centro civico | D30: MINISPLIT | E30: 2 | H30: INV-266307 | J30: =IF(D30="minisplit",1,0) -> 1 | K30: =IF(D30="remota",1,0) -> 0 | L30: =IF(D30="paquete",1,0) -> 0 | M30: =IF(D30="ventana",1,0) -> 0
A31: MEXICALI | B31: FUERZA ESTATAL DE SEGURIDAD CIUDADANA | C31: CALLE CALFIA # 412 centro civico | D31: MINISPLIT | E31: 2 | H31: INV-266308 | J31: =IF(D31="minisplit",1,0) -> 1 | K31: =IF(D31="remota",1,0) -> 0 | L31: =IF(D31="paquete",1,0) -> 0 | M31: =IF(D31="ventana",1,0) -> 0
A32: MEXICALI | B32: FUERZA ESTATAL DE SEGURIDAD CIUDADANA | C32: CALEA-CALLE CALFIA # 412 centro civico | D32: MINISPLIT | E32: 2 | F32: 2M6WO524961000CA | G32: FRANE | H32: INV-266309 | I32: 3B1405000094 | J32: =IF(D32="minisplit",1,0) -> 1 | K32: =IF(D32="remota",1,0) -> 0 | L32: =IF(D32="paquete",1,0) -> 0 | M32: =IF(D32="ventana",1,0) -> 0
A33: MEXICALI | B33: FUERZA ESTATAL DE SEGURIDAD CIUDADANA | C33: CALLE CALFIA # 412 centro civico | D33: MINISPLIT | E33: 2 | H33: INV-266310 | J33: =IF(D33="minisplit",1,0) -> 1 | K33: =IF(D33="remota",1,0) -> 0 | L33: =IF(D33="paquete",1,0) -> 0 | M33: =IF(D33="ventana",1,0) -> 0
A34: MEXICALI | B34: FUERZA ESTATAL DE SEGURIDAD CIUDADANA | C34: CALLE CALFIA # 412 centro civico | D34: MINISPLIT | E34: 2 | H34: INV-266311 | J34: =IF(D34="minisplit",1,0) -> 1 | K34: =IF(D34="remota",1,0) -> 0 | L34: =IF(D34="paquete",1,0) -> 0 | M34: =IF(D34="ventana",1,0) -> 0
A35: MEXICALI | B35: FUERZA ESTATAL DE SEGURIDAD CIUDADANA | C35: CALLE CALFIA # 412 centro civico | D35: MINISPLIT | E35: 2 | H35: INV-266312 | J35: =IF(D35="minisplit",1,0) -> 1 | K35: =IF(D35="remota",1,0) -> 0 | L35: =IF(D35="paquete",1,0) -> 0 | M35: =IF(D35="ventana",1,0) -> 0
A36: MEXICALI | B36: FUERZA ESTATAL DE SEGURIDAD CIUDADANA | C36: CALLE CALFIA # 412 centro civico | D36: MINISPLIT | E36: 2 | H36: INV-266313 | J36: =IF(D36="minisplit",1,0) -> 1 | K36: =IF(D36="remota",1,0) -> 0 | L36: =IF(D36="paquete",1,0) -> 0 | M36: =IF(D36="ventana",1,0) -> 0
A37: MEXICALI | B37: FUERZA ESTATAL DE SEGURIDAD CIUDADANA | C37: CALLE CALFIA # 412 centro civico | D37: MINISPLIT | E37: 2 | H37: INV-286878 | J37: =IF(D37="minisplit",1,0) -> 1 | K37: =IF(D37="remota",1,0) -> 0 | L37: =IF(D37="paquete",1,0) -> 0 | M37: =IF(D37="ventana",1,0) -> 0
A38: MEXICALI | B38: FUERZA ESTATAL DE SEGURIDAD CIUDADANA | C38: CELDAS-CALLE CALFIA # 412 centro civico | D38: MINISPLIT | E38: 2 | G38: JAPANDO | H38: INV-286879 | J38: =IF(D38="minisplit",1,0) -> 1 | K38: =IF(D38="remota",1,0) -> 0 | L38: =IF(D38="paquete",1,0) -> 0 | M38: =IF(D38="ventana",1,0) -> 0
A39: MEXICALI | B39: FUERZA ESTATAL DE SEGURIDAD CIUDADANA | C39: CELDAS-CALLE CALFIA # 412 centro civico | D39: MINISPLIT | E39: 2 | G39: JAPANDO | H39: M1-134543 | J39: =IF(D39="minisplit",1,0) -> 1 | K39: =IF(D39="remota",1,0) -> 0 | L39: =IF(D39="paquete",1,0) -> 0 | M39: =IF(D39="ventana",1,0) -> 0
A40: MEXICALI | B40: FUERZA ESTATAL DE SEGURIDAD CIUDADANA | C40: CALEA-CALLE CALFIA # 412 centro civico | D40: MINISPLIT | E40: 2 | G40: frico | H40: INV-424103 | I40: S-2021-7011d040137 | J40: =IF(D40="minisplit",1,0) -> 1 | K40: =IF(D40="remota",1,0) -> 0 | L40: =IF(D40="paquete",1,0) -> 0 | M40: =IF(D40="ventana",1,0) -> 0
A41: MEXICALI | B41: FUERZA ESTATAL DE SEGURIDAD CIUDADANA | C41: RECEPCION-CALLE CALFIA # 412 centro civico | D41: MINISPLIT | E41: 2 | F41: MAS12C2AGO | G41: MIDEA | H41: INV-428123 | J41: =IF(D41="minisplit",1,0) -> 1 | K41: =IF(D41="remota",1,0) -> 0 | L41: =IF(D41="paquete",1,0) -> 0 | M41: =IF(D41="ventana",1,0) -> 0
A42: MEXICALI | B42: FUERZA ESTATAL DE SEGURIDAD CIUDADANA | C42: INFORMATICA-CALLE CALFIA # 412 centro civico | D42: MINISPLIT | E42: 2 | F42: SMECI821X | G42: MIRAGE | H42: INV-266316 | I42: SMEC182X8041003030 | J42: =IF(D42="minisplit",1,0) -> 1 | K42: =IF(D42="remota",1,0) -> 0 | L42: =IF(D42="paquete",1,0) -> 0 | M42: =IF(D42="ventana",1,0) -> 0
A43: MEXICALI | B43: FUERZA ESTATAL DE SEGURIDAD CIUDADANA | C43: EN EL TECHO DE LAAS OFICINA CALLE CALFIA # 412 centro civico | D43: MINISPLIT | E43: 5 | H43: INV-266305 | J43: =IF(D43="minisplit",1,0) -> 1 | K43: =IF(D43="remota",1,0) -> 0 | L43: =IF(D43="paquete",1,0) -> 0 | M43: =IF(D43="ventana",1,0) -> 0
A44: MEXICALI | B44: FUERZA ESTATAL DE SEGURIDAD CIUDADANA | C44: EN EL TECHO DE LAAS OFICINA CALLE CALFIA # 412 centro civico | D44: MINISPLIT | E44: 5 | H44: INV-266306 | J44: =IF(D44="minisplit",1,0) -> 1 | K44: =IF(D44="remota",1,0) -> 0 | L44: =IF(D44="paquete",1,0) -> 0 | M44: =IF(D44="ventana",1,0) -> 0
A45: MEXICALI | B45: FUERZA ESTATAL DE SEGURIDAD CIUDADANA | C45: EN EL TECHO DE LAAS OFICINA CALLE CALFIA # 412 centro civico | D45: MINISPLIT | E45: 5 | H45: INV-266307 | J45: =IF(D45="minisplit",1,0) -> 1 | K45: =IF(D45="remota",1,0) -> 0 | L45: =IF(D45="paquete",1,0) -> 0 | M45: =IF(D45="ventana",1,0) -> 0
A46: MEXICALI | B46: FUERZA ESTATAL DE SEGURIDAD CIUDADANA | C46: EN EL TECHO DE LAAS OFICINA CALLE CALFIA # 412 centro civico | D46: MINISPLIT | E46: 5 | H46: INV-266312 | J46: =IF(D46="minisplit",1,0) -> 1 | K46: =IF(D46="remota",1,0) -> 0 | L46: =IF(D46="paquete",1,0) -> 0 | M46: =IF(D46="ventana",1,0) -> 0
A47: MEXICALI | B47: FUERZA ESTATAL DE SEGURIDAD CIUDADANA | C47: EN EL TECHO DE LAAS OFICINA CALLE CALFIA # 412 centro civico | D47: MINISPLIT | E47: 5 | H47: INV-266313 | J47: =IF(D47="minisplit",1,0) -> 1 | K47: =IF(D47="remota",1,0) -> 0 | L47: =IF(D47="paquete",1,0) -> 0 | M47: =IF(D47="ventana",1,0) -> 0
A48: MEXICALI | B48: ADMINISTRACION SSC | C48: Av. De La República, Centro Cívico Plaza Fiesta Local 7B, departamento de registros | D48: MINISPLIT | E48: 2 | F48: FKESOJ242C | G48: Frikko | H48: INV-424104 | I48: S-2021-70-ID-04-0109 | J48: =IF(D48="minisplit",1,0) -> 1 | K48: =IF(D48="remota",1,0) -> 0 | L48: =IF(D48="paquete",1,0) -> 0 | M48: =IF(D48="ventana",1,0) -> 0
A49: MEXICALI | B49: ADMINISTRACION SSC | C49: Av. De La República, Centro Cívico Plaza Fiesta Local 7B,departamento de registros | D49: MINISPLIT | E49: 2 | F49: FKESOJ242C | G49: Frikko | H49: INV-424105 | I49: S-2021-70-ID-04-0115 | J49: =IF(D49="minisplit",1,0) -> 1 | K49: =IF(D49="remota",1,0) -> 0 | L49: =IF(D49="paquete",1,0) -> 0 | M49: =IF(D49="ventana",1,0) -> 0
A50: MEXICALI | B50: ADMINISTRACION SSC | C50: Av. de los Héroes y calle de la Libertad #399, Centro Cívico - recepcion planta baja, grabacion de voz. | D50: REMOTA | E50: 4 | F50: RHSAHM2417JA | G50: RHEEM | I50: M090701193 | J50: =IF(D50="minisplit",1,0) -> 0 | K50: =IF(D50="remota",1,0) -> 1 | L50: =IF(D50="paquete",1,0) -> 0 | M50: =IF(D50="ventana",1,0) -> 0
A51: ENSENADA | B51: FUERZA ESTATAL DE SEGURIDAD CIUDADANA | C51: BLVD SERTUCHE S/N COL PRADERAS DEL CIPRES CP.22785 | D51: MINISPLIT | E51: 2 | J51: =IF(D51="minisplit",1,0) -> 1 | K51: =IF(D51="remota",1,0) -> 0 | L51: =IF(D51="paquete",1,0) -> 0 | M51: =IF(D51="ventana",1,0) -> 0
A52: ENSENADA | B52: FUERZA ESTATAL DE SEGURIDAD CIUDADANA | C52: BLVD SERTUCHE S/N COL PRADERAS DEL CIPRES CP.22786 | D52: MINISPLIT | E52: 2 | J52: =IF(D52="minisplit",1,0) -> 1 | K52: =IF(D52="remota",1,0) -> 0 | L52: =IF(D52="paquete",1,0) -> 0 | M52: =IF(D52="ventana",1,0) -> 0
A53: ENSENADA | B53: FUERZA ESTATAL DE SEGURIDAD CIUDADANA | C53: BLVD SERTUCHE S/N COL PRADERAS DEL CIPRES CP.22787 | D53: MINISPLIT | E53: 2 | J53: =IF(D53="minisplit",1,0) -> 1 | K53: =IF(D53="remota",1,0) -> 0 | L53: =IF(D53="paquete",1,0) -> 0 | M53: =IF(D53="ventana",1,0) -> 0
A54: ENSENADA | B54: FUERZA ESTATAL DE SEGURIDAD CIUDADANA | C54: BLVD SERTUCHE S/N COL PRADERAS DEL CIPRES CP.22788 | D54: MINISPLIT | E54: 2 | J54: =IF(D54="minisplit",1,0) -> 1 | K54: =IF(D54="remota",1,0) -> 0 | L54: =IF(D54="paquete",1,0) -> 0 | M54: =IF(D54="ventana",1,0) -> 0
A55: ENSENADA | B55: FUERZA ESTATAL DE SEGURIDAD CIUDADANA | C55: BLVD SERTUCHE S/N COL PRADERAS DEL CIPRES CP.22789 | D55: MINISPLIT | E55: 2 | J55: =IF(D55="minisplit",1,0) -> 1 | K55: =IF(D55="remota",1,0) -> 0 | L55: =IF(D55="paquete",1,0) -> 0 | M55: =IF(D55="ventana",1,0) -> 0
A56: ENSENADA | B56: FUERZA ESTATAL DE SEGURIDAD CIUDADANA | C56: BLVD SERTUCHE S/N COL PRADERAS DEL CIPRES CP.22790 | D56: MINISPLIT | E56: 2 | J56: =IF(D56="minisplit",1,0) -> 1 | K56: =IF(D56="remota",1,0) -> 0 | L56: =IF(D56="paquete",1,0) -> 0 | M56: =IF(D56="ventana",1,0) -> 0
A57: ENSENADA | B57: FUERZA ESTATAL DE SEGURIDAD CIUDADANA | C57: BLVD SERTUCHE S/N COL PRADERAS DEL CIPRES CP.22791 | D57: MINISPLIT | E57: 2 | J57: =IF(D57="minisplit",1,0) -> 1 | K57: =IF(D57="remota",1,0) -> 0 | L57: =IF(D57="paquete",1,0) -> 0 | M57: =IF(D57="ventana",1,0) -> 0
A58: ENSENADA | B58: FUERZA ESTATAL DE SEGURIDAD CIUDADANA | C58: BLVD SERTUCHE S/N COL PRADERAS DEL CIPRES CP.22792 | D58: PAQUETE | E58: 5 | J58: =IF(D58="minisplit",1,0) -> 0 | K58: =IF(D58="remota",1,0) -> 0 | L58: =IF(D58="paquete",1,0) -> 1 | M58: =IF(D58="ventana",1,0) -> 0
A60: TIPO DE EQUIPO
A61: MINISPLIT | E61: =+COUNTA(A3:A58) -> 56 | F61: EQUIPOS | J61: =SUBTOTAL(109,J3:J58) -> 54 | K61: =SUBTOTAL(109,K3:K58) -> 1 | L61: =SUBTOTAL(109,L3:L58) -> 1 | M61: =SUBTOTAL(109,M3:M58) -> 0
A62: TIPO DIVIDIDO | E62: =+SUM(E3:E58) -> 128.5 | F62: TONELADAS
A63: PAQUETE | I63: Total | J63: =SUM(J61:M61) -> 56
A64: REMOTA PRESICIÓN
A65: VENTANA

Sheet SIDURT
A2: MUNICIPIO | B2: UNIDAD ADMINISTRATIVA | C2: DIRECCIÓN-UBICACIÓN | D2: TIPO DE EQUIPO | E2: CAP.TONELADAS | F2: MODELO | G2: MARCA | H2: INVENTARIO | I2: NO. DE SERIE | J2: CAP.TON. REPORTADAS | K2: Minisplit | L2: Remota | M2: Paquete | N2: Ventana
A3: MEXICALI | B3: DELEGACIÓN | C3: CENTRO DE GOBIERNO CARRETERA TRANSPENINSULAR ENSENADA-LA PAZ No. 6500 EX-EJIDO CHAPULTEPEC C.P. 22785, ENSENADA, B.C. | D3: PAQUETE | E3: 5 | F3: MILLER MODELO NORDINE DS5BD-060KA | G3: MILLER | H3: E3-006464 | J3: 5 TONELADAS | K3: =IF(D3="minisplit",1,0) -> 0 | L3: =IF(D3="remota",1,0) -> 0 | M3: =IF(D3="paquete",1,0) -> 1 | N3: =IF(D3="ventana",1,0) -> 0
A4: MEXICALI | B4: DELEGACIÓN | C4: CENTRO DE GOBIERNO CARRETERA TRANSPENINSULAR ENSENADA-LA PAZ No. 6500 EX-EJIDO CHAPULTEPEC C.P. 22785, ENSENADA, B.C. | D4: PAQUETE | E4: 5 | F4: MILLER MODELO NORDINE DS5BD-060KA | G4: MILLER | H4: E3-006465 | J4: 5 TONELADAS | K4: =IF(D4="minisplit",1,0) -> 0 | L4: =IF(D4="remota",1,0) -> 0 | M4: =IF(D4="paquete",1,0) -> 1 | N4: =IF(D4="ventana",1,0) -> 0
A5: MEXICALI | B5: DELEGACIÓN | C5: CALLE PADRE EUSEBIO KINO# 1178,FRACC. EL DESCANSO, C.P 21478, TECATE, B.C. | D5: PAQUETE | E5: 5 | J5: 5 TONELADAS | K5: =IF(D5="minisplit",1,0) -> 0 | L5: =IF(D5="remota",1,0) -> 0 | M5: =IF(D5="paquete",1,0) -> 1 | N5: =IF(D5="ventana",1,0) -> 0
A6: MEXICALI | B6: DELEGACIÓN | C6: CALLE PADRE EUSEBIO KINO# 1178,FRACC. EL DESCANSO, C.P 21478, TECATE, B.C. | D6: PAQUETE | E6: 5 | J6: 5 TONELADAS | K6: =IF(D6="minisplit",1,0) -> 0 | L6: =IF(D6="remota",1,0) -> 0 | M6: =IF(D6="paquete",1,0) -> 1 | N6: =IF(D6="ventana",1,0) -> 0
A7: MEXICALI | B7: DELEGACIÓN | C7: CALLE PADRE EUSEBIO KINO# 1178,FRACC. EL DESCANSO, C.P 21478, TECATE, B.C. | D7: REMOTA | E7: 5 | G7: TRANE | H7: INV-423881 | I7: 21451G7P3V | J7: 5 TONELADAS | K7: =IF(D7="minisplit",1,0) -> 0 | L7: =IF(D7="remota",1,0) -> 1 | M7: =IF(D7="paquete",1,0) -> 0 | N7: =IF(D7="ventana",1,0) -> 0
A8: MEXICALI | B8: DELEGACIÓN | C8: ESQUINA, CARRETERA LIBRE, TIJUANA-TECATE, BLVD. NOGALES KM. 26.5, EL FLORIDO, 22253 TIJUANA, B.C. | D8: PAQUETE | E8: 3 | J8: 2X30A, 220V / 3 TON | K8: =IF(D8="minisplit",1,0) -> 0 | L8: =IF(D8="remota",1,0) -> 0 | M8: =IF(D8="paquete",1,0) -> 1 | N8: =IF(D8="ventana",1,0) -> 0
A9: MEXICALI | B9: DELEGACIÓN | C9: ESQUINA, CARRETERA LIBRE, TIJUANA-TECATE, BLVD. NOGALES KM. 26.5, EL FLORIDO, 22253 TIJUANA, B.C. | D9: PAQUETE | E9: 3 | J9: 2X30A, 220V / 3 TON | K9: =IF(D9="minisplit",1,0) -> 0 | L9: =IF(D9="remota",1,0) -> 0 | M9: =IF(D9="paquete",1,0) -> 1 | N9: =IF(D9="ventana",1,0) -> 0
A10: MEXICALI | B10: DELEGACIÓN | C10: ESQUINA, CARRETERA LIBRE, TIJUANA-TECATE, BLVD. NOGALES KM. 26.5, EL FLORIDO, 22253 TIJUANA, B.C. | D10: PAQUETE | E10: 3 | J10: 2X30A, 220V / 3 TON | K10: =IF(D10="minisplit",1,0) -> 0 | L10: =IF(D10="remota",1,0) -> 0 | M10: =IF(D10="paquete",1,0) -> 1 | N10: =IF(D10="ventana",1,0) -> 0
A11: MEXICALI | B11: DELEGACIÓN | C11: ESQUINA, CARRETERA LIBRE, TIJUANA-TECATE, BLVD. NOGALES KM. 26.5, EL FLORIDO, 22253 TIJUANA, B.C. | D11: PAQUETE | E11: 3 | J11: 2X30A, 220V / 3 TON | K11: =IF(D11="minisplit",1,0) -> 0 | L11: =IF(D11="remota",1,0) -> 0 | M11: =IF(D11="paquete",1,0) -> 1 | N11: =IF(D11="ventana",1,0) -> 0
A12: MEXICALI | B12: DELEGACIÓN | C12: ESQUINA, CARRETERA LIBRE, TIJUANA-TECATE, BLVD. NOGALES KM. 26.5, EL FLORIDO, 22253 TIJUANA, B.C. | D12: PAQUETE | E12: 5 | J12: 2X60A, 220V/ 5TON | K12: =IF(D12="minisplit",1,0) -> 0 | L12: =IF(D12="remota",1,0) -> 0 | M12: =IF(D12="paquete",1,0) -> 1 | N12: =IF(D12="ventana",1,0) -> 0
A13: MEXICALI | B13: DELEGACIÓN | C13: ESQUINA, CARRETERA LIBRE, TIJUANA-TECATE, BLVD. NOGALES KM. 26.5, EL FLORIDO, 22253 TIJUANA, B.C. | D13: PAQUETE | E13: 4 | J13: 2X60A, 220V/ 4TON | K13: =IF(D13="minisplit",1,0) -> 0 | L13: =IF(D13="remota",1,0) -> 0 | M13: =IF(D13="paquete",1,0) -> 1 | N13: =IF(D13="ventana",1,0) -> 0
A14: MEXICALI | B14: DELEGACIÓN | C14: ESQUINA, CARRETERA LIBRE, TIJUANA-TECATE, BLVD. NOGALES KM. 26.5, EL FLORIDO, 22253 TIJUANA, B.C. | D14: PAQUETE | E14: 5 | J14: 2X60A, 220V/ 5TON | K14: =IF(D14="minisplit",1,0) -> 0 | L14: =IF(D14="remota",1,0) -> 0 | M14: =IF(D14="paquete",1,0) -> 1 | N14: =IF(D14="ventana",1,0) -> 0
A15: MEXICALI | B15: DELEGACIÓN | C15: ESQUINA, CARRETERA LIBRE, TIJUANA-TECATE, BLVD. NOGALES KM. 26.5, EL FLORIDO, 22253 TIJUANA, B.C. | D15: PAQUETE | E15: 4 | J15: 2X60A, 220V/ 4TON | K15: =IF(D15="minisplit",1,0) -> 0 | L15: =IF(D15="remota",1,0) -> 0 | M15: =IF(D15="paquete",1,0) -> 1 | N15: =IF(D15="ventana",1,0) -> 0
A16: MEXICALI | B16: DELEGACIÓN | C16: ESQUINA, CARRETERA LIBRE, TIJUANA-TECATE, BLVD. NOGALES KM. 26.5, EL FLORIDO, 22253 TIJUANA, B.C. | D16: MINISPLIT | E16: 2 | J16: 26000 BTU/H, 2000W, 9.6A, 220V | K16: =IF(D16="minisplit",1,0) -> 1 | L16: =IF(D16="remota",1,0) -> 0 | M16: =IF(D16="paquete",1,0) -> 0 | N16: =IF(D16="ventana",1,0) -> 0
A17: MEXICALI | B17: DELEGACIÓN | C17: ESQUINA, CARRETERA LIBRE, TIJUANA-TECATE, BLVD. NOGALES KM. 26.5, EL FLORIDO, 22253 TIJUANA, B.C. | D17: MINISPLIT | E17: 2 | J17: 26001 BTU/H, 2000W, 9.6A, 220V | K17: =IF(D17="minisplit",1,0) -> 1 | L17: =IF(D17="remota",1,0) -> 0 | M17: =IF(D17="paquete",1,0) -> 0 | N17: =IF(D17="ventana",1,0) -> 0
A18: MEXICALI | B18: CONTRATACIÓN Y COSTOS | C18: CALLE G 510 ESQUINA CON CALLEJÓN INGANACIO ZARAGOZA SEGUNDA SECCION | D18: PAQUETE | E18: 5 | G18: CARRIER | J18: 5 TONELADAS | K18: =IF(D18="minisplit",1,0) -> 0 | L18: =IF(D18="remota",1,0) -> 0 | M18: =IF(D18="paquete",1,0) -> 1 | N18: =IF(D18="ventana",1,0) -> 0
A19: MEXICALI | B19: CONTRATACIÓN Y COSTOS | C19: CALLE G 510 ESQUINA CON CALLEJÓN INGANACIO ZARAGOZA SEGUNDA SECCION | D19: PAQUETE | E19: 5 | J19: 5 TONELADAS | K19: =IF(D19="minisplit",1,0) -> 0 | L19: =IF(D19="remota",1,0) -> 0 | M19: =IF(D19="paquete",1,0) -> 1 | N19: =IF(D19="ventana",1,0) -> 0
A20: MEXICALI | B20: DEPARTAMENTO DE OBRAS DE INFRAESTRUCTURA | C20: IGNACIO ZARAGOZA 1599 ESQUINA CON CALLE H | D20: PAQUETE | E20: 5 | F20: BPCH0361BA | G20: M0301105P | I20: 960337936 | J20: 5 TONELADAS | K20: =IF(D20="minisplit",1,0) -> 0 | L20: =IF(D20="remota",1,0) -> 0 | M20: =IF(D20="paquete",1,0) -> 1 | N20: =IF(D20="ventana",1,0) -> 0
A21: MEXICALI | B21: DEPARTAMENTO DE OBRAS DE INFRAESTRUCTURA | C21: IGNACIO ZARAGOZA 1599 ESQUINA CON CALLE H | D21: PAQUETE | E21: 5 | F21: MTZH6013XXB0 | G21: TRANE | H21: INV-423584 | I21: SFFF0WDMALSF036000111 | J21: 5 TONELADAS | K21: =IF(D21="minisplit",1,0) -> 0 | L21: =IF(D21="remota",1,0) -> 0 | M21: =IF(D21="paquete",1,0) -> 1 | N21: =IF(D21="ventana",1,0) -> 0
A22: MEXICALI | B22: DEPARTAMENTO DE OBRAS DE INFRAESTRUCTURA | C22: IGNACIO ZARAGOZA 1599 ESQUINA CON CALLE H | D22: PAQUETE | E22: 5 | G22: TRANE | H22: INV-423750 | I22: 2132CH096X | J22: 5 TONELADAS | K22: =IF(D22="minisplit",1,0) -> 0 | L22: =IF(D22="remota",1,0) -> 0 | M22: =IF(D22="paquete",1,0) -> 1 | N22: =IF(D22="ventana",1,0) -> 0
A23: MEXICALI | B23: DEPARTAMENTO DE OBRAS DE INFRAESTRUCTURA | C23: IGNACIO ZARAGOZA 1599 ESQUINA CON CALLE H | D23: PAQUETE | E23: 5 | J23: 5 TONELADAS | K23: =IF(D23="minisplit",1,0) -> 0 | L23: =IF(D23="remota",1,0) -> 0 | M23: =IF(D23="paquete",1,0) -> 1 | N23: =IF(D23="ventana",1,0) -> 0
A24: MEXICALI | B24: DEPARTAMENTO DE OBRAS DE INFRAESTRUCTURA | C24: IGNACIO ZARAGOZA 1599 ESQUINA CON CALLE H | D24: MINISPLIT | E24: 2 | J24: 2 TONELADAS | K24: =IF(D24="minisplit",1,0) -> 1 | L24: =IF(D24="remota",1,0) -> 0 | M24: =IF(D24="paquete",1,0) -> 0 | N24: =IF(D24="ventana",1,0) -> 0
A25: MEXICALI | B25: DEPARTAMENTO DE OBRAS DE INFRAESTRUCTURA | C25: IGNACIO ZARAGOZA 1599 ESQUINA CON CALLE H | D25: MINISPLIT | E25: 2 | G25: FRIGIDAIRE | J25: 2 TONELADAS | K25: =IF(D25="minisplit",1,0) -> 1 | L25: =IF(D25="remota",1,0) -> 0 | M25: =IF(D25="paquete",1,0) -> 0 | N25: =IF(D25="ventana",1,0) -> 0
A26: MEXICALI | B26: DEPARTAMENTO DE OBRAS DE INFRAESTRUCTURA | C26: IGNACIO ZARAGOZA 1599 ESQUINA CON CALLE H | D26: MINISPLIT | E26: 2 | G26: LENNOX | J26: 2 TONELADAS | K26: =IF(D26="minisplit",1,0) -> 1 | L26: =IF(D26="remota",1,0) -> 0 | M26: =IF(D26="paquete",1,0) -> 0 | N26: =IF(D26="ventana",1,0) -> 0
A27: MEXICALI | B27: DEPARTAMENTO DE OBRAS DE INFRAESTRUCTURA | C27: IGNACIO ZARAGOZA 1599 ESQUINA CON CALLE H | D27: MINISPLIT | E27: 1 | G27: FRIGIDAIRE | J27: 1 TONELADA | K27: =IF(D27="minisplit",1,0) -> 1 | L27: =IF(D27="remota",1,0) -> 0 | M27: =IF(D27="paquete",1,0) -> 0 | N27: =IF(D27="ventana",1,0) -> 0
A28: MEXICALI | B28: DEPARTAMENTO DE OBRAS DE INFRAESTRUCTURA | C28: IGNACIO ZARAGOZA 1599 ESQUINA CON CALLE H | D28: MINISPLIT | E28: 2 | G28: RHEEM | J28: 2 TONELADAS | K28: =IF(D28="minisplit",1,0) -> 1 | L28: =IF(D28="remota",1,0) -> 0 | M28: =IF(D28="paquete",1,0) -> 0 | N28: =IF(D28="ventana",1,0) -> 0
A29: MEXICALI | B29: DEPARTAMENTO DE OBRAS DE INFRAESTRUCTURA | C29: IGNACIO ZARAGOZA 1599 ESQUINA CON CALLE H | D29: MINISPLIT | E29: 2 | G29: TRANE | H29: INV-261700 | I29: 3B14050001122 | J29: 2 TONELADAS | K29: =IF(D29="minisplit",1,0) -> 1 | L29: =IF(D29="remota",1,0) -> 0 | M29: =IF(D29="paquete",1,0) -> 0 | N29: =IF(D29="ventana",1,0) -> 0
A30: MEXICALI | B30: DEPARTAMENTO DE OBRAS DE INFRAESTRUCTURA | C30: IGNACIO ZARAGOZA 1599 ESQUINA CON CALLE H | D30: MINISPLIT | E30: 1 | G30: LENNOX | J30: 1 TONELADA | K30: =IF(D30="minisplit",1,0) -> 1 | L30: =IF(D30="remota",1,0) -> 0 | M30: =IF(D30="paquete",1,0) -> 0 | N30: =IF(D30="ventana",1,0) -> 0
A31: MEXICALI | B31: DEPARTAMENTO DE OBRAS DE INFRAESTRUCTURA | C31: IGNACIO ZARAGOZA 1599 ESQUINA CON CALLE H | D31: MINISPLIT | E31: 2 | G31: LENNOX | J31: 2 TONELADAS | K31: =IF(D31="minisplit",1,0) -> 1 | L31: =IF(D31="remota",1,0) -> 0 | M31: =IF(D31="paquete",1,0) -> 0 | N31: =IF(D31="ventana",1,0) -> 0
A32: MEXICALI | B32: DEPARTAMENTO DE OBRAS DE INFRAESTRUCTURA | C32: IGNACIO ZARAGOZA 1599 ESQUINA CON CALLE H | D32: PAQUETE | E32: 5 | H32: M1-093851 | J32: 5 TONELADAS | K32: =IF(D32="minisplit",1,0) -> 0 | L32: =IF(D32="remota",1,0) -> 0 | M32: =IF(D32="paquete",1,0) -> 1 | N32: =IF(D32="ventana",1,0) -> 0
A33: MEXICALI | B33: SIDURT 4TO PISO | C33: INDEPENDENCIA 994 CENTRO CIVICO | D33: MINISPLIT | E33: 2 | F33: CLF261E | G33: MIRAGE | H33: INV-423650 | I33: CLF261E7012205295 | J33: 2 TONELADAS | K33: =IF(D33="minisplit",1,0) -> 1 | L33: =IF(D33="remota",1,0) -> 0 | M33: =IF(D33="paquete",1,0) -> 0 | N33: =IF(D33="ventana",1,0) -> 0
A34: MEXICALI | B34: SIDURT 4TO PISO | C34: INDEPENDENCIA 994 CENTRO CIVICO | D34: PAQUETE | E34: 10 | G34: TRANE | H34: M3-013887 | J34: 10 TONELADAS | K34: =IF(D34="minisplit",1,0) -> 0 | L34: =IF(D34="remota",1,0) -> 0 | M34: =IF(D34="paquete",1,0) -> 1 | N34: =IF(D34="ventana",1,0) -> 0
A35: MEXICALI | B35: SIDURT 5TO PISO | C35: INDEPENDENCIA 994 CENTRO CIVICO | D35: MINISPLIT | E35: 2 | G35: JAPANDO | J35: 2 TONELADAS | K35: =IF(D35="minisplit",1,0) -> 1 | L35: =IF(D35="remota",1,0) -> 0 | M35: =IF(D35="paquete",1,0) -> 0 | N35: =IF(D35="ventana",1,0) -> 0
A36: MEXICALI | B36: SIDURT 5TO PISO | C36: INDEPENDENCIA 994 CENTRO CIVICO | D36: MINISPLIT | E36: 2 | G36: MIRAGE | H36: INV-249001 | J36: 2 TONELADAS | K36: =IF(D36="minisplit",1,0) -> 1 | L36: =IF(D36="remota",1,0) -> 0 | M36: =IF(D36="paquete",1,0) -> 0 | N36: =IF(D36="ventana",1,0) -> 0
A37: MEXICALI | B37: SIDURT 5TO PISO | C37: INDEPENDENCIA 994 CENTRO CIVICO | D37: MINISPLIT | E37: 2 | G37: MIRAGE | H37: INV-423389 | I37: CLF261E7012204399 | J37: 2 TONELADAS | K37: =IF(D37="minisplit",1,0) -> 1 | L37: =IF(D37="remota",1,0) -> 0 | M37: =IF(D37="paquete",1,0) -> 0 | N37: =IF(D37="ventana",1,0) -> 0
A38: MEXICALI | B38: SIDURT 5TO PISO | C38: INDEPENDENCIA 994 CENTRO CIVICO | D38: REMOTA | E38: 7 | G38: TRANE | J38: 7 TONELADAS | K38: =IF(D38="minisplit",1,0) -> 0 | L38: =IF(D38="remota",1,0) -> 1 | M38: =IF(D38="paquete",1,0) -> 0 | N38: =IF(D38="ventana",1,0) -> 0
A39: MEXICALI | B39: SIDURT 5TO PISO | C39: INDEPENDENCIA 994 CENTRO CIVICO | D39: PAQUETE | E39: 5 | F39: TSC060G4 | G39: TRANE | I39: 212311858L | J39: 5 TONELADAS | K39: =IF(D39="minisplit",1,0) -> 0 | L39: =IF(D39="remota",1,0) -> 0 | M39: =IF(D39="paquete",1,0) -> 1 | N39: =IF(D39="ventana",1,0) -> 0
A40: MEXICALI | B40: SIDURT 5TO PISO | C40: INDEPENDENCIA 994 CENTRO CIVICO | D40: PAQUETE | E40: 5 | F40: PGF354100L00 | H40: INV-288201 | I40: 6082841852 | J40: 5 TONELADAS | K40: =IF(D40="minisplit",1,0) -> 0 | L40: =IF(D40="remota",1,0) -> 0 | M40: =IF(D40="paquete",1,0) -> 1 | N40: =IF(D40="ventana",1,0) -> 0
A41: MEXICALI | B41: SIDURT 5TO PISO | C41: INDEPENDENCIA 994 CENTRO CIVICO | D41: PAQUETE | E41: 3 | F41: RSPM-A036CK | G41: RHEEM | I41: 7602F180807030 | J41: 3 TONELADAS | K41: =IF(D41="minisplit",1,0) -> 0 | L41: =IF(D41="remota",1,0) -> 0 | M41: =IF(D41="paquete",1,0) -> 1 | N41: =IF(D41="ventana",1,0) -> 0
A42: MEXICALI | B42: SIDURT 5TO PISO | C42: INDEPENDENCIA 994 CENTRO CIVICO | D42: PAQUETE | E42: 3 | F42: RSPM-A036CK | G42: RHEEM | I42: 7602F180807029 | J42: 3 TONELADAS | K42: =IF(D42="minisplit",1,0) -> 0 | L42: =IF(D42="remota",1,0) -> 0 | M42: =IF(D42="paquete",1,0) -> 1 | N42: =IF(D42="ventana",1,0) -> 0
A43: MEXICALI | B43: SIDURT 5TO PISO | C43: INDEPENDENCIA 994 CENTRO CIVICO | D43: PAQUETE | E43: 5 | F43: PGF354100L00 | H43: INV-288200 | I43: 6082841850 | J43: 5 TONELADAS | K43: =IF(D43="minisplit",1,0) -> 0 | L43: =IF(D43="remota",1,0) -> 0 | M43: =IF(D43="paquete",1,0) -> 1 | N43: =IF(D43="ventana",1,0) -> 0
A44: MEXICALI | B44: SIDURT 5TO PISO | C44: INDEPENDENCIA 994 CENTRO CIVICO | D44: PAQUETE | E44: 5 | F44: PGF354100L01 | H44: INV-288199 | I44: 6081840112 | J44: 5 TONELADAS | K44: =IF(D44="minisplit",1,0) -> 0 | L44: =IF(D44="remota",1,0) -> 0 | M44: =IF(D44="paquete",1,0) -> 1 | N44: =IF(D44="ventana",1,0) -> 0
A45: MEXICALI | B45: SIDURT 5TO PISO | C45: INDEPENDENCIA 994 CENTRO CIVICO | D45: REMOTA | E45: 15 | J45: 15 TONELADAS | K45: =IF(D45="minisplit",1,0) -> 0 | L45: =IF(D45="remota",1,0) -> 1 | M45: =IF(D45="paquete",1,0) -> 0 | N45: =IF(D45="ventana",1,0) -> 0
A46: MEXICALI | B46: DPTO. DE PLANEACIÓN DE INFRAESTRUCTURA | C46: CALZ. INDEPENDENCIA ESQUINA CON CALLE J COLONIA CALAFIA | D46: MINISPLIT | E46: 1 | H46: INV-248989 | I46: 3A62040001089 | J46: 1 TONELADA | K46: =IF(D46="minisplit",1,0) -> 1 | L46: =IF(D46="remota",1,0) -> 0 | M46: =IF(D46="paquete",1,0) -> 0 | N46: =IF(D46="ventana",1,0) -> 0
E49: =+COUNTA(A3:A46) -> 44 | F49: EQUIPOS | K49: =SUBTOTAL(109,K3:K46) -> 15 | L49: =SUBTOTAL(109,L3:L46) -> 3 | M49: =SUBTOTAL(109,M3:M46) -> 26 | N49: =SUBTOTAL(109,N3:N46) -> 0
E50: =+SUM(E3:E46) -> 175 | F50: TONELADAS
J51: Total | K51: =SUM(K49:N49) -> 44

Sheet SECTURE
A1: MUNICIPIO | B1: UNIDAD ADMINISTRATIVA | C1: DIRECCIÓN-UBICACIÓN | D1: TIPO DE EQUIPO | E1: CAP.TONELADAS | F1: MODELO | G1: MARCA | H1: INVENTARIO | I1: NO. DE SERIE | J1: CAP.TON. REPORTADAS | K1: Minisplit | L1: Remota | M1: Paquete | N1: Ventana
A2: MEXICALI | B2: DELEGACION MEXICALI | C2: BOULEVARD BÉNITO JUÁREZ Y L. MONTEJANO 1, ESTEBAN CANTÚ. | D2: PAQUETE | E2: 5 | F2: B AIR | G2: AMANA | H2: INV-310786 | I2: APC1460H41 | J2: 5 TONELADAS | K2: =IF(D2="minisplit",1,0) -> 0 | L2: =IF(D2="remota",1,0) -> 0 | M2: =IF(D2="paquete",1,0) -> 1 | N2: =IF(D2="ventana",1,0) -> 0
A3: MEXICALI | B3: DELEGACION MEXICALI | C3: BOULEVARD BÉNITO JUÁREZ Y L. MONTEJANO 1, ESTEBAN CANTÚ. | D3: PAQUETE | E3: 5 | G3: CARRIER | H3: INV-259097 | I3: 2514C95579 | J3: 5 TONELADAS | K3: =IF(D3="minisplit",1,0) -> 0 | L3: =IF(D3="remota",1,0) -> 0 | M3: =IF(D3="paquete",1,0) -> 1 | N3: =IF(D3="ventana",1,0) -> 0
A4: MEXICALI | B4: DELEGACION MEXICALI | C4: BOULEVARD BÉNITO JUÁREZ Y L. MONTEJANO 1, ESTEBAN CANTÚ. | D4: PAQUETE | E4: 4 | G4: CARRIER | H4: INV-259096 | I4: 2414C96741 | J4: 4 TONELADAS | K4: =IF(D4="minisplit",1,0) -> 0 | L4: =IF(D4="remota",1,0) -> 0 | M4: =IF(D4="paquete",1,0) -> 1 | N4: =IF(D4="ventana",1,0) -> 0
A5: MEXICALI | B5: DELEGACION MEXICALI | C5: BOULEVARD BÉNITO JUÁREZ Y L. MONTEJANO 1, ESTEBAN CANTÚ. | D5: MINISPLIT | E5: 3 | G5: YORK | H5: M3-011553 | I5: 0305-19525 | J5: 3 TONELADAS | K5: =IF(D5="minisplit",1,0) -> 1 | L5: =IF(D5="remota",1,0) -> 0 | M5: =IF(D5="paquete",1,0) -> 0 | N5: =IF(D5="ventana",1,0) -> 0
A6: ENSENADA | B6: DELEGACION ENSENADA | C6: LÁZARO CÁRDENAS 1477, CENTRO, BAHIA 22800 | D6: MINISPLIT | E6: 2.5 | H6: INV-348422 | K6: =IF(D6="minisplit",1,0) -> 1 | L6: =IF(D6="remota",1,0) -> 0 | M6: =IF(D6="paquete",1,0) -> 0 | N6: =IF(D6="ventana",1,0) -> 0
A7: ENSENADA | B7: DELEGACION ENSENADA | C7: LÁZARO CÁRDENAS 1477, CENTRO, BAHIA 22800 | D7: MINISPLIT | E7: 2.5 | H7: INV-348423 | K7: =IF(D7="minisplit",1,0) -> 1 | L7: =IF(D7="remota",1,0) -> 0 | M7: =IF(D7="paquete",1,0) -> 0 | N7: =IF(D7="ventana",1,0) -> 0
A8: AEROPUERTO INTERNACIONAL DE SAN FELIPE | B8: COORDINACION ADMINISTRATIVA DEL AEROPUERTO DE SAN FELIPE | C8: CARR. AEROPUERTO KM 13, 21850 | D8: PAQUETE | E8: 5 | G8: YORK | H8: E3-005452 | I8: AOD740509 | J8: 5 TONELADAS | K8: =IF(D8="minisplit",1,0) -> 0 | L8: =IF(D8="remota",1,0) -> 0 | M8: =IF(D8="paquete",1,0) -> 1 | N8: =IF(D8="ventana",1,0) -> 0
A9: AEROPUERTO INTERNACIONAL DE SAN FELIPE | B9: COORDINACION ADMINISTRATIVA DEL AEROPUERTO DE SAN FELIPE | C9: CARR. AEROPUERTO KM 13, 21850 | D9: PAQUETE | E9: 5 | G9: YORK | H9: E3-005453 | I9: AOD740510 | J9: 5 TONELADAS | K9: =IF(D9="minisplit",1,0) -> 0 | L9: =IF(D9="remota",1,0) -> 0 | M9: =IF(D9="paquete",1,0) -> 1 | N9: =IF(D9="ventana",1,0) -> 0
A10: AEROPUERTO INTERNACIONAL DE SAN FELIPE | B10: COORDINACION ADMINISTRATIVA DEL AEROPUERTO DE SAN FELIPE | C10: CARR. AEROPUERTO KM 13, 21850 | D10: MINISPLIT | E10: 2 | H10: E3-005455 | I10: X9964080201311 | K10: =IF(D10="minisplit",1,0) -> 1 | L10: =IF(D10="remota",1,0) -> 0 | M10: =IF(D10="paquete",1,0) -> 0 | N10: =IF(D10="ventana",1,0) -> 0
A11: TECATE | B11: DELEGACION METROPOLITANA | C11: LIBERTAD 1305,PRIMERA, 21400. PARQUE MIGUEL HIDALGO | D11: MINISPLIT | E11: 1 | G11: FRIKKO | H11: INV-265692 | J11: 1 TONELADA | K11: =IF(D11="minisplit",1,0) -> 1 | L11: =IF(D11="remota",1,0) -> 0 | M11: =IF(D11="paquete",1,0) -> 0 | N11: =IF(D11="ventana",1,0) -> 0
A12: TECATE | B12: DELEGACION METROPOLITANA | C12: LIBERTAD 1305,PRIMERA, 21400. PARQUE MIGUEL HIDALGO | D12: MINISPLIT | E12: 1 | G12: FRIKKO | H12: INV-265691 | J12: 1 TONELADA | K12: =IF(D12="minisplit",1,0) -> 1 | L12: =IF(D12="remota",1,0) -> 0 | M12: =IF(D12="paquete",1,0) -> 0 | N12: =IF(D12="ventana",1,0) -> 0
E15: =+COUNTA(A2:A12) -> 11 | F15: EQUIPOS | J15: =SUBTOTAL(109,#REF!) -> #REF! | K15: =SUBTOTAL(109,K2:K12) -> 6 | L15: =SUBTOTAL(109,L2:L12) -> 0 | M15: =SUBTOTAL(109,M2:M12) -> 5 | N15: =SUBTOTAL(109,N2:N12) -> 0
E16: =+SUM(E2:E12) -> 36 | F16: TONELADAS
I17: Total | J17: =SUM(J15:M15) -> #REF! | K17: =SUM(K15:N15) -> 11

Sheet SECRETARÍA DEL CAMPO
A2: DEPENDENCIA | B2: MUNICIPIO | C2: UNIDAD ADMINISTRATIVA | D2: DIRECCIÓN-UBICACIÓN | E2: TIPO DE EQUIPO | F2: CAP.TONELADAS | G2: MODELO | H2: MARCA | I2: INVENTARIO | J2: NO. DE SERIE | K2: Minisplit | L2: Remota | M2: Paquete | N2: Ventana
A3: SECRETARIA DEL CAMPO | B3: MEXICALI | C3: DIRECCION DE ADMINISTRACION | D3: CARRETERA A SAN LUIS, EJIDO SINALOA | E3: MINISPLIT | F3: 1 | G3: BA121CMEA | H3: B.AIR | I3: ING-B280 | J3: D202055440413322151259 | K3: =IF(E3="minisplit",1,0) -> 1 | L3: =IF(E3="remota",1,0) -> 0 | M3: =IF(E3="paquete",1,0) -> 0 | N3: =IF(E3="ventana",1,0) -> 0
A4: SECRETARIA DEL CAMPO | B4: MEXICALI | C4: DIRECCION DE ADMINISTRACION | D4: CARRETERA A SAN LUIS, EJIDO SINALOA | E4: MINISPLIT | F4: 1 | G4: BA121CMEA | H4: B.AIR | I4: ING-B281 | J4: S/S | K4: =IF(E4="minisplit",1,0) -> 1 | L4: =IF(E4="remota",1,0) -> 0 | M4: =IF(E4="paquete",1,0) -> 0 | N4: =IF(E4="ventana",1,0) -> 0
A5: SECRETARIA DEL CAMPO | B5: MEXICALI | C5: DIRECCION DE ADMINISTRACION | D5: CARRETERA A SAN LUIS, EJIDO SINALOA | E5: MINISPLIT | F5: 1 | H5: CARRIER | I5: INV-426827 | J5: 340F681630223210170426 | K5: =IF(E5="minisplit",1,0) -> 1 | L5: =IF(E5="remota",1,0) -> 0 | M5: =IF(E5="paquete",1,0) -> 0 | N5: =IF(E5="ventana",1,0) -> 0
A6: SECRETARIA DEL CAMPO | B6: MEXICALI | C6: DIRECCION DE ADMINISTRACION | D6: CARRETERA A SAN LUIS, EJIDO SINALOA | E6: MINISPLIT | F6: 1 | H6: CARRIER | I6: INV-426826 | J6: 340F6815300223210170257 | K6: =IF(E6="minisplit",1,0) -> 1 | L6: =IF(E6="remota",1,0) -> 0 | M6: =IF(E6="paquete",1,0) -> 0 | N6: =IF(E6="ventana",1,0) -> 0
A7: SECRETARIA DEL CAMPO | B7: MEXICALI | C7: DIRECCION DE ADMINISTRACION | D7: CARRETERA A SAN LUIS, SAN LUIS RIO COLORADO | E7: MINISPLIT | F7: 2 | G7: BA13-24H63R330L6 | H7: B.AIR | I7: ING-B276 | J7: S/S | K7: =IF(E7="minisplit",1,0) -> 1 | L7: =IF(E7="remota",1,0) -> 0 | M7: =IF(E7="paquete",1,0) -> 0 | N7: =IF(E7="ventana",1,0) -> 0
A8: SECRETARIA DEL CAMPO | B8: MEXICALI | C8: DIRECCION DE ADMINISTRACION | D8: CARRETERA A SAN LUIS, KM. 57 | E8: MINISPLIT | F8: 2 | G8: BA13-24H63R330L6 | H8: B.AIR | I8: ING-B277 | J8: 16902008 | K8: =IF(E8="minisplit",1,0) -> 1 | L8: =IF(E8="remota",1,0) -> 0 | M8: =IF(E8="paquete",1,0) -> 0 | N8: =IF(E8="ventana",1,0) -> 0
A9: SECRETARIA DEL CAMPO | B9: MEXICALI | C9: DIRECCION DE ADMINISTRACION | D9: CARRETERA A SAN LUIS, EJIDO SINALOA | E9: MINISPLIT | F9: 2 | G9: 380NC243B-C | H9: CARRIER | I9: XXXXX | J9: P20185452616802170031 | K9: =IF(E9="minisplit",1,0) -> 1 | L9: =IF(E9="remota",1,0) -> 0 | M9: =IF(E9="paquete",1,0) -> 0 | N9: =IF(E9="ventana",1,0) -> 0
A10: SECRETARIA DEL CAMPO | B10: MEXICALI | C10: DIRECCION DE ADMINISTRACION | D10: CARRETERA A SAN LUIS, EJIDO SINALOA | E10: MINISPLIT | F10: 2 | G10: FSC24H6MM | H10: FRIGIDAIRE | I10: ING-F119 | J10: S/S | K10: =IF(E10="minisplit",1,0) -> 1 | L10: =IF(E10="remota",1,0) -> 0 | M10: =IF(E10="paquete",1,0) -> 0 | N10: =IF(E10="ventana",1,0) -> 0
A11: SECRETARIA DEL CAMPO | B11: MEXICALI | C11: DIRECCION DE ADMINISTRACION | D11: CARRETERA A SAN LUIS, EJIDO SINALOA | E11: MINISPLIT | F11: 2 | G11: AV-24C63F230G4(97) | H11: GALANZ | I11: SEDAGRO2 | K11: =IF(E11="minisplit",1,0) -> 1 | L11: =IF(E11="remota",1,0) -> 0 | M11: =IF(E11="paquete",1,0) -> 0 | N11: =IF(E11="ventana",1,0) -> 0
A12: SECRETARIA DEL CAMPO | B12: MEXICALI | C12: DIRECCION DE ADMINISTRACION | D12: CARRETERA A SAN LUIS, EJIDO SINALOA | E12: MINISPLIT | F12: 1 | G12: CMPRC122-L | H12: PRIME | I12: SEDAGRO1 | J12: S/S | K12: =IF(E12="minisplit",1,0) -> 1 | L12: =IF(E12="remota",1,0) -> 0 | M12: =IF(E12="paquete",1,0) -> 0 | N12: =IF(E12="ventana",1,0) -> 0
A13: SECRETARIA DEL CAMPO | B13: MEXICALI | C13: DIRECCION DE ADMINISTRACION | D13: CARRETERA A SAN LUIS, EJIDO SINALOA | E13: MINISPLIT | F13: 1.5 | G13: TTB018C100A2 | H13: TRANE | I13: ING-T109 | J13: 432UJU5F | K13: =IF(E13="minisplit",1,0) -> 1 | L13: =IF(E13="remota",1,0) -> 0 | M13: =IF(E13="paquete",1,0) -> 0 | N13: =IF(E13="ventana",1,0) -> 0
A14: SECRETARIA DEL CAMPO | B14: MEXICALI | C14: DIRECCION DE ADMINISTRACION | D14: CARRETERA A SAN LUIS, EJIDO SINALOA | E14: MINISPLIT | F14: 1 | G14: 2TTK0512A1AA | H14: TRANE | I14: ING-T103 | J14: S/S | K14: =IF(E14="minisplit",1,0) -> 1 | L14: =IF(E14="remota",1,0) -> 0 | M14: =IF(E14="paquete",1,0) -> 0 | N14: =IF(E14="ventana",1,0) -> 0
A15: SECRETARIA DEL CAMPO | B15: MEXICALI | C15: DIRECCION DE ADMINISTRACION | D15: CARRETERA A SAN LUIS, EJIDO SINALOA | E15: MINISPLIT | F15: 2 | G15: 2TTK0524G1P00AA | H15: TRANE | I15: ING-T095 | J15: S/S | K15: =IF(E15="minisplit",1,0) -> 1 | L15: =IF(E15="remota",1,0) -> 0 | M15: =IF(E15="paquete",1,0) -> 0 | N15: =IF(E15="ventana",1,0) -> 0
A16: SECRETARIA DEL CAMPO | B16: MEXICALI | C16: DIRECCION DE ADMINISTRACION | D16: CARRETERA A SAN LUIS, EJIDO SINALOA | E16: MINISPLIT | F16: 1 | G16: 2TTK0512A1AA | H16: TRANE | I16: ING-T114 | J16: S/S | K16: =IF(E16="minisplit",1,0) -> 1 | L16: =IF(E16="remota",1,0) -> 0 | M16: =IF(E16="paquete",1,0) -> 0 | N16: =IF(E16="ventana",1,0) -> 0
A17: SECRETARIA DEL CAMPO | B17: MEXICALI | C17: DIRECCION DE ADMINISTRACION | D17: CARRETERA A SAN LUIS, EJIDO SINALOA | E17: MINISPLIT | F17: 1 | G17: 2TTK0512G1POOAA | H17: TRANE | I17: ING-T094 | J17: S/S | K17: =IF(E17="minisplit",1,0) -> 1 | L17: =IF(E17="remota",1,0) -> 0 | M17: =IF(E17="paquete",1,0) -> 0 | N17: =IF(E17="ventana",1,0) -> 0
A18: SECRETARIA DEL CAMPO | B18: MEXICALI | C18: DIRECCION DE ADMINISTRACION | D18: CARRETERA A SAN LUIS, EJIDO SINALOA | E18: MINISPLIT | F18: 2 | G18: 2TTK0524G1P00AA | H18: TRANE | I18: ING-T087 | J18: S/S | K18: =IF(E18="minisplit",1,0) -> 1 | L18: =IF(E18="remota",1,0) -> 0 | M18: =IF(E18="paquete",1,0) -> 0 | N18: =IF(E18="ventana",1,0) -> 0
A19: SECRETARIA DEL CAMPO | B19: MEXICALI | C19: DIRECCION DE ADMINISTRACION | D19: CARRETERA A SAN LUIS, EJIDO SINALOA | E19: MINISPLIT | F19: 2 | G19: 2TTK0524G1P00AA | H19: TRANE | I19: ING-T101 | J19: S/S | K19: =IF(E19="minisplit",1,0) -> 1 | L19: =IF(E19="remota",1,0) -> 0 | M19: =IF(E19="paquete",1,0) -> 0 | N19: =IF(E19="ventana",1,0) -> 0
A20: SECRETARIA DEL CAMPO | B20: MEXICALI | C20: DIRECCION DE ADMINISTRACION | D20: CARRETERA A SAN LUIS, EJIDO SINALOA | E20: MINISPLIT | F20: 3 | G20: 2TTK0524G1P00AA | H20: TRANE | I20: ING-T102 | J20: S/S | K20: =IF(E20="minisplit",1,0) -> 1 | L20: =IF(E20="remota",1,0) -> 0 | M20: =IF(E20="paquete",1,0) -> 0 | N20: =IF(E20="ventana",1,0) -> 0
A21: SECRETARIA DEL CAMPO | B21: MEXICALI | C21: DIRECCION DE ADMINISTRACION | D21: CARRETERA A SAN LUIS, EJIDO SINALOA | E21: MINISPLIT | F21: 1.5 | G21: TTK518X10EAA | H21: TRANE | I21: ING-T115 | J21: S/S | K21: =IF(E21="minisplit",1,0) -> 1 | L21: =IF(E21="remota",1,0) -> 0 | M21: =IF(E21="paquete",1,0) -> 0 | N21: =IF(E21="ventana",1,0) -> 0
A22: SECRETARIA DEL CAMPO | B22: MEXICALI | C22: DIRECCION DE ADMINISTRACION | D22: CARRETERA A SAN LUIS, EJIDO SINALOA | E22: MINISPLIT | F22: 2 | G22: 2TTK0524A1AA | H22: TRANE | I22: ING-T117 | J22: S/S | K22: =IF(E22="minisplit",1,0) -> 1 | L22: =IF(E22="remota",1,0) -> 0 | M22: =IF(E22="paquete",1,0) -> 0 | N22: =IF(E22="ventana",1,0) -> 0
A23: SECRETARIA DEL CAMPO | B23: MEXICALI | C23: DIRECCION DE ADMINISTRACION | D23: CARRETERA A SAN LUIS, EJIDO SINALOA | E23: MINISPLIT | F23: 1.5 | G23: WCHXL-18KCR1 | H23: WESTINGHOUSE | I23: ING-W096 | J23: 55984-0WW1001076 | K23: =IF(E23="minisplit",1,0) -> 1 | L23: =IF(E23="remota",1,0) -> 0 | M23: =IF(E23="paquete",1,0) -> 0 | N23: =IF(E23="ventana",1,0) -> 0
A24: SECRETARIA DEL CAMPO | B24: MEXICALI | C24: DIRECCION DE ADMINISTRACION | D24: CARRETERA A SAN LUIS, EJIDO SINALOA | E24: MINISPLIT | F24: 1.5 | H24: CARRIER | I24: INV-426825 | J24: 340F337850221240120414 | K24: =IF(E24="minisplit",1,0) -> 1 | L24: =IF(E24="remota",1,0) -> 0 | M24: =IF(E24="paquete",1,0) -> 0 | N24: =IF(E24="ventana",1,0) -> 0
A25: SECRETARIA DEL CAMPO | B25: MEXICALI | C25: DIRECCION DE ADMINISTRACION | D25: CARRETERA A SAN LUIS, EJIDO SINALOA | E25: MINISPLIT | F25: 3 | G25: TTD536A100AG | H25: TRANE | I25: ING-T118 | J25: 3T0507573116 | K25: =IF(E25="minisplit",1,0) -> 1 | L25: =IF(E25="remota",1,0) -> 0 | M25: =IF(E25="paquete",1,0) -> 0 | N25: =IF(E25="ventana",1,0) -> 0
A26: SECRETARIA DEL CAMPO | B26: MEXICALI | C26: DIRECCION DE ADMINISTRACION | D26: CARRETERA A SAN LUIS, EJIDO SINALOA | E26: PAQUETE | F26: 5 | G26: TCX060G300AB | H26: TRANE | I26: ING-T092 | J26: 4291JMK2H | K26: =IF(E26="minisplit",1,0) -> 0 | L26: =IF(E26="remota",1,0) -> 0 | M26: =IF(E26="paquete",1,0) -> 1 | N26: =IF(E26="ventana",1,0) -> 0
A27: SECRETARIA DEL CAMPO | B27: MEXICALI | C27: DIRECCION DE ADMINISTRACION | D27: CARRETERA A SAN LUIS, EJIDO SINALOA | E27: PAQUETE | F27: 5 | G27: TCX060G300AB | H27: TRANE | I27: ING-T098 | J27: 5315K3L2H | K27: =IF(E27="minisplit",1,0) -> 0 | L27: =IF(E27="remota",1,0) -> 0 | M27: =IF(E27="paquete",1,0) -> 1 | N27: =IF(E27="ventana",1,0) -> 0
A28: SECRETARIA DEL CAMPO | B28: MEXICALI | C28: DIRECCION DE ADMINISTRACION | D28: CARRETERA A SAN LUIS, EJIDO SINALOA | E28: REMOTA | F28: 5 | H28: CARRIER | I28: INV-426838 | J28: 1722X83107 | K28: =IF(E28="minisplit",1,0) -> 0 | L28: =IF(E28="remota",1,0) -> 1 | M28: =IF(E28="paquete",1,0) -> 0 | N28: =IF(E28="ventana",1,0) -> 0
A29: SECRETARIA DEL CAMPO | B29: MEXICALI | C29: DIRECCION DE ADMINISTRACION | D29: CARRETERA A SAN LUIS, EJIDO SINALOA | E29: REMOTA | F29: 5 | H29: CARRIER | I29: INV-426834 | J29: 1822X42713 | K29: =IF(E29="minisplit",1,0) -> 0 | L29: =IF(E29="remota",1,0) -> 1 | M29: =IF(E29="paquete",1,0) -> 0 | N29: =IF(E29="ventana",1,0) -> 0
A30: SECRETARIA DEL CAMPO | B30: MEXICALI | C30: DIRECCION DE ADMINISTRACION | D30: CARRETERA A SAN LUIS, EJIDO SINALOA | E30: REMOTA | F30: 5 | H30: CARRIER | I30: INV-426835 | J30: 1822X42700 | K30: =IF(E30="minisplit",1,0) -> 0 | L30: =IF(E30="remota",1,0) -> 1 | M30: =IF(E30="paquete",1,0) -> 0 | N30: =IF(E30="ventana",1,0) -> 0
A31: SECRETARIA DEL CAMPO | B31: MEXICALI | C31: DIRECCION DE ADMINISTRACION | D31: CARRETERA A SAN LUIS, EJIDO SINALOA | E31: PAQUETE | F31: 5 | G31: TCX060G300AB | H31: TRANE | I31: ING-T093 | J31: 4291KEL2H | K31: =IF(E31="minisplit",1,0) -> 0 | L31: =IF(E31="remota",1,0) -> 0 | M31: =IF(E31="paquete",1,0) -> 1 | N31: =IF(E31="ventana",1,0) -> 0
A32: SECRETARIA DEL CAMPO | B32: MEXICALI | C32: DIRECCION DE ADMINISTRACION | D32: CARRETERA A SAN LUIS, EJIDO SINALOA | E32: PAQUETE | F32: 5 | H32: CARRIER | I32: INV-426829 | J32: 1922F48264 | K32: =IF(E32="minisplit",1,0) -> 0 | L32: =IF(E32="remota",1,0) -> 0 | M32: =IF(E32="paquete",1,0) -> 1 | N32: =IF(E32="ventana",1,0) -> 0
A33: SECRETARIA DEL CAMPO | B33: MEXICALI | C33: DIRECCION DE ADMINISTRACION | D33: CARRETERA A SAN LUIS, EJIDO SINALOA | E33: PAQUETE | F33: 5 | G33: TCX060G300AB | H33: TRANE | I33: ING-T085 | J33: 4291M6J2H | K33: =IF(E33="minisplit",1,0) -> 0 | L33: =IF(E33="remota",1,0) -> 0 | M33: =IF(E33="paquete",1,0) -> 1 | N33: =IF(E33="ventana",1,0) -> 0
A34: SECRETARIA DEL CAMPO | B34: MEXICALI | C34: DIRECCION DE ADMINISTRACION | D34: CARRETERA A SAN LUIS, EJIDO SINALOA | E34: REMOTA | F34: 5 | H34: CARRIER | I34: INV-426836 | J34: 1822X42705 | K34: =IF(E34="minisplit",1,0) -> 0 | L34: =IF(E34="remota",1,0) -> 1 | M34: =IF(E34="paquete",1,0) -> 0 | N34: =IF(E34="ventana",1,0) -> 0
A35: SECRETARIA DEL CAMPO | B35: MEXICALI | C35: DIRECCION DE ADMINISTRACION | D35: CARRETERA A SAN LUIS, EJIDO SINALOA | E35: REMOTA | F35: 5 | H35: CARRIER | I35: INV-426837 | J35: 1822X42723 | K35: =IF(E35="minisplit",1,0) -> 0 | L35: =IF(E35="remota",1,0) -> 1 | M35: =IF(E35="paquete",1,0) -> 0 | N35: =IF(E35="ventana",1,0) -> 0
A36: SECRETARIA DEL CAMPO | B36: MEXICALI | C36: DIRECCION DE ADMINISTRACION | D36: CARRETERA A SAN LUIS, EJIDO SINALOA | E36: PAQUETE | F36: 5 | G36: TCC060F300AB | H36: TRANE | I36: ING-T084 | J36: 4291JL62H | K36: =IF(E36="minisplit",1,0) -> 0 | L36: =IF(E36="remota",1,0) -> 0 | M36: =IF(E36="paquete",1,0) -> 1 | N36: =IF(E36="ventana",1,0) -> 0
A37: SECRETARIA DEL CAMPO | B37: MEXICALI | C37: DIRECCION DE ADMINISTRACION | D37: CARRETERA A SAN LUIS, EJIDO SINALOA | E37: REMOTA | F37: 5 | G37: C60BAV1 | H37: EUBANK | I37: ING-E081 | J37: 97C-C50147 | K37: =IF(E37="minisplit",1,0) -> 0 | L37: =IF(E37="remota",1,0) -> 1 | M37: =IF(E37="paquete",1,0) -> 0 | N37: =IF(E37="ventana",1,0) -> 0
A38: SECRETARIA DEL CAMPO | B38: MEXICALI | C38: DIRECCION DE ADMINISTRACION | D38: CARRETERA A SAN LUIS, EJIDO SINALOA | E38: REMOTA | F38: 5 | G38: C60BAV1 | H38: EUBANK | I38: ING-E082 | J38: 97C-C50148 | K38: =IF(E38="minisplit",1,0) -> 0 | L38: =IF(E38="remota",1,0) -> 1 | M38: =IF(E38="paquete",1,0) -> 0 | N38: =IF(E38="ventana",1,0) -> 0
A39: SECRETARIA DEL CAMPO | B39: MEXICALI | C39: DIRECCION DE ADMINISTRACION | D39: CARRETERA A SAN LUIS, EJIDO SINALOA | E39: REMOTA | F39: 5 | G39: C60BAV1 | H39: EUBANK | I39: ING-E089 | J39: 97C-C50145 | K39: =IF(E39="minisplit",1,0) -> 0 | L39: =IF(E39="remota",1,0) -> 1 | M39: =IF(E39="paquete",1,0) -> 0 | N39: =IF(E39="ventana",1,0) -> 0
A40: SECRETARIA DEL CAMPO | B40: MEXICALI | C40: DIRECCION DE ADMINISTRACION | D40: CARRETERA A SAN LUIS, EJIDO SINALOA | E40: REMOTA | F40: 5 | G40: C60BAV1 | H40: EUBANK | I40: ING-E091 | J40: 97C-C50037 | K40: =IF(E40="minisplit",1,0) -> 0 | L40: =IF(E40="remota",1,0) -> 1 | M40: =IF(E40="paquete",1,0) -> 0 | N40: =IF(E40="ventana",1,0) -> 0
A41: SECRETARIA DEL CAMPO | B41: MEXICALI | C41: DIRECCION DE ADMINISTRACION | D41: CARRETERA A SAN LUIS, EJIDO SINALOA | E41: REMOTA | F41: 5 | G41: 13AJN60A01 | H41: RHEEM | I41: ING-R278 | J41: 8395W151317888 | K41: =IF(E41="minisplit",1,0) -> 0 | L41: =IF(E41="remota",1,0) -> 1 | M41: =IF(E41="paquete",1,0) -> 0 | N41: =IF(E41="ventana",1,0) -> 0
A42: SECRETARIA DEL CAMPO | B42: MEXICALI | C42: DIRECCION DE ADMINISTRACION | D42: CARRETERA A SAN LUIS, EJIDO SINALOA | E42: REMOTA | F42: 5 | G42: 13AJN60A01 | H42: RHEEM | I42: ING-R279 | J42: 8395W451202379 | K42: =IF(E42="minisplit",1,0) -> 0 | L42: =IF(E42="remota",1,0) -> 1 | M42: =IF(E42="paquete",1,0) -> 0 | N42: =IF(E42="ventana",1,0) -> 0
A43: SECRETARIA DEL CAMPO | B43: MEXICALI | C43: DIRECCION DE ADMINISTRACION | D43: CARRETERA A SAN LUIS, EJIDO SINALOA | E43: REMOTA | F43: 5 | G43: 2TTA0060A3000AA | H43: TRANE | I43: ING-T104 | J43: 4413WYW3F | K43: =IF(E43="minisplit",1,0) -> 0 | L43: =IF(E43="remota",1,0) -> 1 | M43: =IF(E43="paquete",1,0) -> 0 | N43: =IF(E43="ventana",1,0) -> 0
A44: SECRETARIA DEL CAMPO | B44: MEXICALI | C44: DIRECCION DE ADMINISTRACION | D44: CARRETERA A SAN LUIS, EJIDO SINALOA | E44: REMOTA | F44: 5 | G44: 2TTA0060A3000AA | H44: TRANE | I44: ING-T105 | J44: 4413WY13F | K44: =IF(E44="minisplit",1,0) -> 0 | L44: =IF(E44="remota",1,0) -> 1 | M44: =IF(E44="paquete",1,0) -> 0 | N44: =IF(E44="ventana",1,0) -> 0
A45: SECRETARIA DEL CAMPO | B45: MEXICALI | C45: DIRECCION DE ADMINISTRACION | D45: CARRETERA A SAN LUIS, EJIDO SINALOA | E45: REMOTA | F45: 4 | G45: 2TTA0048A3000AA | H45: TRANE | I45: ING-T111 | J45: 50952B93F | K45: =IF(E45="minisplit",1,0) -> 0 | L45: =IF(E45="remota",1,0) -> 1 | M45: =IF(E45="paquete",1,0) -> 0 | N45: =IF(E45="ventana",1,0) -> 0
A46: SECRETARIA DEL CAMPO | B46: MEXICALI | C46: DIRECCION DE ADMINISTRACION | D46: CARRETERA A SAN LUIS, EJIDO SINALOA | E46: REMOTA | F46: 4 | G46: 2TTA0048A3000AA | H46: TRANE | I46: ING-T112 | J46: 50952B43F | K46: =IF(E46="minisplit",1,0) -> 0 | L46: =IF(E46="remota",1,0) -> 1 | M46: =IF(E46="paquete",1,0) -> 0 | N46: =IF(E46="ventana",1,0) -> 0
A47: SECRETARIA DEL CAMPO | B47: MEXICALI | C47: DIRECCION DE ADMINISTRACION | D47: CARRETERA A SAN LUIS, EJIDO SINALOA | E47: REMOTA | F47: 5 | G47: 2TTA0060A3000AA | H47: TRANE | I47: ING-T106 | J47: 4413WLG3F | K47: =IF(E47="minisplit",1,0) -> 0 | L47: =IF(E47="remota",1,0) -> 1 | M47: =IF(E47="paquete",1,0) -> 0 | N47: =IF(E47="ventana",1,0) -> 0
... A51: SECRETARIA DEL CAMPO | B51: MEXICALI | C51: DIRECCION DE ADMINISTRACION | D51: CARRETERA A SAN LUIS, EJIDO SINALOA | E51: REMOTA | F51: 5 | G51: 2TTB0060A1000CA | H51: TRANE | I51: SEDAGRO3 | J51: 11285WPG4F | K51: =IF(E51="minisplit",1,0) -> 0 | L51: =IF(E51="remota",1,0) -> 1 | M51: =IF(E51="paquete",1,0) -> 0 | N51: =IF(E51="ventana",1,0) -> 0
A52: SECRETARIA DEL CAMPO CCIIAA | B52: MEXICALI | C52: DIRECCION DE ADMINISTRACION | D52: EJIDO SINALOA PARCELA 19 | E52: MINISPLIT | F52: 1 | G52: 38CIC123A-C | H52: CARRIER | I52: S/N | K52: =IF(E52="minisplit",1,0) -> 1 | L52: =IF(E52="remota",1,0) -> 0 | M52: =IF(E52="paquete",1,0) -> 0 | N52: =IF(E52="ventana",1,0) -> 0
A53: SECRETARIA DEL CAMPO CCIIAA | B53: MEXICALI | C53: DIRECCION DE ADMINISTRACION | D53: EJIDO SINALOA PARCELA 19 | E53: MINISPLIT | F53: 1 | G53: 38XPC123B-C | H53: CARRIER | I53: S/N | K53: =IF(E53="minisplit",1,0) -> 1 | L53: =IF(E53="remota",1,0) -> 0 | M53: =IF(E53="paquete",1,0) -> 0 | N53: =IF(E53="ventana",1,0) -> 0
A54: SECRETARIA DEL CAMPO CCIIAA | B54: MEXICALI | C54: DIRECCION DE ADMINISTRACION | D54: EJIDO SINALOA PARCELA 19 | E54: MINISPLIT | F54: 1 | G54: 38PRC123A-C | H54: CARRIER | I54: S/N | K54: =IF(E54="minisplit",1,0) -> 1 | L54: =IF(E54="remota",1,0) -> 0 | M54: =IF(E54="paquete",1,0) -> 0 | N54: =IF(E54="ventana",1,0) -> 0
A55: SECRETARIA DEL CAMPO CCIIAA | B55: MEXICALI | C55: DIRECCION DE ADMINISTRACION | D55: EJIDO SINALOA PARCELA 19 | E55: PAQUETE | F55: 3 | G55: 50VL-C36-50 | H55: CARRIER | I55: S/N | J55: 1317C10984 | K55: =IF(E55="minisplit",1,0) -> 0 | L55: =IF(E55="remota",1,0) -> 0 | M55: =IF(E55="paquete",1,0) -> 1 | N55: =IF(E55="ventana",1,0) -> 0
A56: SECRETARIA DEL CAMPO CCIIAA | B56: MEXICALI | C56: DIRECCION DE ADMINISTRACION | D56: EJIDO SINALOA PARCELA 19 | E56: PAQUETE | F56: 3 | G56: 50VL-C60-50 | H56: CARRIER | I56: S/N | J56: 1217C38000 | K56: =IF(E56="minisplit",1,0) -> 0 | L56: =IF(E56="remota",1,0) -> 0 | M56: =IF(E56="paquete",1,0) -> 1 | N56: =IF(E56="ventana",1,0) -> 0
A57: SECRETARIA DEL CAMPO CCIIAA | B57: MEXICALI | C57: DIRECCION DE ADMINISTRACION | D57: EJIDO SINALOA PARCELA 19 | E57: PAQUETE | F57: 7.5 | G57: 50TC-A08A2A5A0A0A0 | H57: CARRIER | I57: S/N | J57: 1517P38899 | K57: =IF(E57="minisplit",1,0) -> 0 | L57: =IF(E57="remota",1,0) -> 0 | M57: =IF(E57="paquete",1,0) -> 1 | N57: =IF(E57="ventana",1,0) -> 0
A58: SECRETARIA DEL CAMPO CCIIAA | B58: MEXICALI | C58: DIRECCION DE ADMINISTRACION | D58: EJIDO SINALOA PARCELA 19 | E58: PAQUETE | F58: 7.5 | G58: 50TC-A08A2A5A0A0A0 | H58: CARRIER | I58: S/N | J58: 1517P38900 | K58: =IF(E58="minisplit",1,0) -> 0 | L58: =IF(E58="remota",1,0) -> 0 | M58: =IF(E58="paquete",1,0) -> 1 | N58: =IF(E58="ventana",1,0) -> 0
A59: SECRETARIA DEL CAMPO CCIIAA | B59: MEXICALI | C59: DIRECCION DE ADMINISTRACION | D59: EJIDO SINALOA PARCELA 19 | E59: PAQUETE | F59: 7.5 | G59: 50TC-A08A2A5A0A0A0 | H59: CARRIER | I59: S/N | J59: 1517P38897 | K59: =IF(E59="minisplit",1,0) -> 0 | L59: =IF(E59="remota",1,0) -> 0 | M59: =IF(E59="paquete",1,0) -> 1 | N59: =IF(E59="ventana",1,0) -> 0
A60: SECRETARIA DEL CAMPO CCIIAA | B60: MEXICALI | C60: DIRECCION DE ADMINISTRACION | D60: EJIDO SINALOA PARCELA 19 | E60: PAQUETE | F60: 7.5 | G60: 50TC-A08A2A5A0A0A0 | H60: CARRIER | I60: S/N | J60: 4816P42259 | K60: =IF(E60="minisplit",1,0) -> 0 | L60: =IF(E60="remota",1,0) -> 0 | M60: =IF(E60="paquete",1,0) -> 1 | N60: =IF(E60="ventana",1,0) -> 0
A61: SECRETARIA DEL CAMPO CCIIAA | B61: MEXICALI | C61: DIRECCION DE ADMINISTRACION | D61: EJIDO SINALOA PARCELA 19 | E61: PAQUETE | F61: 7.5 | G61: 50TC-A08A2A5A0A0A0 | H61: CARRIER | I61: S/N | J61: 1517P39177 | K61: =IF(E61="minisplit",1,0) -> 0 | L61: =IF(E61="remota",1,0) -> 0 | M61: =IF(E61="paquete",1,0) -> 1 | N61: =IF(E61="ventana",1,0) -> 0
A62: SECRETARIA DEL CAMPO CCIIAA | B62: MEXICALI | C62: DIRECCION DE ADMINISTRACION | D62: EJIDO SINALOA PARCELA 19 | E62: PAQUETE | F62: 7.5 | G62: 50TC-A08A2A5A0A0A0 | H62: CARRIER | I62: S/N | J62: 1517P39176 | K62: =IF(E62="minisplit",1,0) -> 0 | L62: =IF(E62="remota",1,0) -> 0 | M62: =IF(E62="paquete",1,0) -> 1 | N62: =IF(E62="ventana",1,0) -> 0
A63: SECRETARIA DEL CAMPO CCIIAA | B63: MEXICALI | C63: DIRECCION DE ADMINISTRACION | D63: EJIDO SINALOA PARCELA 19 | E63: PAQUETE | F63: 10 | G63: 50TC-A12A2A5A0A0A0 | H63: CARRIER | I63: S/N | J63: 4516P40983 | K63: =IF(E63="minisplit",1,0) -> 0 | L63: =IF(E63="remota",1,0) -> 0 | M63: =IF(E63="paquete",1,0) -> 1 | N63: =IF(E63="ventana",1,0) -> 0
A64: SECRETARIA DEL CAMPO CCIIAA | B64: MEXICALI | C64: DIRECCION DE ADMINISTRACION | D64: EJIDO SINALOA PARCELA 19 | E64: PAQUETE | F64: 10 | G64: 50TC-A12A2A5A0A0A0 | H64: CARRIER | I64: S/N | J64: 4516P40981 | K64: =IF(E64="minisplit",1,0) -> 0 | L64: =IF(E64="remota",1,0) -> 0 | M64: =IF(E64="paquete",1,0) -> 1 | N64: =IF(E64="ventana",1,0) -> 0
A65: SECRETARIA DEL CAMPO CCIIAA | B65: MEXICALI | C65: DIRECCION DE ADMINISTRACION | D65: EJIDO SINALOA PARCELA 19 | E65: PAQUETE | F65: 10 | G65: 50TC-A12A2A5A0A0A0 | H65: CARRIER | I65: S/N | J65: 4616P75098 | K65: =IF(E65="minisplit",1,0) -> 0 | L65: =IF(E65="remota",1,0) -> 0 | M65: =IF(E65="paquete",1,0) -> 1 | N65: =IF(E65="ventana",1,0) -> 0
A66: SECRETARIA DEL CAMPO CCIIAA | B66: MEXICALI | C66: DIRECCION DE ADMINISTRACION | D66: EJIDO SINALOA PARCELA 19 | E66: PAQUETE | F66: 7.5 | G66: 50TC-A08A2A5A0A0A0 | H66: CARRIER | I66: S/N | J66: 1517P39172 | K66: =IF(E66="minisplit",1,0) -> 0 | L66: =IF(E66="remota",1,0) -> 0 | M66: =IF(E66="paquete",1,0) -> 1 | N66: =IF(E66="ventana",1,0) -> 0
A67: SECRETARIA DEL CAMPO TECATE | B67: TECATE | C67: DIRECCION DE ADMINISTRACION | D67: FRACC. EL DESCANSO EDIFICIO MISION D. | E67: REMOTA | F67: 3 | G67: 2TTR4036A100 | I67: M1-097578 | K67: =IF(E67="minisplit",1,0) -> 0 | L67: =IF(E67="remota",1,0) -> 1 | M67: =IF(E67="paquete",1,0) -> 0 | N67: =IF(E67="ventana",1,0) -> 0
F70: =+COUNTA(B3:B67) -> 65 | G70: EQUIPOS | K70: =SUBTOTAL(109,K3:K67) -> 26 | L70: =SUBTOTAL(109,L3:L67) -> 21 | M70: =SUBTOTAL(109,M3:M67) -> 18 | N70: =SUBTOTAL(109,N3:N67) -> 0
F71: =+SUM(F3:F67) -> 260.5 | G71: TONELADAS
J72: Total | K72: =SUM(K70:N70) -> 65

Sheet SHFP
A2: MUNICIPIO | B2: UNIDAD ADMINISTRATIVA | C2: DIRECCIÓN-UBICACIÓN | D2: TIPO DE EQUIPO | E2: CAP.TONELADAS | F2: MODELO | G2: MARCA | H2: INVENTARIO | I2: NO. DE SERIE | J2: Minisplit | K2: Remota | L2: Paquete | M2: Ventana
A3: MEXICALI | B3: ADMNISTRATIVO | C3: OBREGON Y CALLE MEXICO | D3: PAQUETE | E3: 5 | F3: 2018 | G3: TRANE | H3: 309366 | I3: C7052212804182074097 | J3: =IF(D3="minisplit",1,0) -> 0 | K3: =IF(D3="remota",1,0) -> 0 | L3: =IF(D3="paquete",1,0) -> 1 | M3: =IF(D3="ventana",1,0) -> 0
A4: MEXICALI | B4: ADMINISTRATIVO | C4: OBREGON Y CALLE MEXICO | D4: PAQUETE | E4: 5 | F4: 2017 | G4: WESTINHOUSE | H4: 310275 | I4: P7F170203163 | J4: =IF(D4="minisplit",1,0) -> 0 | K4: =IF(D4="remota",1,0) -> 0 | L4: =IF(D4="paquete",1,0) -> 1 | M4: =IF(D4="ventana",1,0) -> 0
A5: MEXICALI | B5: ADMINISTRATIVO | C5: OBREGON Y CALLE MEXICO | D5: PAQUETE | E5: 5 | F5: 2017 | G5: WESTINHOUSE | H5: 287228 | I5: P7F17203113 | J5: =IF(D5="minisplit",1,0) -> 0 | K5: =IF(D5="remota",1,0) -> 0 | L5: =IF(D5="paquete",1,0) -> 1 | M5: =IF(D5="ventana",1,0) -> 0
A6: MEXICALI | B6: FISCALIZACION | C6: OBREGON Y CALLE MEXICO | D6: PAQUETE | E6: 5 | F6: 2017 | G6: CARRIER | H6: 287725 | I6: 617699201 | J6: =IF(D6="minisplit",1,0) -> 0 | K6: =IF(D6="remota",1,0) -> 0 | L6: =IF(D6="paquete",1,0) -> 1 | M6: =IF(D6="ventana",1,0) -> 0
A7: MEXICALI | B7: FISCALIZACION | C7: OBREGON Y CALLE MEXICO | D7: PAQUETE | E7: 5 | F7: 2017 | G7: CARRIER | H7: 3107 | I7: S/N | J7: =IF(D7="minisplit",1,0) -> 0 | K7: =IF(D7="remota",1,0) -> 0 | L7: =IF(D7="paquete",1,0) -> 1 | M7: =IF(D7="ventana",1,0) -> 0
A8: MEXICALI | B8: ADMINISTRATIVO | C8: OBREGON Y CALLE MEXICO | D8: MINISPLIT | E8: 2 | F8: 2016 | G8: MIDEA | H8: 264067 | I8: 367606632301505 | J8: =IF(D8="minisplit",1,0) -> 1 | K8: =IF(D8="remota",1,0) -> 0 | L8: =IF(D8="paquete",1,0) -> 0 | M8: =IF(D8="ventana",1,0) -> 0
A9: MEXICALI | B9: ADMINISTRATIVO | C9: OBREGON Y CALLE MEXICO | D9: MINISPLIT | E9: 2 | F9: 2017 | G9: TRANE | H9: 295667 | I9: 3A79470000275 | J9: =IF(D9="minisplit",1,0) -> 1 | K9: =IF(D9="remota",1,0) -> 0 | L9: =IF(D9="paquete",1,0) -> 0 | M9: =IF(D9="ventana",1,0) -> 0
A10: MEXICALI | B10: ADMINISTRATIVO | C10: OBREGON Y CALLE MEXICO | D10: MINISPLIT | E10: 2 | F10: 2017 | G10: TRANE | H10: 295666 | I10: 3B14070000457 | J10: =IF(D10="minisplit",1,0) -> 1 | K10: =IF(D10="remota",1,0) -> 0 | L10: =IF(D10="paquete",1,0) -> 0 | M10: =IF(D10="ventana",1,0) -> 0
A11: MEXICALI | B11: ADMINISTRATIVO | C11: OBREGON Y CALLE MEXICO | D11: MINISPLIT | E11: 2 | F11: 2017 | G11: MIRAGE | H11: M16-0121 | I11: S/N | J11: =IF(D11="minisplit",1,0) -> 1 | K11: =IF(D11="remota",1,0) -> 0 | L11: =IF(D11="paquete",1,0) -> 0 | M11: =IF(D11="ventana",1,0) -> 0
A12: MEXICALI | B12: ADMINISTRATIVO | C12: OBREGON Y CALLE MEXICO | D12: MINISPLIT | E12: 2 | F12: 2017 | G12: MIRAGE | H12: M16-0122 | I12: S/N | J12: =IF(D12="minisplit",1,0) -> 1 | K12: =IF(D12="remota",1,0) -> 0 | L12: =IF(D12="paquete",1,0) -> 0 | M12: =IF(D12="ventana",1,0) -> 0
A13: MEXICALI | B13: OFICINA DE LA SECRETARIA | C13: CENTRO DE GOBIERNO MEXICALI | D13: MINISPLIT | E13: 2 | F13: 2014 | G13: TRANE | H13: S/N | I13: 14482MGH5F | J13: =IF(D13="minisplit",1,0) -> 1 | K13: =IF(D13="remota",1,0) -> 0 | L13: =IF(D13="paquete",1,0) -> 0 | M13: =IF(D13="ventana",1,0) -> 0
A14: MEXICALI | B14: FISCALIZACION | C14: CENTRO COMERCIAL PLAZA BAJA CALIFORNIA | D14: MINISPLIT | E14: 1 | F14: 2021 | G14: TRANE | H14: 390795 | I14: X2102T0122IC0980 | J14: =IF(D14="minisplit",1,0) -> 1 | K14: =IF(D14="remota",1,0) -> 0 | L14: =IF(D14="paquete",1,0) -> 0 | M14: =IF(D14="ventana",1,0) -> 0
A15: ENSENADA | B15: ADMINISTRATIVO | C15: CENTRO DE GOBIERNO ENSENADA | D15: PAQUETE | E15: 4 | F15: 2017 | G15: TRANE | H15: M3-145543 | I15: S/N | J15: =IF(D15="minisplit",1,0) -> 0 | K15: =IF(D15="remota",1,0) -> 0 | L15: =IF(D15="paquete",1,0) -> 1 | M15: =IF(D15="ventana",1,0) -> 0
A16: ENSENADA | B16: MINISTRATIVO | C16: CENTRO DE GOBIERNO ENSENADA | D16: PAQUETE | E16: 4 | F16: 2017 | G16: RHEEM | H16: INV-310273 | I16: W231529817 | J16: =IF(D16="minisplit",1,0) -> 0 | K16: =IF(D16="remota",1,0) -> 0 | L16: =IF(D16="paquete",1,0) -> 1 | M16: =IF(D16="ventana",1,0) -> 0
E19: =+COUNTA(A3:A16) -> 14 | F19: EQUIPOS | J19: =SUBTOTAL(109,J3:J16) -> 7 | K19: =SUBTOTAL(109,K3:K16) -> 0 | L19: =SUBTOTAL(109,L3:L16) -> 7 | M19: =SUBTOTAL(109,M3:M16) -> 0
E20: =+SUM(E3:E16) -> 46 | F20: TONELADAS
I21: Total | J21: =SUM(J19:M19) -> 14

Sheet SHE
A2: MUNICIPIO | B2: UNIDAD ADMINISTRATIVA | C2: DIRECCIÓN-UBICACIÓN | D2: TIPO DE EQUIPO | E2: CAP.TONELADAS | F2: MODELO | G2: MARCA | H2: INVENTARIO | I2: NO. DE SERIE | J2: CAP.TON. REPORTADAS | K2: Minisplit | L2: Remota | M2: Paquete | N2: Ventana | O2: Remota de Precisión
A3: MEXICALI | B3: Oficina del titular | C3: Edificio Poder Ejecutivo, sótano, Calzada Independencia 944, Centro Cívico, Mexicali, B.C. ( 4to piso) | D3: minisplit | E3: 2 | F3: manejadora condensadora | G3: Trane | H3: INV-386188 INV-386190 | I3: EJF120T7011902112 200477Z60424YCP0155 | J3: 2 | K3: =IF(D3="minisplit",1,0) -> 1 | L3: =IF(D3="remota",1,0) -> 0 | M3: =IF(D3="paquete",1,0) -> 0 | N3: =IF(D3="ventana",1,0) -> 0 | O3: =IF(D3="remota de precisión",1,0) -> 0
A4: MEXICALI | B4: Oficina del titular | C4: (4to piso) | D4: minisplit | E4: 1.5 | F4: manejadora condensadora | G4: Mirage | H4: INV-250784 INV-250783 | I4: 9011500109 9011500256 | J4: 1.5 | K4: =IF(D4="minisplit",1,0) -> 1 | L4: =IF(D4="remota",1,0) -> 0 | M4: =IF(D4="paquete",1,0) -> 0 | N4: =IF(D4="ventana",1,0) -> 0 | O4: =IF(D4="remota de precisión",1,0) -> 0
A5: MEXICALI | B5: Oficina del titular | C5: (4to piso) | D5: minisplit | E5: 1.5 | F5: manejadora condensadora | G5: Trane | H5: INV-296685 INV-296686 | I5: 3130337000518 3A61070000463 | J5: 1.5 | K5: =IF(D5="minisplit",1,0) -> 1 | L5: =IF(D5="remota",1,0) -> 0 | M5: =IF(D5="paquete",1,0) -> 0 | N5: =IF(D5="ventana",1,0) -> 0 | O5: =IF(D5="remota de precisión",1,0) -> 0
A6: Ensenada | B6: SPF,REPRESENTACION DE LA PROC.FISCAL ENS | C6: CARRETERA TRANSPENINSULAR LA PAZ - ENSENADA #6500 EX. EJIDO CHAPULTEPEC CP. 22785 | D6: minisplit | E6: 2 | G6: Mirage | H6: E3-003817 | J6: 2 | K6: =IF(D6="minisplit",1,0) -> 1 | L6: =IF(D6="remota",1,0) -> 0 | M6: =IF(D6="paquete",1,0) -> 0 | N6: =IF(D6="ventana",1,0) -> 0 | O6: =IF(D6="remota de precisión",1,0) -> 0
A7: Ensenada | B7: COORDINACIÓN DE TESORERÍA ENSENADA | C7: CARRETERA TRANSPENINSULAR LA PAZ - ENSENADA #6500 1er PISO, EX. EJIDO CHAPULTEPEC CP. 22785 | D7: minisplit | E7: 1 | G7: Midea | H7: INV-296676 | I7: 13481090174110200090 | J7: 1 | K7: =IF(D7="minisplit",1,0) -> 1 | L7: =IF(D7="remota",1,0) -> 0 | M7: =IF(D7="paquete",1,0) -> 0 | N7: =IF(D7="ventana",1,0) -> 0 | O7: =IF(D7="remota de precisión",1,0) -> 0
A8: MEXICALI | B8: ARCHIVO GENERAL DE LA SECRETARIA | C8: Calzada independencia y calle J sin numero fracc. Calafia | D8: paquete | E8: 2 | G8: Mirage | H8: INV-250814 | I8: 12056651313405151223 | J8: 2 | K8: =IF(D8="minisplit",1,0) -> 0 | L8: =IF(D8="remota",1,0) -> 0 | M8: =IF(D8="paquete",1,0) -> 1 | N8: =IF(D8="ventana",1,0) -> 0 | O8: =IF(D8="remota de precisión",1,0) -> 0
A9: MEXICALI | B9: ARCHIVO GENERAL DE LA SECRETARIA | C9: Calzada independencia y calle J sin numero fracc. Calafia | D9: minisplit | E9: 1 | F9: condensadora manejadora | G9: Trane | H9: INV-336792 INV-336793 | I9: 3C48380021015 3E91480000249 | J9: 1 | K9: =IF(D9="minisplit",1,0) -> 1 | L9: =IF(D9="remota",1,0) -> 0 | M9: =IF(D9="paquete",1,0) -> 0 | N9: =IF(D9="ventana",1,0) -> 0 | O9: =IF(D9="remota de precisión",1,0) -> 0
A10: MEXICALI | B10: ARCHIVO GENERAL DE LA SECRETARIA | C10: Calzada independencia y calle J sin numero fracc. Calafia | D10: minisplit | E10: 2 | F10: condensadora manrjadora | G10: Trane | H10: INV-369102 INV-369103 | I10: 190877T93424XCP1484 190877T93424XCP1121 | J10: 2 | K10: =IF(D10="minisplit",1,0) -> 1 | L10: =IF(D10="remota",1,0) -> 0 | M10: =IF(D10="paquete",1,0) -> 0 | N10: =IF(D10="ventana",1,0) -> 0 | O10: =IF(D10="remota de precisión",1,0) -> 0
A11: MEXICALI | B11: ARCHIVO GENERAL DE LA SECRETARIA | C11: Calzada independencia y calle J sin numero fracc. Calafia | D11: minisplit | E11: 2 | F11: condensadora manrjadora | G11: Trane | H11: INV-369104 INV-369105 | I11: 19087793424YCP1630 190877239729YCP0100 | J11: 2 | K11: =IF(D11="minisplit",1,0) -> 1 | L11: =IF(D11="remota",1,0) -> 0 | M11: =IF(D11="paquete",1,0) -> 0 | N11: =IF(D11="ventana",1,0) -> 0 | O11: =IF(D11="remota de precisión",1,0) -> 0
A12: MEXICALI | B12: ARCHIVO GENERAL DE LA SECRETARIA | C12: Calzada independencia y calle J sin numero fracc. Calafia | D12: paquete | E12: 3 | H12: INV-412904 | I12: 200402867160100011 | J12: 3 | K12: =IF(D12="minisplit",1,0) -> 0 | L12: =IF(D12="remota",1,0) -> 0 | M12: =IF(D12="paquete",1,0) -> 1 | N12: =IF(D12="ventana",1,0) -> 0 | O12: =IF(D12="remota de precisión",1,0) -> 0
A13: MEXICALI | B13: ARCHIVO GENERAL DE LA SECRETARIA | C13: Calzada independencia y calle J sin numero fracc. Calafia | D13: paquete | E13: 3 | H13: INV-412905 | I13: 200402867160100008 | J13: 3 | K13: =IF(D13="minisplit",1,0) -> 0 | L13: =IF(D13="remota",1,0) -> 0 | M13: =IF(D13="paquete",1,0) -> 1 | N13: =IF(D13="ventana",1,0) -> 0 | O13: =IF(D13="remota de precisión",1,0) -> 0
A14: MEXICALI | B14: ARCHIVO GENERAL DE LA SECRETARIA | C14: Calzada independencia y calle J sin numero fracc. Calafia | D14: minisplit | E14: 1 | G14: York | H14: M3-013166 M3-013167 | I14: 047401505050300264 047401505050300269 | J14: 1 | K14: =IF(D14="minisplit",1,0) -> 1 | L14: =IF(D14="remota",1,0) -> 0 | M14: =IF(D14="paquete",1,0) -> 0 | N14: =IF(D14="ventana",1,0) -> 0 | O14: =IF(D14="remota de precisión",1,0) -> 0
A15: MEXICALI | B15: ARCHIVO GENERAL DE LA SECRETARIA | C15: Calzada independencia y calle J sin numero fracc. Calafia | D15: minisplit | E15: 1 | G15: York | H15: M3-019063 M3-019065 | I15: 197704/580080305696 197704/580080400384 | J15: 1 | K15: =IF(D15="minisplit",1,0) -> 1 | L15: =IF(D15="remota",1,0) -> 0 | M15: =IF(D15="paquete",1,0) -> 0 | N15: =IF(D15="ventana",1,0) -> 0 | O15: =IF(D15="remota de precisión",1,0) -> 0
A16: MEXICALI | B16: ARCHIVO GENERAL DE LA SECRETARIA | C16: Calzada independencia y calle J sin numero fracc. Calafia | D16: minisplit | E16: 1 | G16: Lennox | H16: M3-019066 M3-019067 | I16: 5898F64424 L970925937 | J16: 1 | K16: =IF(D16="minisplit",1,0) -> 1 | L16: =IF(D16="remota",1,0) -> 0 | M16: =IF(D16="paquete",1,0) -> 0 | N16: =IF(D16="ventana",1,0) -> 0 | O16: =IF(D16="remota de precisión",1,0) -> 0
A17: MEXICALI | B17: ARCHIVO GENERAL DE LA SECRETARIA | C17: Calzada independencia y calle J sin numero fracc. Calafia | D17: minisplit | E17: 1 | H17: M3-019068 | J17: 1 | K17: =IF(D17="minisplit",1,0) -> 1 | L17: =IF(D17="remota",1,0) -> 0 | M17: =IF(D17="paquete",1,0) -> 0 | N17: =IF(D17="ventana",1,0) -> 0 | O17: =IF(D17="remota de precisión",1,0) -> 0
A18: MEXICALI | B18: S.P.F. DEPTO. DE CONTROL PRESUPUESTAL | C18: Edificio Poder Ejecutivo, sotano, Calzada Independencia 944, Centro Cívico, Mexicali, B.C. ( 4to piso) | D18: minisplit | E18: 1 | F18: condensadora manrjadora | G18: Trane | H18: INV-426099 INV-426100 | I18: X2129TO242IC0560 X2124TO122ICO499 | J18: 1 | K18: =IF(D18="minisplit",1,0) -> 1 | L18: =IF(D18="remota",1,0) -> 0 | M18: =IF(D18="paquete",1,0) -> 0 | N18: =IF(D18="ventana",1,0) -> 0 | O18: =IF(D18="remota de precisión",1,0) -> 0
A19: Tijuana | B19: Procuraduría Fiscal (Tijuana) | C19: Blvd. Díaz Órdaz y Ave. De las Américas, Fraccionamiento el Paraisto (Plaza Patria) | D19: minisplit | E19: 1 | F19: condensadora manrjadora | G19: Lennox | H19: INV-427547 INV-427548 | I19: 2821K50546 3322D61528 | J19: 1 | K19: =IF(D19="minisplit",1,0) -> 1 | L19: =IF(D19="remota",1,0) -> 0 | M19: =IF(D19="paquete",1,0) -> 0 | N19: =IF(D19="ventana",1,0) -> 0 | O19: =IF(D19="remota de precisión",1,0) -> 0
A20: MEXICALI | B20: Subdireccion de infraestructura y telecomunicaacion | C20: Edificio Poder Ejecutivo, sotano, Calzada Independencia 944, Centro Cívico, Mexicali, B.C. (sotano) | D20: Remota | E20: 7.5 | F20: condensadora manrjadora | G20: Rheem | H20: INV-295690 INV-295691 | I20: F191400002 F211701772 | J20: 7.5 | K20: =IF(D20="minisplit",1,0) -> 0 | L20: =IF(D20="remota",1,0) -> 1 | M20: =IF(D20="paquete",1,0) -> 0 | N20: =IF(D20="ventana",1,0) -> 0 | O20: =IF(D20="remota de precisión",1,0) -> 0
A21: MEXICALI | B21: DPTO. DE ARQUITECTURA TECNOLOGICA | C21: Edificio Poder Ejecutivo, sotano, Calzada Independencia 944, Centro Cívico, Mexicali, B.C. (sotano) | D21: Remota de Precisión | E21: 15 | H21: INV-353616 | I21: 84765Y10105838 | J21: 15 | K21: =IF(D21="minisplit",1,0) -> 0 | L21: =IF(D21="remota",1,0) -> 0 | M21: =IF(D21="paquete",1,0) -> 0 | N21: =IF(D21="ventana",1,0) -> 0 | O21: =IF(D21="remota de precisión",1,0) -> 1
A22: MEXICALI | B22: DOTO. DE ARQUITECTURA TECNOLOGICA | C22: Edificio Poder Ejecutivo, sotano, Calzada Independencia 944, Centro Cívico, Mexicali, B.C. (sotano) | D22: minisplit | E22: 5 | H22: M3-011687 | I22: MDC611080300016 | J22: 5 | K22: =IF(D22="minisplit",1,0) -> 1 | L22: =IF(D22="remota",1,0) -> 0 | M22: =IF(D22="paquete",1,0) -> 0 | N22: =IF(D22="ventana",1,0) -> 0 | O22: =IF(D22="remota de precisión",1,0) -> 0
A23: Tijuana | B23: DIRECCION AUDITORIA COMERCIO EXTERIOR TIJUANA | C23: CENTRO DE GOBIERNO, EDIFICIO SAT BC, PLANTA ALTA, KM 26.5 CARRETERA TIJUANA -TECATE S/N COL. FIDEICOMISO EL FLORIDO CP. 22234 | D23: paquete | E23: 5 | H23: INV-365083 | K23: =IF(D23="minisplit",1,0) -> 0 | L23: =IF(D23="remota",1,0) -> 0 | M23: =IF(D23="paquete",1,0) -> 1 | N23: =IF(D23="ventana",1,0) -> 0 | O23: =IF(D23="remota de precisión",1,0) -> 0
A24: Ensenada | B24: DEPARTAMENTO DE AUDITORÍA FISCAL DE ENSENADA | C24: CARRETERA TRANSPENINSULAR LA PAZ - ENSENADA #6500 2do. PISO, EX. EJIDO CHAPULTEPEC CP. 22785 | D24: Remota | E24: 2 | G24: Trane | H24: INV-283677 | I24: S15065L825F | J24: 2 | K24: =IF(D24="minisplit",1,0) -> 0 | L24: =IF(D24="remota",1,0) -> 1 | M24: =IF(D24="paquete",1,0) -> 0 | N24: =IF(D24="ventana",1,0) -> 0 | O24: =IF(D24="remota de precisión",1,0) -> 0
A25: Ensenada | B25: DEPARTAMENTO DE AUDITORÍA FISCAL DE ENSENADA | C25: CARRETERA TRANSPENINSULAR LA PAZ - ENSENADA #6500 2do. PISO, EX. EJIDO CHAPULTEPEC CP. 22785 | D25: Remota | E25: 3 | G25: Trane | H25: INV-283678 | I25: S16244YXM5F | J25: 3 | K25: =IF(D25="minisplit",1,0) -> 0 | L25: =IF(D25="remota",1,0) -> 1 | M25: =IF(D25="paquete",1,0) -> 0 | N25: =IF(D25="ventana",1,0) -> 0 | O25: =IF(D25="remota de precisión",1,0) -> 0
A26: Ensenada | B26: DEPARTAMENTO DE AUDITORÍA FISCAL DE ENSENADA | C26: CARRETERA TRANSPENINSULAR LA PAZ - ENSENADA #6500 2do. PISO, EX. EJIDO CHAPULTEPEC CP. 22785 | D26: Remota | E26: 5 | G26: Trane | H26: INV-283679 | I26: S111915D52F | J26: 5 | K26: =IF(D26="minisplit",1,0) -> 0 | L26: =IF(D26="remota",1,0) -> 1 | M26: =IF(D26="paquete",1,0) -> 0 | N26: =IF(D26="ventana",1,0) -> 0 | O26: =IF(D26="remota de precisión",1,0) -> 0
A27: MEXICALI | B27: DEPTO. DE SERVICIOS Y OPERACIONES | C27: Edificio Poder Ejecutivo, sotano, Calzada Independencia 944, Centro Cívico, Mexicali, B.C. | D27: minisplit | E27: 5 | G27: Mirage | H27: M3-011686 | I27: MDC611080300006 | J27: 5 | K27: =IF(D27="minisplit",1,0) -> 1 | L27: =IF(D27="remota",1,0) -> 0 | M27: =IF(D27="paquete",1,0) -> 0 | N27: =IF(D27="ventana",1,0) -> 0 | O27: =IF(D27="remota de precisión",1,0) -> 0
A28: MEXICALI | B28: DEPARTAMENTO DE SOPORTE | C28: Edificio Poder Ejecutivo, sotano, Calzada Independencia 944, Centro Cívico, Mexicali, B.C. | D28: paquete | E28: 5 | G28: Trane | H28: INV-295748 | I28: 163015083L | J28: 5 | K28: =IF(D28="minisplit",1,0) -> 0 | L28: =IF(D28="remota",1,0) -> 0 | M28: =IF(D28="paquete",1,0) -> 1 | N28: =IF(D28="ventana",1,0) -> 0 | O28: =IF(D28="remota de precisión",1,0) -> 0
A29: MEXICALI | B29: DEPARTAMENTO DE SOPORTE | C29: Edificio Poder Ejecutivo, sotano, Calzada Independencia 944, Centro Cívico, Mexicali, B.C. | D29: paquete | E29: 5 | G29: Trane | H29: INV-295749 | I29: 172110994L | J29: 5 | K29: =IF(D29="minisplit",1,0) -> 0 | L29: =IF(D29="remota",1,0) -> 0 | M29: =IF(D29="paquete",1,0) -> 1 | N29: =IF(D29="ventana",1,0) -> 0 | O29: =IF(D29="remota de precisión",1,0) -> 0
A30: MEXICALI | B30: DEPARTAMENTO DE SOPORTE | C30: Edificio Poder Ejecutivo, sotano, Calzada Independencia 944, Centro Cívico, Mexicali, B.C. | D30: paquete | E30: 10 | G30: York | H30: M1-097525 | I30: 7600F180806999 | J30: 10 | K30: =IF(D30="minisplit",1,0) -> 0 | L30: =IF(D30="remota",1,0) -> 0 | M30: =IF(D30="paquete",1,0) -> 1 | N30: =IF(D30="ventana",1,0) -> 0 | O30: =IF(D30="remota de precisión",1,0) -> 0
A31: MEXICALI | B31: DEPARTAMENTO DE SOPORTE | C31: Edificio Poder Ejecutivo, sotano, Calzada Independencia 944, Centro Cívico, Mexicali, B.C. | D31: paquete | E31: 10 | G31: York | H31: M1-097526 | I31: 7600F180806995 | J31: 10 | K31: =IF(D31="minisplit",1,0) -> 0 | L31: =IF(D31="remota",1,0) -> 0 | M31: =IF(D31="paquete",1,0) -> 1 | N31: =IF(D31="ventana",1,0) -> 0 | O31: =IF(D31="remota de precisión",1,0) -> 0
A32: MEXICALI | B32: DEPARTAMENTO DE SOPORTE | C32: Edificio Poder Ejecutivo, sotano, Calzada Independencia 944, Centro Cívico, Mexicali, B.C. | D32: paquete | E32: 10 | G32: York | H32: M1-097527 | I32: 7600F180806998 | J32: 10 | K32: =IF(D32="minisplit",1,0) -> 0 | L32: =IF(D32="remota",1,0) -> 0 | M32: =IF(D32="paquete",1,0) -> 1 | N32: =IF(D32="ventana",1,0) -> 0 | O32: =IF(D32="remota de precisión",1,0) -> 0
A33: MEXICALI | B33: DEPARTAMENTO DE SOPORTE | C33: Edificio Poder Ejecutivo, sotano, Calzada Independencia 944, Centro Cívico, Mexicali, B.C. | D33: paquete | E33: 5 | G33: Carrier | H33: M3-009888 | I33: 1902G30145 | J33: 5 | K33: =IF(D33="minisplit",1,0) -> 0 | L33: =IF(D33="remota",1,0) -> 0 | M33: =IF(D33="paquete",1,0) -> 1 | N33: =IF(D33="ventana",1,0) -> 0 | O33: =IF(D33="remota de precisión",1,0) -> 0
A34: MEXICALI | B34: DEPARTAMENTO DE SOPORTE | C34: Edificio Poder Ejecutivo, sotano, Calzada Independencia 944, Centro Cívico, Mexicali, B.C. | D34: minisplit | E34: 2 | F34: MODELO 50TFF005A511 | H34: T3-005466 | K34: =IF(D34="minisplit",1,0) -> 1 | L34: =IF(D34="remota",1,0) -> 0 | M34: =IF(D34="paquete",1,0) -> 0 | N34: =IF(D34="ventana",1,0) -> 0 | O34: =IF(D34="remota de precisión",1,0) -> 0
A35: MEXICALI | B35: CENTRO DE CAPACITACIÓN DE ESTUDIOS FISCALES Y FINANZAS PÚBLICAS | C35: Calzada Milton Castellanos # 1573 Conjunto Urbano Caliss C.P. 21010 | D35: paquete | E35: 5 | F35: 4TCC3060A1000A | G35: Trane | H35: M1-124471 | I35: 103911306L | J35: 5 | K35: =IF(D35="minisplit",1,0) -> 0 | L35: =IF(D35="remota",1,0) -> 0 | M35: =IF(D35="paquete",1,0) -> 1 | N35: =IF(D35="ventana",1,0) -> 0 | O35: =IF(D35="remota de precisión",1,0) -> 0
A36: MEXICALI | B36: CENTRO DE CAPACITACIÓN DE ESTUDIOS FISCALES Y FINANZAS PÚBLICAS | C36: Calzada Milton Castellanos # 1573 Conjunto Urbano Caliss C.P. 21011 | D36: paquete | E36: 5 | F36: 4TCC3060A1000A | G36: Trane | H36: M1-124472 | I36: 103811888L | J36: 5 | K36: =IF(D36="minisplit",1,0) -> 0 | L36: =IF(D36="remota",1,0) -> 0 | M36: =IF(D36="paquete",1,0) -> 1 | N36: =IF(D36="ventana",1,0) -> 0 | O36: =IF(D36="remota de precisión",1,0) -> 0
A37: MEXICALI | B37: CENTRO DE CAPACITACIÓN DE ESTUDIOS FISCALES Y FINANZAS PÚBLICAS | C37: Calzada Milton Castellanos # 1573 Conjunto Urbano Caliss C.P. 21012 | D37: paquete | E37: 5 | F37: 4TCC3060A1000A | G37: Trane | H37: M1-124473 | I37: 103812355L | J37: 5 | K37: =IF(D37="minisplit",1,0) -> 0 | L37: =IF(D37="remota",1,0) -> 0 | M37: =IF(D37="paquete",1,0) -> 1 | N37: =IF(D37="ventana",1,0) -> 0 | O37: =IF(D37="remota de precisión",1,0) -> 0
A38: Mexicali | B38: CENTRO DE CAPACITACIÓN DE ESTUDIOS FISCALES Y FINANZAS PÚBLICAS | C38: Calzada Milton Castellanos # 1573 Conjunto Urbano Caliss C.P. 21013 | D38: paquete | E38: 5 | F38: 4TCC3060A1000A | G38: Trane | H38: M1-124474 | I38: 104510846L | J38: 5 | K38: =IF(D38="minisplit",1,0) -> 0 | L38: =IF(D38="remota",1,0) -> 0 | M38: =IF(D38="paquete",1,0) -> 1 | N38: =IF(D38="ventana",1,0) -> 0 | O38: =IF(D38="remota de precisión",1,0) -> 0
A39: Ensenada | B39: COORD. CENCAFI ENSENADA | C39: CARRETERA TRANSPENINSULAR LA PAZ - ENSENADA #6500 EX. EJIDO CHAPULTEPEC CP. 22785 | D39: minisplit | E39: 2 | G39: Trane | H39: E3-006488 | J39: 2 | K39: =IF(D39="minisplit",1,0) -> 1 | L39: =IF(D39="remota",1,0) -> 0 | M39: =IF(D39="paquete",1,0) -> 0 | N39: =IF(D39="ventana",1,0) -> 0 | O39: =IF(D39="remota de precisión",1,0) -> 0
A40: Ensenada | B40: COORD. CENCAFI ENSENADA | C40: CARRETERA TRANSPENINSULAR LA PAZ - ENSENADA #6500 EX. EJIDO CHAPULTEPEC CP. 22785 | D40: minisplit | E40: 2 | G40: Trane | H40: E3-006489 | J40: 2 | K40: =IF(D40="minisplit",1,0) -> 1 | L40: =IF(D40="remota",1,0) -> 0 | M40: =IF(D40="paquete",1,0) -> 0 | N40: =IF(D40="ventana",1,0) -> 0 | O40: =IF(D40="remota de precisión",1,0) -> 0
A41: Ensenada | B41: COORD. CENCAFI ENSENADA | C41: CARRETERA TRANSPENINSULAR LA PAZ - ENSENADA #6500 EX. EJIDO CHAPULTEPEC CP. 22786 | D41: minisplit | E41: 5 | F41: MCW518K10RAB | G41: Trane | H41: T3-005084 | K41: =IF(D41="minisplit",1,0) -> 1 | L41: =IF(D41="remota",1,0) -> 0 | M41: =IF(D41="paquete",1,0) -> 0 | N41: =IF(D41="ventana",1,0) -> 0 | O41: =IF(D41="remota de precisión",1,0) -> 0
A42: Ensenada | B42: COORD. CENCAFI ENSENADA | C42: CARRETERA TRANSPENINSULAR LA PAZ - ENSENADA #6500 EX. EJIDO CHAPULTEPEC CP. 22787 | D42: minisplit | E42: 5 | F42: MCW518K10RAB | G42: Trane | H42: T3-005087 | I42: 3514960010117 | K42: =IF(D42="minisplit",1,0) -> 1 | L42: =IF(D42="remota",1,0) -> 0 | M42: =IF(D42="paquete",1,0) -> 0 | N42: =IF(D42="ventana",1,0) -> 0 | O42: =IF(D42="remota de precisión",1,0) -> 0
A43: Mexicali | B43: DIRECCIÓN DE INVERSIÓN PÚBLICA | C43: Calzada Independencia y calle Hector Torres Sangines 2do piso | D43: minisplit | E43: 2 | G43: Mirage | H43: E3-006490 | J43: 2 | K43: =IF(D43="minisplit",1,0) -> 1 | L43: =IF(D43="remota",1,0) -> 0 | M43: =IF(D43="paquete",1,0) -> 0 | N43: =IF(D43="ventana",1,0) -> 0 | O43: =IF(D43="remota de precisión",1,0) -> 0
A44: Mexicali | B44: DIRECCIÓN DE INVERSIÓN PÚBLICA | C44: Calzada Independencia y calle Hector Torres Sangines 2do piso | D44: minisplit | E44: 1.5 | F44: manejadora condensadora | G44: Midea | H44: INV-229512 INV-229513 | I44: 12056650413415120037 12056650813330150683 | J44: 1.5 | K44: =IF(D44="minisplit",1,0) -> 1 | L44: =IF(D44="remota",1,0) -> 0 | M44: =IF(D44="paquete",1,0) -> 0 | N44: =IF(D44="ventana",1,0) -> 0 | O44: =IF(D44="remota de precisión",1,0) -> 0
A45: Mexicali | B45: DIRECCIÓN DE INVERSIÓN PÚBLICA | C45: Calzada Independencia y calle Hector Torres Sangines 2do piso | D45: minisplit | E45: 1.5 | F45: manejadora condensadora | G45: Midea | H45: INV-229514 INV-229515 | I45: 12056651213401150886 12056650613327130584 | J45: 1.5 | K45: =IF(D45="minisplit",1,0) -> 1 | L45: =IF(D45="remota",1,0) -> 0 | M45: =IF(D45="paquete",1,0) -> 0 | N45: =IF(D45="ventana",1,0) -> 0 | O45: =IF(D45="remota de precisión",1,0) -> 0
A46: Mexicali | B46: DIRECCIÓN DE INVERSIÓN PÚBLICA | C46: Calzada Independencia y calle Hector Torres Sangines 2do piso | D46: minisplit | E46: 2 | F46: manejadora condensadora | G46: Mirage | H46: INV-279516 INV-279517 | I46: CHF261P9061600507 CHF261P9061600687 | J46: 2 | K46: =IF(D46="minisplit",1,0) -> 1 | L46: =IF(D46="remota",1,0) -> 0 | M46: =IF(D46="paquete",1,0) -> 0 | N46: =IF(D46="ventana",1,0) -> 0 | O46: =IF(D46="remota de precisión",1,0) -> 0
A47: Mexicali | B47: DIRECCIÓN DE INVERSIÓN PÚBLICA | C47: Calzada Independencia y calle Hector Torres Sangines 2do piso | D47: paquete | E47: 15 | G47: Trane | H47: INV-283680 | I47: 15151051JA | J47: 15 | K47: =IF(D47="minisplit",1,0) -> 0 | L47: =IF(D47="remota",1,0) -> 0 | M47: =IF(D47="paquete",1,0) -> 1 | N47: =IF(D47="ventana",1,0) -> 0 | O47: =IF(D47="remota de precisión",1,0) -> 0
A48: Mexicali | B48: DIRECCIÓN DE INVERSIÓN PÚBLICA | C48: Calzada Independencia y calle Hector Torres Sangines 2do piso | D48: minisplit | E48: 1 | G48: Mirage | H48: T3-005382 | J48: 1 | K48: =IF(D48="minisplit",1,0) -> 1 | L48: =IF(D48="remota",1,0) -> 0 | M48: =IF(D48="paquete",1,0) -> 0 | N48: =IF(D48="ventana",1,0) -> 0 | O48: =IF(D48="remota de precisión",1,0) -> 0
A49: Mexicali | B49: RECAUDACIÓN DE RENTAS MEXICALI | C49: Edificio Poder Ejecutivo, .1er Piso, Calzada Independencia 944, Centro Cívico, Mexicali, B.C. | D49: minisplit | E49: 5 | F49: manejadora condensadora | G49: Trane | H49: INV-243834 INV-243835 | I49: 16064UAU5F 15475RDE2V | J49: 5 | K49: =IF(D49="minisplit",1,0) -> 1 | L49: =IF(D49="remota",1,0) -> 0 | M49: =IF(D49="paquete",1,0) -> 0 | N49: =IF(D49="ventana",1,0) -> 0 | O49: =IF(D49="remota de precisión",1,0) -> 0
A50: Mexicali | B50: RECAUDACIÓN DE RENTAS MEXICALI | C50: Edificio Poder Ejecutivo, .1er Piso, Calzada Independencia 944, Centro Cívico, Mexicali, B.C. | D50: paquete | E50: 5 | H50: INV-295626 | I50: P7F170400298 | J50: 5 | K50: =IF(D50="minisplit",1,0) -> 0 | L50: =IF(D50="remota",1,0) -> 0 | M50: =IF(D50="paquete",1,0) -> 1 | N50: =IF(D50="ventana",1,0) -> 0 | O50: =IF(D50="remota de precisión",1,0) -> 0
A51: Mexicali | B51: RECAUDACIÓN DE RENTAS MEXICALI | C51: Edificio Poder Ejecutivo, .1er Piso, Calzada Independencia 944, Centro Cívico, Mexicali, B.C. | D51: minisplit | E51: 2 | H51: INV-361794 | I51: 3534170002386 | J51: 2 | K51: =IF(D51="minisplit",1,0) -> 1 | L51: =IF(D51="remota",1,0) -> 0 | M51: =IF(D51="paquete",1,0) -> 0 | N51: =IF(D51="ventana",1,0) -> 0 | O51: =IF(D51="remota de precisión",1,0) -> 0
A52: Mexicali | B52: RECAUDACIÓN DE RENTAS MEXICALI | C52: Edificio Poder Ejecutivo, .1er Piso, Calzada Independencia 944, Centro Cívico, Mexicali, B.C. | D52: minisplit | E52: 2 | G52: LG | H52: INV-362352 | I52: 2009101004129 | J52: 2 | K52: =IF(D52="minisplit",1,0) -> 1 | L52: =IF(D52="remota",1,0) -> 0 | M52: =IF(D52="paquete",1,0) -> 0 | N52: =IF(D52="ventana",1,0) -> 0 | O52: =IF(D52="remota de precisión",1,0) -> 0
A53: SAN FELIPE | B53: SUBRECAUDACIÓN AUXILIAR DE RENTAS SAN FELIPE | C53: Mar Caribe # 616 Segunda seccion, San Felipe B.C. | D53: minisplit | E53: 1 | F53: manejadora condensadora | G53: Mirage | H53: INV-386189 | I53: CJF120T7021903472 X2018T02421C01 | J53: 1 | K53: =IF(D53="minisplit",1,0) -> 1 | L53: =IF(D53="remota",1,0) -> 0 | M53: =IF(D53="paquete",1,0) -> 0 | N53: =IF(D53="ventana",1,0) -> 0 | O53: =IF(D53="remota de precisión",1,0) -> 0
A54: Mexicali | B54: RECAUDACIÓN DE RENTAS MEXICALI | C54: Edificio Poder Ejecutivo, .1er Piso, Calzada Independencia 944, Centro Cívico, Mexicali, B.C. | D54: Remota | E54: 3 | H54: INV-407697 | I54: 5800J38648 | J54: 3 | K54: =IF(D54="minisplit",1,0) -> 0 | L54: =IF(D54="remota",1,0) -> 1 | M54: =IF(D54="paquete",1,0) -> 0 | N54: =IF(D54="ventana",1,0) -> 0 | O54: =IF(D54="remota de precisión",1,0) -> 0
A55: Ensenada | B55: S.P.F. REC. DE RENTAS EDA | C55: CARRETERA TRANSPENINSULAR LA PAZ - ENSENADA #6500 EX. EJIDO CHAPULTEPEC CP. 22785 | D55: paquete | E55: 5 | F55: TWG036A140C1 | G55: Trane | H55: E3-003885 | I55: 7063XYB6V | K55: =IF(D55="minisplit",1,0) -> 0 | L55: =IF(D55="remota",1,0) -> 0 | M55: =IF(D55="paquete",1,0) -> 1 | N55: =IF(D55="ventana",1,0) -> 0 | O55: =IF(D55="remota de precisión",1,0) -> 0
A56: Ensenada | B56: S.P.F. REC. DE RENTAS EDA | C56: CARRETERA TRANSPENINSULAR LA PAZ - ENSENADA #6500 EX. EJIDO CHAPULTEPEC CP. 22785 | D56: paquete | E56: 5 | F56: TWG025A140C1 | G56: Trane | H56: E3-003887 | I56: 6373P76B | K56: =IF(D56="minisplit",1,0) -> 0 | L56: =IF(D56="remota",1,0) -> 0 | M56: =IF(D56="paquete",1,0) -> 1 | N56: =IF(D56="ventana",1,0) -> 0 | O56: =IF(D56="remota de precisión",1,0) -> 0
A57: Ensenada | B57: S.P.F. REC. DE RENTAS EDA | C57: CARRETERA TRANSPENINSULAR LA PAZ - ENSENADA #6500 EX. EJIDO CHAPULTEPEC CP. 22785 | D57: paquete | E57: 5 | F57: TWG036A140C1 | G57: Trane | H57: E3-003888 | I57: 7061KBD6V | K57: =IF(D57="minisplit",1,0) -> 0 | L57: =IF(D57="remota",1,0) -> 0 | M57: =IF(D57="paquete",1,0) -> 1 | N57: =IF(D57="ventana",1,0) -> 0 | O57: =IF(D57="remota de precisión",1,0) -> 0
A58: Ensenada | B58: RECAUDACIÓN DE RENTAS ENSENADA | C58: CARRETERA TRANSPENINSULAR LA PAZ - ENSENADA #6500 EX. EJIDO CHAPULTEPEC CP. 22785 | D58: minisplit | E58: 2 | F58: manejadora condensadora | G58: Trane | H58: INV-308867 INV-308871 | I58: 3C46370013220 3E1670002435 | J58: 2 | K58: =IF(D58="minisplit",1,0) -> 1 | L58: =IF(D58="remota",1,0) -> 0 | M58: =IF(D58="paquete",1,0) -> 0 | N58: =IF(D58="ventana",1,0) -> 0 | O58: =IF(D58="remota de precisión",1,0) -> 0
A59: Tecate | B59: RECAUDACIÓN DE RENTAS TECATE | C59: MISION SAN FRANCISCO S/N | D59: minisplit | E59: 2 | F59: manejadora condensadora | G59: Mirage | H59: INV-250806 INV-250807 | I59: 12056651313405150550 11440780212421130170 | J59: 2 | K59: =IF(D59="minisplit",1,0) -> 1 | L59: =IF(D59="remota",1,0) -> 0 | M59: =IF(D59="paquete",1,0) -> 0 | N59: =IF(D59="ventana",1,0) -> 0 | O59: =IF(D59="remota de precisión",1,0) -> 0
A60: Tecate | B60: RECAUDACIÓN DE RENTAS TECATE | C60: MISION SAN FRANCISCO S/N | D60: minisplit | E60: 2 | G60: Trane | H60: INV-264160 | I60: 3A79460000904 | J60: 2 | K60: =IF(D60="minisplit",1,0) -> 1 | L60: =IF(D60="remota",1,0) -> 0 | M60: =IF(D60="paquete",1,0) -> 0 | N60: =IF(D60="ventana",1,0) -> 0 | O60: =IF(D60="remota de precisión",1,0) -> 0
A61: Tecate | B61: RECAUDACIÓN DE RENTAS TECATE | C61: MISION SAN FRANCISCO S/N | D61: minisplit | E61: 15 | F61: manejadora condensadora | G61: Trane | H61: INV-296711 INV-296712 | I61: 17123R1DTA 17173MS3WA | J61: 15 | K61: =IF(D61="minisplit",1,0) -> 1 | L61: =IF(D61="remota",1,0) -> 0 | M61: =IF(D61="paquete",1,0) -> 0 | N61: =IF(D61="ventana",1,0) -> 0 | O61: =IF(D61="remota de precisión",1,0) -> 0
A62: SAN FELIPE | B62: SUBRECAUDACIÓN AUXILIAR DE RENTAS SAN FELIPE | C62: Mar Caribe # 616 Segunda seccion, San Felipe B.C. | D62: minisplit | E62: 1.5 | F62: manejadora condensadora | G62: Trane | H62: INV-308869 INV-308873 | I62: 3C46570008759 3E30970000394 | J62: 1.5 | K62: =IF(D62="minisplit",1,0) -> 1 | L62: =IF(D62="remota",1,0) -> 0 | M62: =IF(D62="paquete",1,0) -> 0 | N62: =IF(D62="ventana",1,0) -> 0 | O62: =IF(D62="remota de precisión",1,0) -> 0
A63: SAN FELIPE | B63: SUBRECAUDACIÓN AUXILIAR DE RENTAS SAN FELIPE | C63: Mar Caribe # 616 Segunda seccion, San Felipe B.C. | D63: paquete | E63: 5 | G63: Rheem | H63: M1-097508 | I63: 7600F180807002 | J63: 5 | K63: =IF(D63="minisplit",1,0) -> 0 | L63: =IF(D63="remota",1,0) -> 0 | M63: =IF(D63="paquete",1,0) -> 1 | N63: =IF(D63="ventana",1,0) -> 0 | O63: =IF(D63="remota de precisión",1,0) -> 0
A64: Guadalupe Victoria | B64: SUBRECAUDACIÓN AUXILIAR DE RENTAS GUADALUPE VICTORIA | C64: AV.HIGALGOY CALLE 8, GUADALUPE VICTORIA | D64: paquete | E64: 5 | G64: Rheem | H64: INV-207202 | I64: 7586W101328734 | J64: 5 | K64: =IF(D64="minisplit",1,0) -> 0 | L64: =IF(D64="remota",1,0) -> 0 | M64: =IF(D64="paquete",1,0) -> 1 | N64: =IF(D64="ventana",1,0) -> 0 | O64: =IF(D64="remota de precisión",1,0) -> 0
A65: Guadalupe Victoria | B65: SUBRECAUDACIÓN AUXILIAR DE RENTAS GUADALUPE VICTORIA | C65: AV.HIGALGOY CALLE 8, GUADALUPE VICTORIA | D65: paquete | E65: 5 | G65: Rheem | H65: INV-207203 | I65: 7586W181224347 | J65: 5 | K65: =IF(D65="minisplit",1,0) -> 0 | L65: =IF(D65="remota",1,0) -> 0 | M65: =IF(D65="paquete",1,0) -> 1 | N65: =IF(D65="ventana",1,0) -> 0 | O65: =IF(D65="remota de precisión",1,0) -> 0
A66: Guadalupe Victoria | B66: SUBRECAUDACIÓN AUXILIAR DE RENTAS GUADALUPE VICTORIA | C66: AV.HIGALGOY CALLE 8, GUADALUPE VICTORIA | D66: paquete | E66: 4 | G66: York | H66: INV-362578 | I66: NCHM031244 | J66: 4 | K66: =IF(D66="minisplit",1,0) -> 0 | L66: =IF(D66="remota",1,0) -> 0 | M66: =IF(D66="paquete",1,0) -> 1 | N66: =IF(D66="ventana",1,0) -> 0 | O66: =IF(D66="remota de precisión",1,0) -> 0
A67: Ciudad Morelos | B67: SUBRECAUDACIÓN AUXILIAR DE RENTAS CIUDAD MORELOS | C67: AV. MORELOS Y LEYES DE REFORMA # 512 CIUDAD MORELOS | D67: paquete | E67: 5 | G67: Rheem | H67: INV-207200 | I67: 7586W101328765 | J67: 5 | K67: =IF(D67="minisplit",1,0) -> 0 | L67: =IF(D67="remota",1,0) -> 0 | M67: =IF(D67="paquete",1,0) -> 1 | N67: =IF(D67="ventana",1,0) -> 0 | O67: =IF(D67="remota de precisión",1,0) -> 0
A68: Ciudad Morelos | B68: SUBRECAUDACIÓN AUXILIAR DE RENTAS CIUDAD MORELOS | C68: AV. MORELOS Y LEYES DE REFORMA # 512 CIUDAD MORELOS | D68: paquete | E68: 5 | G68: Rheem | H68: INV-207201 | I68: 7586W101328754 | J68: 5 | K68: =IF(D68="minisplit",1,0) -> 0 | L68: =IF(D68="remota",1,0) -> 0 | M68: =IF(D68="paquete",1,0) -> 1 | N68: =IF(D68="ventana",1,0) -> 0 | O68: =IF(D68="remota de precisión",1,0) -> 0
A69: Ciudad Morelos | B69: SUBRECAUDACIÓN AUXILIAR DE RENTAS CIUDAD MORELOS | C69: AV. MORELOS Y LEYES DE REFORMA # 512 CIUDAD MORELOS | D69: minisplit | E69: 1 | F69: manejadora condensadora | G69: Midea | H69: INV-250808 INV-250809 | I69: 10025520415208150579 10025520315226120180 | J69: 1 | K69: =IF(D69="minisplit",1,0) -> 1 | L69: =IF(D69="remota",1,0) -> 0 | M69: =IF(D69="paquete",1,0) -> 0 | N69: =IF(D69="ventana",1,0) -> 0 | O69: =IF(D69="remota de precisión",1,0) -> 0
A70: Ciudad Morelos | B70: SUBRECAUDACIÓN AUXILIAR DE RENTAS CIUDAD MORELOS | C70: AV. MORELOS Y LEYES DE REFORMA # 512 CIUDAD MORELOS | D70: minisplit | E70: 2 | F70: manejadora | G70: Midea | H70: INV-250810 INV-250811 | I70: 12056651313405150560 12048930613327130184 | J70: 2 | K70: =IF(D70="minisplit",1,0) -> 1 | L70: =IF(D70="remota",1,0) -> 0 | M70: =IF(D70="paquete",1,0) -> 0 | N70: =IF(D70="ventana",1,0) -> 0 | O70: =IF(D70="remota de precisión",1,0) -> 0
A71: Ciudad Morelos | B71: SUBRECAUDACIÓN AUXILIAR DE RENTAS CIUDAD MORELOS | C71: AV. MORELOS Y LEYES DE REFORMA # 512 CIUDAD MORELOS | D71: minisplit | E71: 2 | F71: manejadora condensadora | G71: Midea | H71: INV-250812 INV-250813 | I71: 12056651313405150400 12048930613326130166 | J71: 2 | K71: =IF(D71="minisplit",1,0) -> 1 | L71: =IF(D71="remota",1,0) -> 0 | M71: =IF(D71="paquete",1,0) -> 0 | N71: =IF(D71="ventana",1,0) -> 0 | O71: =IF(D71="remota de precisión",1,0) -> 0
A72: Ciudad Morelos | B72: SUBRECAUDACIÓN AUXILIAR DE RENTAS CIUDAD MORELOS | C72: AV. MORELOS Y LEYES DE REFORMA # 512 CIUDAD MORELOS | D72: minisplit | E72: 1 | F72: manejadora condensadora | G72: Trane | H72: INV-308868 INV-308872 | I72: 3C48370018270 3E9147000863 | J72: 1 | K72: =IF(D72="minisplit",1,0) -> 1 | L72: =IF(D72="remota",1,0) -> 0 | M72: =IF(D72="paquete",1,0) -> 0 | N72: =IF(D72="ventana",1,0) -> 0 | O72: =IF(D72="remota de precisión",1,0) -> 0
A73: Rosarito | B73: RECAUDACIÓN DE RENTAS PLAYAS DE ROSARITO | C73: CALLE JOSE HAROZ # 2004 CENTRO DE GOBIERNO | D73: minisplit | E73: 2 | F73: manejadora condensadora | G73: Trane | H73: INV-308870 INV-308874 | I73: 3C41970013130 3E91670001060 | J73: 2 | K73: =IF(D73="minisplit",1,0) -> 1 | L73: =IF(D73="remota",1,0) -> 0 | M73: =IF(D73="paquete",1,0) -> 0 | N73: =IF(D73="ventana",1,0) -> 0 | O73: =IF(D73="remota de precisión",1,0) -> 0
A74: Mexicali | B74: UNIDAD DE INVERSIONES | C74: Edificio Poder Ejecutivo, 4to. Piso, Calzada Independencia 944, Centro Cívico, Mexicali, B.C. | D74: paquete | E74: 5 | H74: M3-012240 | I74: 51124E2H | J74: 5 | K74: =IF(D74="minisplit",1,0) -> 0 | L74: =IF(D74="remota",1,0) -> 0 | M74: =IF(D74="paquete",1,0) -> 1 | N74: =IF(D74="ventana",1,0) -> 0 | O74: =IF(D74="remota de precisión",1,0) -> 0
A75: Tijuana | B75: SUBRECAUDACIÓN AUXILIAR DE RENTAS TIJUANA | C75: VIA RAPIDA 12651 COL. 20 DE NOVIEMBRE, TIJUANA | D75: Ventana | E75: 1 | G75: Mirage | H75: INV-153543 | J75: 1 | K75: =IF(D75="minisplit",1,0) -> 0 | L75: =IF(D75="remota",1,0) -> 0 | M75: =IF(D75="paquete",1,0) -> 0 | N75: =IF(D75="ventana",1,0) -> 1 | O75: =IF(D75="remota de precisión",1,0) -> 0
A76: Tijuana | B76: SUBRECAUDACIÓN AUXILIAR DE RENTAS TIJUANA | C76: VIA RAPIDA 12651 COL. 20 DE NOVIEMBRE, TIJUANA | D76: minisplit | E76: 3 | H76: INV-153587 | I76: 50146PE5F | J76: 3 | K76: =IF(D76="minisplit",1,0) -> 1 | L76: =IF(D76="remota",1,0) -> 0 | M76: =IF(D76="paquete",1,0) -> 0 | N76: =IF(D76="ventana",1,0) -> 0 | O76: =IF(D76="remota de precisión",1,0) -> 0
A77: Tijuana | B77: SUBRECAUDACIÓN AUXILIAR DE RENTAS TIJUANA | C77: VIA RAPIDA 12651 COL. 20 DE NOVIEMBRE, TIJUANA | D77: Ventana | E77: 1 | G77: Mirage | H77: INV-153590 | I77: 406KAYR01538 | J77: 1 | K77: =IF(D77="minisplit",1,0) -> 0 | L77: =IF(D77="remota",1,0) -> 0 | M77: =IF(D77="paquete",1,0) -> 0 | N77: =IF(D77="ventana",1,0) -> 1 | O77: =IF(D77="remota de precisión",1,0) -> 0
A78: Tijuana | B78: SUBRECAUDACIÓN AUXILIAR DE RENTAS TIJUANA | C78: VIA RAPIDA 12651 COL. 20 DE NOVIEMBRE, TIJUANA | D78: paquete | E78: 12.5 | H78: INV-153599 | J78: 12.5 | K78: =IF(D78="minisplit",1,0) -> 0 | L78: =IF(D78="remota",1,0) -> 0 | M78: =IF(D78="paquete",1,0) -> 1 | N78: =IF(D78="ventana",1,0) -> 0 | O78: =IF(D78="remota de precisión",1,0) -> 0
A79: Tijuana | B79: SUBRECAUDACIÓN AUXILIAR DE RENTAS TIJUANA | C79: VIA RAPIDA 12651 COL. 20 DE NOVIEMBRE, TIJUANA | D79: paquete | E79: 12.5 | H79: INV-153600 | J79: 12.5 | K79: =IF(D79="minisplit",1,0) -> 0 | L79: =IF(D79="remota",1,0) -> 0 | M79: =IF(D79="paquete",1,0) -> 1 | N79: =IF(D79="ventana",1,0) -> 0 | O79: =IF(D79="remota de precisión",1,0) -> 0
A80: Tijuana | B80: SUBRECAUDACIÓN AUXILIAR DE RENTAS TIJUANA | C80: VIA RAPIDA 12651 COL. 20 DE NOVIEMBRE, TIJUANA | D80: paquete | E80: 12.5 | H80: INV-153601 | J80: 12.5 | K80: =IF(D80="minisplit",1,0) -> 0 | L80: =IF(D80="remota",1,0) -> 0 | M80: =IF(D80="paquete",1,0) -> 1 | N80: =IF(D80="ventana",1,0) -> 0 | O80: =IF(D80="remota de precisión",1,0) -> 0
A81: Tijuana | B81: SUBRECAUDACIÓN AUXILIAR DE RENTAS TIJUANA | C81: VIA RAPIDA 12651 COL. 20 DE NOVIEMBRE, TIJUANA | D81: Ventana | E81: 1 | H81: INV-296673 | I81: MACC122IL7031700405 | J81: 1 | K81: =IF(D81="minisplit",1,0) -> 0 | L81: =IF(D81="remota",1,0) -> 0 | M81: =IF(D81="paquete",1,0) -> 0 | N81: =IF(D81="ventana",1,0) -> 1 | O81: =IF(D81="remota de precisión",1,0) -> 0
A82: Tijuana | B82: SUBRECAUDACIÓN AUXILIAR DE RENTAS TIJUANA | C82: VIA RAPIDA 12651 COL. 20 DE NOVIEMBRE, TIJUANA | D82: paquete | E82: 4 | G82: Trane | H82: INV-367474 | I82: DK7LSD011000281 | J82: 4 | K82: =IF(D82="minisplit",1,0) -> 0 | L82: =IF(D82="remota",1,0) -> 0 | M82: =IF(D82="paquete",1,0) -> 1 | N82: =IF(D82="ventana",1,0) -> 0 | O82: =IF(D82="remota de precisión",1,0) -> 0
A83: Tijuana | B83: SUBRECAUDACIÓN AUXILIAR DE RENTAS TIJUANA | C83: VIA RAPIDA 12651 COL. 20 DE NOVIEMBRE, TIJUANA | D83: minisplit | E83: 2.5 | F83: 50TFF006511 | H83: T3-005465 | K83: =IF(D83="minisplit",1,0) -> 1 | L83: =IF(D83="remota",1,0) -> 0 | M83: =IF(D83="paquete",1,0) -> 0 | N83: =IF(D83="ventana",1,0) -> 0 | O83: =IF(D83="remota de precisión",1,0) -> 0
A84: Mexicali | B84: COORDINACIÓN DE ASISTENCIA AL CONTRIBUYENTE | C84: Edificio Poder Ejecutivo, .1er Piso, Calzada Independencia 944, Centro Cívico, Mexicali, B.C. | D84: minisplit | E84: 1 | H84: INV-365085 | K84: =IF(D84="minisplit",1,0) -> 1 | L84: =IF(D84="remota",1,0) -> 0 | M84: =IF(D84="paquete",1,0) -> 0 | N84: =IF(D84="ventana",1,0) -> 0 | O84: =IF(D84="remota de precisión",1,0) -> 0
A85: Tijuana | B85: SUBRECAUDACIÓN AUXILIAR DE RENTAS TIJUANA | C85: VIA RAPIDA 12651 COL. 20 DE NOVIEMBRE, TIJUANA | D85: Ventana | E85: 2 | H85: INV-153527 | J85: 2 | K85: =IF(D85="minisplit",1,0) -> 0 | L85: =IF(D85="remota",1,0) -> 0 | M85: =IF(D85="paquete",1,0) -> 0 | N85: =IF(D85="ventana",1,0) -> 1 | O85: =IF(D85="remota de precisión",1,0) -> 0
A86: Tijuana | B86: SUBRECAUDACIÓN AUXILIAR DE RENTAS TIJUANA | C86: VIA RAPIDA 12651 COL. 20 DE NOVIEMBRE, TIJUANA | D86: Ventana | E86: 1 | H86: INV-296672 | J86: 1 | K86: =IF(D86="minisplit",1,0) -> 0 | L86: =IF(D86="remota",1,0) -> 0 | M86: =IF(D86="paquete",1,0) -> 0 | N86: =IF(D86="ventana",1,0) -> 1 | O86: =IF(D86="remota de precisión",1,0) -> 0
A87: Mexicali | B87: SUBSECRETARÍA DE TECNOLOGÍAS DE INFORMACIÓN Y COMUNICACIONES Y SISTEMAS INSTITUCIONALES. | C87: Edificio Poder Ejecutivo, sotano, Calzada Independencia 944, Centro Cívico, Mexicali, B.C. | D87: minisplit | E87: 3 | F87: manejadora condensadora | G87: Trane | H87: INV-336794 INV-336795 | I87: 3C61370004620 3C61270004609 | J87: 3 | K87: =IF(D87="minisplit",1,0) -> 1 | L87: =IF(D87="remota",1,0) -> 0 | M87: =IF(D87="paquete",1,0) -> 0 | N87: =IF(D87="ventana",1,0) -> 0 | O87: =IF(D87="remota de precisión",1,0) -> 0
A88: Tijuana | B88: DEPARTAMENTO DE INFORMÁTICA ZONA COSTA | C88: Av. Vía Rápida Pte. Diego Rivera & Zona Urbana Rio Tijuana, 22010. | D88: minisplit | E88: 2 | G88: Gree | H88: 3INV-394794 | I88: 3C4691W001652 | J88: 2 | K88: =IF(D88="minisplit",1,0) -> 1 | L88: =IF(D88="remota",1,0) -> 0 | M88: =IF(D88="paquete",1,0) -> 0 | N88: =IF(D88="ventana",1,0) -> 0 | O88: =IF(D88="remota de precisión",1,0) -> 0
A89: Tijuana | B89: DEPARTAMENTO DE INFORMÁTICA ZONA COSTA | C89: Av. Vía Rápida Pte. Diego Rivera & Zona Urbana Rio Tijuana, 22010. | D89: Remota | E89: 4 | H89: E3-003789 | I89: 8171R9F6V | J89: 4 | K89: =IF(D89="minisplit",1,0) -> 0 | L89: =IF(D89="remota",1,0) -> 1 | M89: =IF(D89="paquete",1,0) -> 0 | N89: =IF(D89="ventana",1,0) -> 0 | O89: =IF(D89="remota de precisión",1,0) -> 0
A90: Tijuana | B90: SUBRECAUDACIÓN AUXILIAR DE RENTAS TIJUANA | C90: VIA RAPIDA 12651 COL. 20 DE NOVIEMBRE, TIJUANA | D90: Remota | E90: 3 | H90: INV-153585 | I90: 50146RF5F | J90: 3 | K90: =IF(D90="minisplit",1,0) -> 0 | L90: =IF(D90="remota",1,0) -> 1 | M90: =IF(D90="paquete",1,0) -> 0 | N90: =IF(D90="ventana",1,0) -> 0 | O90: =IF(D90="remota de precisión",1,0) -> 0
A91: Tijuana | B91: DEPARTAMENTO DE INFORMÁTICA ZONA COSTA | C91: Av. Vía Rápida Pte. Diego Rivera & Zona Urbana Rio Tijuana, 22010. | D91: minisplit | E91: 2 | F91: manejadora condensadora | G91: Trane | H91: INV-259102 INV-259103 | I91: 3A746000024 3B14050001323 | J91: 2 | K91: =IF(D91="minisplit",1,0) -> 1 | L91: =IF(D91="remota",1,0) -> 0 | M91: =IF(D91="paquete",1,0) -> 0 | N91: =IF(D91="ventana",1,0) -> 0 | O91: =IF(D91="remota de precisión",1,0) -> 0
A92: Tijuana | B92: DEPARTAMENTO DE INFORMÁTICA ZONA COSTA | C92: Av. Vía Rápida Pte. Diego Rivera & Zona Urbana Rio Tijuana, 22010. | D92: minisplit | E92: 2 | F92: manejadora condensadora | G92: Trane | H92: INV-309249 INV-309252 | I92: 3C46970007878 3E91670003267 | J92: 2 | K92: =IF(D92="minisplit",1,0) -> 1 | L92: =IF(D92="remota",1,0) -> 0 | M92: =IF(D92="paquete",1,0) -> 0 | N92: =IF(D92="ventana",1,0) -> 0 | O92: =IF(D92="remota de precisión",1,0) -> 0
A93: Tijuana | B93: DEPARTAMENTO DE INFORMÁTICA ZONA COSTA | C93: Av. Vía Rápida Pte. Diego Rivera & Zona Urbana Rio Tijuana, 22010. | D93: paquete | E93: 4 | G93: LG | H93: INV-359011 | J93: 4 | K93: =IF(D93="minisplit",1,0) -> 0 | L93: =IF(D93="remota",1,0) -> 0 | M93: =IF(D93="paquete",1,0) -> 1 | N93: =IF(D93="ventana",1,0) -> 0 | O93: =IF(D93="remota de precisión",1,0) -> 0
A94: Tijuana | B94: DEPARTAMENTO DE INFORMÁTICA ZONA COSTA | C94: Av. Vía Rápida Pte. Diego Rivera & Zona Urbana Rio Tijuana, 22010. | D94: minisplit | E94: 2 | H94: INV-394795 | J94: 2 | K94: =IF(D94="minisplit",1,0) -> 1 | L94: =IF(D94="remota",1,0) -> 0 | M94: =IF(D94="paquete",1,0) -> 0 | N94: =IF(D94="ventana",1,0) -> 0 | O94: =IF(D94="remota de precisión",1,0) -> 0
A95: Tijuana | B95: DEPARTAMENTO DE INFORMÁTICA ZONA COSTA | C95: Av. Vía Rápida Pte. Diego Rivera & Zona Urbana Rio Tijuana, 22010. | D95: Remota de Precisión | E95: 15 | F95: manejadora condensadora | G95: Compu-Aire | H95: INV-394796 INV-394797 | I95: 10239SY21081202C 10239SY21081202 | J95: 15 | K95: =IF(D95="minisplit",1,0) -> 0 | L95: =IF(D95="remota",1,0) -> 0 | M95: =IF(D95="paquete",1,0) -> 0 | N95: =IF(D95="ventana",1,0) -> 0 | O95: =IF(D95="remota de precisión",1,0) -> 1
A96: Ensenada | B96: DEPTO. DE INFORMATICA ENSENADA | C96: CARRETERA TRANSPENINSULAR LA PAZ - ENSENADA #6500 EX. EJIDO CHAPULTEPEC CP. 22785 | D96: Remota | E96: 3 | F96: 4TTR3036H100A | G96: Trane | H96: INV-423454 | I96: 21421EAJ3F | J96: 3 | K96: =IF(D96="minisplit",1,0) -> 0 | L96: =IF(D96="remota",1,0) -> 1 | M96: =IF(D96="paquete",1,0) -> 0 | N96: =IF(D96="ventana",1,0) -> 0 | O96: =IF(D96="remota de precisión",1,0) -> 0
A97: Mexicali | B97: DEPARTAMENTO DE DESARROLLO DE SOFTWARE | C97: Edificio Poder Ejecutivo, sotano, Calzada Independencia 944, Centro Cívico, Mexicali, B.C. | D97: minisplit | E97: 3 | F97: manejadora condensadora | G97: Trane | H97: INV-248882 INV-248883 | I97: 3A74640000710 3A74640002307 | J97: 3 | K97: =IF(D97="minisplit",1,0) -> 1 | L97: =IF(D97="remota",1,0) -> 0 | M97: =IF(D97="paquete",1,0) -> 0 | N97: =IF(D97="ventana",1,0) -> 0 | O97: =IF(D97="remota de precisión",1,0) -> 0
A98: Mexicali | B98: DEPARTAMENTO DE DESARROLLO DE SOFTWARE | C98: Edificio Poder Ejecutivo, sotano, Calzada Independencia 944, Centro Cívico, Mexicali, B.C. | D98: minisplit | E98: 2 | G98: Trane | H98: INV-264158 | I98: 3A79460000885 | J98: 2 | K98: =IF(D98="minisplit",1,0) -> 1 | L98: =IF(D98="remota",1,0) -> 0 | M98: =IF(D98="paquete",1,0) -> 0 | N98: =IF(D98="ventana",1,0) -> 0 | O98: =IF(D98="remota de precisión",1,0) -> 0
E101: =+COUNTA(A3:A98) -> 96 | F101: EQUIPOS | J101: =SUBTOTAL(109,J85:J98) -> 48 | K101: =SUBTOTAL(109,K3:K98) -> 50 | L101: =SUBTOTAL(109,L3:L98) -> 8 | M101: =SUBTOTAL(109,M3:M98) -> 31 | N101: =SUBTOTAL(109,N3:N98) -> 5 | O101: =SUBTOTAL(109,O3:O98) -> 2
E102: =+SUM(E3:E98) -> 375 | F102: TONELADAS
I103: Total | J103: =SUM(J101:M101) -> 137 | K103: =SUM(K101:O101) -> 96

Sheet SEI
A1: MUNICIPIO | B1: UNIDAD ADMINISTRATIVA | C1: DIRECCIÓN-UBICACIÓN | D1: TIPO DE EQUIPO | E1: CAP.TONELADAS | F1: MODELO | G1: MARCA | H1: INVENTARIO | I1: NO. DE SERIE | J1: Minisplit | K1: Remota | L1: Paquete | M1: Ventana
A2: TECATE | B2: DIRECCION DE SECTORES Y CADENAS PRODUCTIVAS | C2: CALLEJON LIBERTAD, PRIMERA, TECATE, B.C., C.P. 21400 | D2: MINISPLIT | E2: 1 | F2: NA | G2: FRIKKO | H2: INV-265691 | I2: NA | J2: =IF(D2="minisplit",1,0) -> 1 | K2: =IF(D2="remota",1,0) -> 0 | L2: =IF(D2="paquete",1,0) -> 0 | M2: =IF(D2="ventana",1,0) -> 0
A3: TECATE | B3: DIRECCION DE SECTORES Y CADENAS PRODUCTIVAS | C3: CALLEJON LIBERTAD, PRIMERA, TECATE, B.C., C.P. 21400 | D3: MINISPLIT | E3: 1 | F3: NA | G3: FRIKKO | H3: INV-265692 | I3: NA | J3: =IF(D3="minisplit",1,0) -> 1 | K3: =IF(D3="remota",1,0) -> 0 | L3: =IF(D3="paquete",1,0) -> 0 | M3: =IF(D3="ventana",1,0) -> 0
A4: TIJUANA | B4: DIRECCION DE PROMOCION DE LA INVERSION E INTEGRACION PRODUCTIVA | C4: CARRETERA LIBRE TIJUANA-TECATE KM 126.4, EL FLORIDO, TIJUANA, B.C. C.P. 22253 | D4: MINISPLIT | E4: 1 | F4: LIFE12 | G4: MIRAGE | H4: INV-264963 | I4: NA | J4: =IF(D4="minisplit",1,0) -> 1 | K4: =IF(D4="remota",1,0) -> 0 | L4: =IF(D4="paquete",1,0) -> 0 | M4: =IF(D4="ventana",1,0) -> 0
A5: MEXICALI | B5: DIRECCION DE INDUSTRIAS CREATIVAS | C5: CALZADA DE LOS PRESIDENTES, COLONIA ZONA INDUSTRIAL, MEXICALI, B.C., C.P. 21150 | D5: MINISPLIT | E5: 2 | F5: NEX | G5: MIRAGE | H5: INV-423804 | I5: CLF261T7012200800 | J5: =IF(D5="minisplit",1,0) -> 1 | K5: =IF(D5="remota",1,0) -> 0 | L5: =IF(D5="paquete",1,0) -> 0 | M5: =IF(D5="ventana",1,0) -> 0
A6: MEXICALI | B6: DIRECCION DE INDUSTRIAS CREATIVAS | C6: CALZADA DE LOS PRESIDENTES, COLONIA ZONA INDUSTRIAL, MEXICALI, B.C., C.P. 21150 | D6: MINISPLIT | E6: 2 | F6: NEX | G6: MIRAGE | H6: INV-423805 | I6: CLF261T7012200654 | J6: =IF(D6="minisplit",1,0) -> 1 | K6: =IF(D6="remota",1,0) -> 0 | L6: =IF(D6="paquete",1,0) -> 0 | M6: =IF(D6="ventana",1,0) -> 0
A7: ENSENADA | B7: DIRECCION DE ADMINISTRACION | C7: CARRETERA TRANSPENINSULAR ENSENADA-LA PAZ 6500, EXEJIDO CHAPULTEPEC | D7: REMOTA | E7: 5 | F7: NA | G7: ALASKA REFRIGERACIÓN | H7: INV-359156 | I7: 9195WJ94F | J7: =IF(D7="minisplit",1,0) -> 0 | K7: =IF(D7="remota",1,0) -> 1 | L7: =IF(D7="paquete",1,0) -> 0 | M7: =IF(D7="ventana",1,0) -> 0
A8: ENSENADA | B8: DIRECCION DE ADMINISTRACION | C8: CARRETERA TRANSPENINSULAR ENSENADA-LA PAZ 6500, EXEJIDO CHAPULTEPEC | D8: REMOTA | E8: 5 | F8: NA | G8: ALASKA REFRIGERACIÓN | H8: INV-359155 | I8: 9195WKK4F | J8: =IF(D8="minisplit",1,0) -> 0 | K8: =IF(D8="remota",1,0) -> 1 | L8: =IF(D8="paquete",1,0) -> 0 | M8: =IF(D8="ventana",1,0) -> 0
A9: MEXICALI | B9: DIRECCION DE ADMINISTRACION | C9: CALZADA INDEPENDENCIA, #994, CENTRO CIVICO, MEXICALI, B.C., C.P. 21000 | D9: MINISPLIT | E9: 1 | F9: NA | G9: REFRIMEX | H9: INV-248991 | I9: 3B39440010672 | J9: =IF(D9="minisplit",1,0) -> 1 | K9: =IF(D9="remota",1,0) -> 0 | L9: =IF(D9="paquete",1,0) -> 0 | M9: =IF(D9="ventana",1,0) -> 0
A10: MEXICALI | B10: DIRECCION DE ADMINISTRACION | C10: CALZADA INDEPENDENCIA, #994, CENTRO CIVICO, MEXICALI, B.C., C.P. 21001 | D10: MINISPLIT | E10: 1 | F10: NA | G10: REFRIMEX | H10: INV-248988 | I10: 3A62040001095 | J10: =IF(D10="minisplit",1,0) -> 1 | K10: =IF(D10="remota",1,0) -> 0 | L10: =IF(D10="paquete",1,0) -> 0 | M10: =IF(D10="ventana",1,0) -> 0
A11: MEXICALI | B11: DIRECCION DE ADMINISTRACION | C11: CALZADA INDEPENDENCIA, #994, CENTRO CIVICO, MEXICALI, B.C., C.P. 21000 | D11: REMOTA | E11: 1.5 | F11: 2mww0524a1aa | G11: TRANE | H11: N/A | I11: N/A | J11: =IF(D11="minisplit",1,0) -> 0 | K11: =IF(D11="remota",1,0) -> 1 | L11: =IF(D11="paquete",1,0) -> 0 | M11: =IF(D11="ventana",1,0) -> 0
A12: TIJUANA | B12: DIRECCION DE ADMINISTRACION | C12: CARRETERA LIBRE TIJUANA-TECATE KM 126.4, EL FLORIDO, TIJUANA, B.C. C.P. 22253 | D12: REMOTA | E12: 5 | F12: H1RA 030S25G | G12: YORK | H12: T3-003634 | I12: NA | J12: =IF(D12="minisplit",1,0) -> 0 | K12: =IF(D12="remota",1,0) -> 1 | L12: =IF(D12="paquete",1,0) -> 0 | M12: =IF(D12="ventana",1,0) -> 0
A13: TIJUANA | B13: DIRECCION DE ADMINISTRACION | C13: CARRETERA LIBRE TIJUANA-TECATE KM 126.4, EL FLORIDO, TIJUANA, B.C. C.P. 22253 | D13: REMOTA | E13: 5 | F13: H1RA 030S25G | G13: YORK | H13: T3-003635 | I13: NA | J13: =IF(D13="minisplit",1,0) -> 0 | K13: =IF(D13="remota",1,0) -> 1 | L13: =IF(D13="paquete",1,0) -> 0 | M13: =IF(D13="ventana",1,0) -> 0
... A15: TIJUANA | B15: DIRECCION DE ADMINISTRACION | C15: CARRETERA LIBRE TIJUANA-TECATE KM 126.4, EL FLORIDO, TIJUANA, B.C. C.P. 22253 | D15: REMOTA | E15: 5 | F15: H1RA 030S25G | G15: YORK | H15: T3-003637 | I15: NA | J15: =IF(D15="minisplit",1,0) -> 0 | K15: =IF(D15="remota",1,0) -> 1 | L15: =IF(D15="paquete",1,0) -> 0 | M15: =IF(D15="ventana",1,0) -> 0
E18: =+COUNTA(A2:A15) -> 14 | F18: EQUIPOS | J18: =SUBTOTAL(109,J2:J15) -> 7 | K18: =SUBTOTAL(109,K2:K15) -> 7 | L18: =SUBTOTAL(109,L2:L15) -> 0 | M18: =SUBTOTAL(109,M2:M15) -> 0
E19: =+SUM(E2:E15) -> 40.5 | F19: TONELADAS
I20: Total | J20: =SUM(J18:M18) -> 14

Sheet SGG
A2: MUNICIPIO | B2: UNIDAD ADMINISTRATIVA | C2: DIRECCIÓN-UBICACIÓN | D2: TIPO DE EQUIPO | E2: CAP.TONELADAS | F2: MODELO | G2: MARCA | H2: INVENTARIO | I2: NO. DE SERIE | J2: CAP.TON. Reportada | K2: Minisplit | L2: Remota | M2: Paquete | N2: Ventana
A3: MEXICALI | B3: ADMINISTRACION | C3: PASAJE SAN MIGUEL #1090, CENTRO CIVICO | D3: MINISPLIT | E3: 1 | G3: TRANE | H3: INV-386549 INV-366550 | I3: 191277Z54712XHP0153 X2021T01220H0240 | J3: 1 | K3: =IF(D3="MINISPLIT",1,0) -> 1 | L3: =IF(D3="remota",1,0) -> 0 | M3: =IF(D3="paquete",1,0) -> 0 | N3: =IF(D3="ventana",1,0) -> 0
A4: MEXICALI | B4: ADMINISTRACION | C4: PASAJE SAN MIGUEL #1090, CENTRO CIVICO | D4: MINISPLIT | E4: 1 | G4: WESTINGHOUSE | H4: M1-135818 | I4: IWW091200516 | J4: 1 | K4: =IF(D4="MINISPLIT",1,0) -> 1 | L4: =IF(D4="remota",1,0) -> 0 | M4: =IF(D4="paquete",1,0) -> 0 | N4: =IF(D4="ventana",1,0) -> 0
A5: MEXICALI | B5: ADMINISTRACION | C5: PASAJE SAN MIGUEL #1090, CENTRO CIVICO | D5: MINISPLIT | E5: 2 | G5: MIRAGE | H5: INV-423582 INV-423583 | I5: 0F387880222270120335 0F387880222270120327 | J5: 2 | K5: =IF(D5="MINISPLIT",1,0) -> 1 | L5: =IF(D5="remota",1,0) -> 0 | M5: =IF(D5="paquete",1,0) -> 0 | N5: =IF(D5="ventana",1,0) -> 0
A6: MEXICALI | B6: ADMINISTRACION | C6: PASAJE SAN MIGUEL #1090, CENTRO CIVICO | D6: PAQUETE | E6: 5 | F6: GPH146H41 | G6: B-AIR | H6: INV-257554 | I6: 1605229795 | J6: 5 | K6: =IF(D6="MINISPLIT",1,0) -> 0 | L6: =IF(D6="remota",1,0) -> 0 | M6: =IF(D6="paquete",1,0) -> 1 | N6: =IF(D6="ventana",1,0) -> 0
A7: MEXICALI | B7: ADMINISTRACION | C7: PASAJE SAN MIGUEL #1090, CENTRO CIVICO | D7: PAQUETE | E7: 5 | F7: GPC136H41 | G7: B-AIR | H7: INV-279799 | I7: 1605090985 | J7: 5 | K7: =IF(D7="MINISPLIT",1,0) -> 0 | L7: =IF(D7="remota",1,0) -> 0 | M7: =IF(D7="paquete",1,0) -> 1 | N7: =IF(D7="ventana",1,0) -> 0
A8: MEXICALI | B8: ADMINISTRACION | C8: PASAJE SAN MIGUEL #1090, CENTRO CIVICO | D8: PAQUETE | E8: 5 | G8: B-AIR | H8: INV-261569 | I8: 1607062942 | J8: 5 | K8: =IF(D8="MINISPLIT",1,0) -> 0 | L8: =IF(D8="remota",1,0) -> 0 | M8: =IF(D8="paquete",1,0) -> 1 | N8: =IF(D8="ventana",1,0) -> 0
A9: MEXICALI | B9: ADMINISTRACION | C9: PASAJE SAN MIGUEL #1090, CENTRO CIVICO | D9: PAQUETE | E9: 5 | G9: B-AIR | H9: INV-261570 | I9: 1607062935 | J9: 5 | K9: =IF(D9="MINISPLIT",1,0) -> 0 | L9: =IF(D9="remota",1,0) -> 0 | M9: =IF(D9="paquete",1,0) -> 1 | N9: =IF(D9="ventana",1,0) -> 0
A10: MEXICALI | B10: ADMINISTRACION | C10: PASAJE SAN MIGUEL #1090, CENTRO CIVICO | D10: PAQUETE | E10: 5 | G10: B-AIR | H10: INV-261571 | I10: 1607032933 | J10: 5 | K10: =IF(D10="MINISPLIT",1,0) -> 0 | L10: =IF(D10="remota",1,0) -> 0 | M10: =IF(D10="paquete",1,0) -> 1 | N10: =IF(D10="ventana",1,0) -> 0
A11: MEXICALI | B11: ADMINISTRACION | C11: PASAJE SAN MIGUEL #1090, CENTRO CIVICO | D11: PAQUETE | E11: 5 | F11: GPC136H41 | H11: INV-279800 | I11: 1605113165 | J11: 5 | K11: =IF(D11="MINISPLIT",1,0) -> 0 | L11: =IF(D11="remota",1,0) -> 0 | M11: =IF(D11="paquete",1,0) -> 1 | N11: =IF(D11="ventana",1,0) -> 0
A12: MEXICALI | B12: PROTECCION CIVIL | C12: LAGOS WINIPEG 441, JARDINES DEL LAGO, MEXICALI, B.C. | D12: PAQUETE | E12: 5 | G12: B-AIR | H12: INV-261572 | I12: 1607032943 | J12: 5 | K12: =IF(D12="MINISPLIT",1,0) -> 0 | L12: =IF(D12="remota",1,0) -> 0 | M12: =IF(D12="paquete",1,0) -> 1 | N12: =IF(D12="ventana",1,0) -> 0
A13: MEXICALI | B13: PROTECCION CIVIL | C13: LAGOS WINIPEG 441, JARDINES DEL LAGO, MEXICALI, B.C. | D13: MINISPLIT | E13: 4 | F13: MSX4823 | G13: MIRAGE | H13: M3-010725 | I13: 301KA00162 | J13: 4 | K13: =IF(D13="MINISPLIT",1,0) -> 1 | L13: =IF(D13="remota",1,0) -> 0 | M13: =IF(D13="paquete",1,0) -> 0 | N13: =IF(D13="ventana",1,0) -> 0
A14: MEXICALI | B14: TALLERES GRAFICOS | C14: AV. MADERO #1981 ENTRE K Y L COL. NUEVA | D14: PAQUETE | E14: 5 | G14: RHEEM | H14: INV-193463 | I14: 7592W251314425 | J14: 5 | K14: =IF(D14="MINISPLIT",1,0) -> 0 | L14: =IF(D14="remota",1,0) -> 0 | M14: =IF(D14="paquete",1,0) -> 1 | N14: =IF(D14="ventana",1,0) -> 0
A15: MEXICALI | B15: TALLERES GRAFICOS | C15: AV. MADERO #1981 ENTRE K Y L COL. NUEVA | D15: PAQUETE | E15: 10 | F15: ZH120COOAZAAA4 | G15: YORK | H15: M1-097513 | I15: 7600F180806978 | J15: 10 | K15: =IF(D15="MINISPLIT",1,0) -> 0 | L15: =IF(D15="remota",1,0) -> 0 | M15: =IF(D15="paquete",1,0) -> 1 | N15: =IF(D15="ventana",1,0) -> 0
A16: MEXICALI | B16: TALLERES GRAFICOS | C16: AV. MADERO #1981 ENTRE K Y L COL. NUEVA | D16: PAQUETE | E16: 10 | F16: ZH120COOAZAAA4 | G16: YORK | H16: M1-097514 | I16: 7600F180806986 | J16: 10 | K16: =IF(D16="MINISPLIT",1,0) -> 0 | L16: =IF(D16="remota",1,0) -> 0 | M16: =IF(D16="paquete",1,0) -> 1 | N16: =IF(D16="ventana",1,0) -> 0
A17: MEXICALI | B17: TALLERES GRAFICOS | C17: AV. MADERO #1981 ENTRE K Y L COL. NUEVA | D17: PAQUETE | E17: 10 | F17: ZH120COOAZAAA4 | G17: YORK | H17: M1-097516 | I17: 7600F180806991 | J17: 10 | K17: =IF(D17="MINISPLIT",1,0) -> 0 | L17: =IF(D17="remota",1,0) -> 0 | M17: =IF(D17="paquete",1,0) -> 1 | N17: =IF(D17="ventana",1,0) -> 0
A18: MEXICALI | B18: TALLERES GRAFICOS | C18: AV. MADERO #1981 ENTRE K Y L COL. NUEVA | D18: PAQUETE | E18: 10 | F18: ZH120COOAZAAA4 | G18: YORK | H18: M1-097517 | I18: 7600F180806983 | J18: 10 | K18: =IF(D18="MINISPLIT",1,0) -> 0 | L18: =IF(D18="remota",1,0) -> 0 | M18: =IF(D18="paquete",1,0) -> 1 | N18: =IF(D18="ventana",1,0) -> 0
A19: MEXICALI | B19: TALLERES GRAFICOS | C19: AV. MADERO #1981 ENTRE K Y L COL. NUEVA | D19: PAQUETE | E19: 10 | F19: ZH120COOAZAAA4 | G19: YORK | H19: M1-097518 | I19: 7601F180806980 | J19: 10 | K19: =IF(D19="MINISPLIT",1,0) -> 0 | L19: =IF(D19="remota",1,0) -> 0 | M19: =IF(D19="paquete",1,0) -> 1 | N19: =IF(D19="ventana",1,0) -> 0
A20: SAN FELIPE | B20: SRIA. GENERAL SUBSECRETARIA | C20: MAR DE CORTEZ Y MANZANILLO S/N, ZONA CENTRO | D20: MINISPLIT | E20: 2 | F20: CXF261J | G20: MIRAGE | H20: INV-340546 INV-340549 | I20: CXF261J8051803586 EXF261J8051801141 | J20: 2 | K20: =IF(D20="MINISPLIT",1,0) -> 1 | L20: =IF(D20="remota",1,0) -> 0 | M20: =IF(D20="paquete",1,0) -> 0 | N20: =IF(D20="ventana",1,0) -> 0
A21: SAN FELIPE | B21: SRIA. GENERAL SUBSECRETARIA | C21: MAR DE CORTEZ Y MANZANILLO S/N, ZONA CENTRO | D21: MINISPLIT | E21: 2 | F21: CXF261J | G21: MIRAGE | H21: INV-340547 INV-340548 | I21: CXF261J8051801037 EXF261J8051800767 | J21: 2 | K21: =IF(D21="MINISPLIT",1,0) -> 1 | L21: =IF(D21="remota",1,0) -> 0 | M21: =IF(D21="paquete",1,0) -> 0 | N21: =IF(D21="ventana",1,0) -> 0
A22: MEXICALI | B22: DIRECCION DE ANALISIS POLITICO | C22: LOCAL 5C, PLAZA BAJA CALIFORNIA, CALZ. INDEPENDENCIA #473, 21000 | D22: PAQUETE | E22: 5 | G22: B-AIR/AMANA | H22: INV-310755 | I22: 1704046736 | J22: 5 | K22: =IF(D22="MINISPLIT",1,0) -> 0 | L22: =IF(D22="remota",1,0) -> 0 | M22: =IF(D22="paquete",1,0) -> 1 | N22: =IF(D22="ventana",1,0) -> 0
A23: MEXICALI | B23: DEFENSORIA PUBLICA | C23: RIO NUEVO | D23: REMOTA | E23: 10 | F23: IN ROW RD 300MM AIR COOLED | G23: APC | H23: INV-148998 | I23: JK1230030174 | J23: 9.90KW | K23: =IF(D23="MINISPLIT",1,0) -> 0 | L23: =IF(D23="remota",1,0) -> 1 | M23: =IF(D23="paquete",1,0) -> 0 | N23: =IF(D23="ventana",1,0) -> 0
A24: MEXICALI | B24: ADMINISTRACION | C24: PASAJE SAN MIGUEL #1090, SOTANO SIN INSTALAR | D24: MINISPLIT | E24: 2 | G24: FRIKKO | H24: INV-427617 | I24: S-2021-64-OD-09-0003 | J24: 2 | K24: =IF(D24="MINISPLIT",1,0) -> 1 | L24: =IF(D24="remota",1,0) -> 0 | M24: =IF(D24="paquete",1,0) -> 0 | N24: =IF(D24="ventana",1,0) -> 0
A25: MEXICALI | B25: ADMINISTRACION | C25: PASAJE SAN MIGUEL #1090, SOTANO SIN INSTALAR | D25: MINISPLIT | E25: 2 | G25: FRIKKO | H25: INV-427618 | I25: S-2021-64-OD-09-0012 | J25: 2 | K25: =IF(D25="MINISPLIT",1,0) -> 1 | L25: =IF(D25="remota",1,0) -> 0 | M25: =IF(D25="paquete",1,0) -> 0 | N25: =IF(D25="ventana",1,0) -> 0
A26: MEXICALI | B26: ADMINISTRACION | C26: PASAJE SAN MIGUEL #1090, SOTANO SIN INSTALAR | D26: MINISPLIT | E26: 1 | G26: FRIKKO | H26: INV-427619 | I26: S-2021-47-OD-07-0511 | J26: 1 | K26: =IF(D26="MINISPLIT",1,0) -> 1 | L26: =IF(D26="remota",1,0) -> 0 | M26: =IF(D26="paquete",1,0) -> 0 | N26: =IF(D26="ventana",1,0) -> 0
A27: MEXICALI | B27: ADMINISTRACION | C27: PASAJE SAN MIGUEL #1090, SOTANO SIN INSTALAR | D27: MINISPLIT | E27: 1 | G27: FRIKKO | H27: INV-427620 | I27: S-2021-47-OD-07-0057 | J27: 1 | K27: =IF(D27="MINISPLIT",1,0) -> 1 | L27: =IF(D27="remota",1,0) -> 0 | M27: =IF(D27="paquete",1,0) -> 0 | N27: =IF(D27="ventana",1,0) -> 0
A28: MEXICALI | B28: ATENCION A VICTIMAS ORIENTE | C28: ANKERITA Y ORTOSA S/N, VALLE DEL PEDREGAL TURQUEZA | D28: MINISPLIT | E28: 1.5 | G28: TRANE | H28: INV-341032 INV-341033 | I28: 3C46580008681 3E90980000258 | J28: 1.5 | K28: =IF(D28="MINISPLIT",1,0) -> 1 | L28: =IF(D28="remota",1,0) -> 0 | M28: =IF(D28="paquete",1,0) -> 0 | N28: =IF(D28="ventana",1,0) -> 0
A29: TIJUANA | B29: PROTECCION CIVIL | C29: PANFILO NATERA 6400, FRANCISCO VILLA # 22615 | D29: PAQUETE | E29: 1 | G29: COLEMAN MACH | H29: M3-020919 | J29: 1 | K29: =IF(D29="MINISPLIT",1,0) -> 0 | L29: =IF(D29="remota",1,0) -> 0 | M29: =IF(D29="paquete",1,0) -> 1 | N29: =IF(D29="ventana",1,0) -> 0
A30: TIJUANA | B30: PROTECCION CIVIL | C30: PANFILO NATERA 6400, FRANCISCO VILLA # 22616 | D30: PAQUETE | E30: 1 | G30: COLEMAN MACH | H30: M3-020920 | J30: 1 | K30: =IF(D30="MINISPLIT",1,0) -> 0 | L30: =IF(D30="remota",1,0) -> 0 | M30: =IF(D30="paquete",1,0) -> 1 | N30: =IF(D30="ventana",1,0) -> 0
A31: TIJUANA | B31: PROTECCION CIVIL | C31: PANFILO NATERA 6400, FRANCISCO VILLA # 22617 | D31: PAQUETE | E31: 4 | H31: T3-002746 | I31: 9712400978 | J31: 4 | K31: =IF(D31="MINISPLIT",1,0) -> 0 | L31: =IF(D31="remota",1,0) -> 0 | M31: =IF(D31="paquete",1,0) -> 1 | N31: =IF(D31="ventana",1,0) -> 0
A32: TIJUANA | B32: PROTECCION CIVIL | C32: PANFILO NATERA 6400, FRANCISCO VILLA # 22618 | D32: PAQUETE | E32: 4 | H32: T3-002747 | I32: 9712400979 | J32: 4 | K32: =IF(D32="MINISPLIT",1,0) -> 0 | L32: =IF(D32="remota",1,0) -> 0 | M32: =IF(D32="paquete",1,0) -> 1 | N32: =IF(D32="ventana",1,0) -> 0
A33: TECATE | B33: DELEGACION | C33: CALLE MISIÓN SANTO DOMINGO 1016, OFICINAS DE GOBIERNO 2DO. PISO, FRACCIONAMIENTO EL DESCANSO, TECATE, 21478 | D33: MINISPLIT | E33: 2 | G33: B-AIR | H33: INV-261568 | I33: BAM241HMIC1601010084 | J33: 2 | K33: =IF(D33="MINISPLIT",1,0) -> 1 | L33: =IF(D33="remota",1,0) -> 0 | M33: =IF(D33="paquete",1,0) -> 0 | N33: =IF(D33="ventana",1,0) -> 0
A34: TECATE | B34: DELEGACION | C34: CALLE MISIÓN SANTO DOMINGO 1016, OFICINAS DE GOBIERNO 2DO. PISO, FRACCIONAMIENTO EL DESCANSO, TECATE, 21479 | D34: VENTANA | E34: 2 | F34: W212CM | G34: LG | H34: M3-013453 | I34: 604TAAC00064 | J34: 2 | K34: =IF(D34="MINISPLIT",1,0) -> 0 | L34: =IF(D34="remota",1,0) -> 0 | M34: =IF(D34="paquete",1,0) -> 0 | N34: =IF(D34="ventana",1,0) -> 1
A35: ENSENADA | B35: SUBSECRETARIA DE GOBIERNO | C35: CARRETERA TRANSPENINSULAR ENSENADA-LA PAZ 6500, CENTRO DE GOBIERNO 3ER. PISO, EX EJIDO CHAPULTEPEC, ENSENADA, 22785 | D35: MINISPLIT | E35: 2 | G35: MIRAGE | H35: E3-001054 | I35: 804500127 | J35: 2 | K35: =IF(D35="MINISPLIT",1,0) -> 1 | L35: =IF(D35="remota",1,0) -> 0 | M35: =IF(D35="paquete",1,0) -> 0 | N35: =IF(D35="ventana",1,0) -> 0
A36: ENSENADA | B36: SUBSECRETARIA DE GOBIERNO | C36: CARRETERA TRANSPENINSULAR ENSENADA-LA PAZ 6500, CENTRO DE GOBIERNO 3ER. PISO, EX EJIDO CHAPULTEPEC, ENSENADA, 22786 | D36: MINISPLIT | E36: 2 | F36: 2MCW0524E1000AA | G36: TRANE | H36: E3-004140 | I36: S/N | J36: 2 | K36: =IF(D36="MINISPLIT",1,0) -> 1 | L36: =IF(D36="remota",1,0) -> 0 | M36: =IF(D36="paquete",1,0) -> 0 | N36: =IF(D36="ventana",1,0) -> 0
A37: ENSENADA | B37: SUBSECRETARIA DE GOBIERNO | C37: CARRETERA TRANSPENINSULAR ENSENADA-LA PAZ 6500, CENTRO DE GOBIERNO 3ER. PISO, EX EJIDO CHAPULTEPEC, ENSENADA, 22787 | D37: MINISPLIT | E37: 2 | F37: 2MCW0524E1000AA | H37: E3-004141 | I37: S/N | J37: 2 | K37: =IF(D37="MINISPLIT",1,0) -> 1 | L37: =IF(D37="remota",1,0) -> 0 | M37: =IF(D37="paquete",1,0) -> 0 | N37: =IF(D37="ventana",1,0) -> 0
A38: SAN QUINTIN | B38: SUBSECRETARIA DE GOBIERNO | C38: CALLE A ENTRE LAS AVENIDAS 9 Y 10, CENTRO DE GOBIERNO, FRACCIONAMIENTO SAN QUINTÍN, SAN QUINTÍN, 22940 | D38: MINISPLIT | E38: 2 | G38: TRANE | H38: M1-112267 | I38: 3096990000010 | J38: 2 | K38: =IF(D38="MINISPLIT",1,0) -> 1 | L38: =IF(D38="remota",1,0) -> 0 | M38: =IF(D38="paquete",1,0) -> 0 | N38: =IF(D38="ventana",1,0) -> 0
A39: SAN QUINTIN | B39: SUBSECRETARIA DE GOBIERNO | C39: CALLE A ENTRE LAS AVENIDAS 9 Y 10, CENTRO DE GOBIERNO, FRACCIONAMIENTO SAN QUINTÍN, SAN QUINTÍN, 22941 | D39: REMOTA | E39: 2 | G39: TRANE | H39: M1-112268 | I39: 3101590002278 | J39: 2 | K39: =IF(D39="MINISPLIT",1,0) -> 0 | L39: =IF(D39="remota",1,0) -> 1 | M39: =IF(D39="paquete",1,0) -> 0 | N39: =IF(D39="ventana",1,0) -> 0
A40: SAN QUINTIN | B40: ATENCION A VICTIMAS | C40: CALLE 10 #131, CENTRO DE GOBIERNO, FRACCIONAMIENTO SAN QUINTÍN, SAN QUINTÍN, 22942 | D40: MINISPLIT | E40: 2 | F40: 2MCW0524G1000CA | G40: TRANE | H40: INV-295718 | I40: 3B14060003045 | J40: 2 | K40: =IF(D40="MINISPLIT",1,0) -> 1 | L40: =IF(D40="remota",1,0) -> 0 | M40: =IF(D40="paquete",1,0) -> 0 | N40: =IF(D40="ventana",1,0) -> 0
A41: SAN QUINTIN | B41: ATENCION A VICTIMAS | C41: CALLE 10 #131, CENTRO DE GOBIERNO, FRACCIONAMIENTO SAN QUINTÍN, SAN QUINTÍN, 22943 | D41: MINISPLIT | E41: 2 | F41: 2TTK0524G1L00CA | G41: TRANE | H41: INV-295733 | I41: 3A79470000818 | J41: 2 | K41: =IF(D41="MINISPLIT",1,0) -> 1 | L41: =IF(D41="remota",1,0) -> 0 | M41: =IF(D41="paquete",1,0) -> 0 | N41: =IF(D41="ventana",1,0) -> 0
E44: =+COUNTA(A3:A41) -> 39 | F44: EQUIPOS | K44: =SUBTOTAL(109,K3:K41) -> 18 | L44: =SUBTOTAL(109,L3:L41) -> 2 | M44: =SUBTOTAL(109,M3:M41) -> 18 | N44: =SUBTOTAL(109,N3:N41) -> 1
E45: =+SUM(E3:E41) -> 152.5 | F45: TONELADAS
J46: Total | K46: =SUM(K44:N44) -> 39

Sheet CJ
A2: MUNICIPIO | B2: UNIDAD ADMINISTRATIVA | C2: DIRECCIÓN-UBICACIÓN | D2: TIPO DE EQUIPO | E2: CAP.TONELADAS | F2: MODELO | G2: MARCA | H2: INVENTARIO | I2: NO. DE SERIE | J2: Minisplit | K2: Remota | L2: Paquete | M2: Ventana
A3: MEXICALI | B3: DEFENSORIA PUBLICA | C3: Calle Sur S/N, Col. Bella Vista | D3: PAQUETE | E3: 5 | J3: =IF(D3="minisplit",1,0) -> 0 | K3: =IF(D3="remota",1,0) -> 0 | L3: =IF(D3="paquete",1,0) -> 1 | M3: =IF(D3="ventana",1,0) -> 0
A4: MEXICALI | B4: DEFENSORIA PUBLICA | C4: Calzada Lázaro Cárdenas No. 501 Local 1, entre Calle Emiliano Zapata y Calle Álvaro Obregón. | D4: MINISPLIT | E4: 1 | J4: =IF(D4="minisplit",1,0) -> 1 | K4: =IF(D4="remota",1,0) -> 0 | L4: =IF(D4="paquete",1,0) -> 0 | M4: =IF(D4="ventana",1,0) -> 0
A5: MEXICALI | B5: DEFENSORIA PUBLICA | C5: Calle Segunda 699-10 Esquina con Av. De los Insurgentes | D5: MINISPLIT | E5: 1 | J5: =IF(D5="minisplit",1,0) -> 1 | K5: =IF(D5="remota",1,0) -> 0 | L5: =IF(D5="paquete",1,0) -> 0 | M5: =IF(D5="ventana",1,0) -> 0
A6: TIJUANA | B6: DEFENSORIA PUBLICA | C6: Plaza Mundo Divertido, Vía Rápida José Fimbres Moreno, Locales 41 y 43 | D6: MINISPLIT | E6: 2 | J6: =IF(D6="minisplit",1,0) -> 1 | K6: =IF(D6="remota",1,0) -> 0 | L6: =IF(D6="paquete",1,0) -> 0 | M6: =IF(D6="ventana",1,0) -> 0
A7: SAN FELIPE | B7: DEFENSORIA PUBLICA | C7: Mar de Cortés S/N | D7: MINISPLIT | E7: 1 | J7: =IF(D7="minisplit",1,0) -> 1 | K7: =IF(D7="remota",1,0) -> 0 | L7: =IF(D7="paquete",1,0) -> 0 | M7: =IF(D7="ventana",1,0) -> 0
E10: =+COUNTA(A3:A7) -> 5 | F10: EQUIPOS | J10: =SUBTOTAL(109,J3:J7) -> 4 | K10: =SUBTOTAL(109,K3:K7) -> 0 | L10: =SUBTOTAL(109,L3:L7) -> 1 | M10: =SUBTOTAL(109,M3:M7) -> 0
E11: =+SUM(E3:E7) -> 10 | F11: TONELADAS
I12: Total | J12: =SUM(J10:M10) -> 5

Sheet SAM
A2: MUNICIPIO | B2: UNIDAD ADMINISTRATIVA | C2: DIRECCIÓN-UBICACIÓN | D2: TIPO DE EQUIPO | E2: TIPO DE EQUIPO | F2: CAP.TONELADAS | G2: MODELO | H2: MARCA | I2: INVENTARIO | J2: NO. DE SERIE | K2: CAP.TON. REPORTE | L2: Minisplit | M2: Remota | N2: Paquete | O2: Ventana
A3: ENSENADA | B3: DIRECCIÓN DE RECURSOS NATURALES | C3: ACIONIDPE3PE | D3: N/E | E3: REMOTA | F3: 5 | G3: N/E | H3: N/E | I3: E3-003889 | K3: 5 | L3: =IF(E3="minisplit",1,0) -> 0 | M3: =IF(E3="remota",1,0) -> 1 | N3: =IF(E3="paquete",1,0) -> 0 | O3: =IF(E3="ventana",1,0) -> 0
A4: ENSENADA | B4: DEPARTAMENTO DE VIDA SILVESTRE | C4: ADORAIDHI1D5 | D4: REMOTA | E4: REMOTA | F4: 5 | G4: TEM4AC60S51SA | H4: TRANE | I4: E1-021090 E1-021093 | J4: 17374T3Y3V 17202KTH2F | K4: 5 | L4: =IF(E4="minisplit",1,0) -> 0 | M4: =IF(E4="remota",1,0) -> 1 | N4: =IF(E4="paquete",1,0) -> 0 | O4: =IF(E4="ventana",1,0) -> 0
A5: ENSENADA | B5: DEPARTAMENTO DE VIDA SILVESTRE | C5: ADORAIDHI1D5 | D5: REMOTA | E5: REMOTA | F5: 5 | G5: TEM4AC60S51SA | H5: TRANE | I5: E1-021091 E1-021094 | J5: 173733EM3V 172021Y52F | K5: 5 | L5: =IF(E5="minisplit",1,0) -> 0 | M5: =IF(E5="remota",1,0) -> 1 | N5: =IF(E5="paquete",1,0) -> 0 | O5: =IF(E5="ventana",1,0) -> 0
A6: ENSENADA | B6: DEPARTAMENTO DE VIDA SILVESTRE | C6: ADORAIDHI1D5 | D6: REMOTA | E6: REMOTA | F6: 5 | G6: TEM4AC60S51SA | H6: TRANE | I6: E1-021092 E1-021095 | J6: 173640P53V 1720282G2F | K6: N/E | L6: =IF(E6="minisplit",1,0) -> 0 | M6: =IF(E6="remota",1,0) -> 1 | N6: =IF(E6="paquete",1,0) -> 0 | O6: =IF(E6="ventana",1,0) -> 0
A7: MEXICALI | B7: DIRECCIÓN DE ADMINISTRACIÓN | C7: AGUNDEZ ACOSTA LEONARDO | D7: CONDENSADORA | E7: MINISPLIT | F7: 2 | G7: 2TTK0512G1P00AA | H7: N/E | I7: M1-138602 | J7: 3793510001085 | K7: 2 | L7: =IF(E7="minisplit",1,0) -> 1 | M7: =IF(E7="remota",1,0) -> 0 | N7: =IF(E7="paquete",1,0) -> 0 | O7: =IF(E7="ventana",1,0) -> 0
A8: TIJUANA | B8: DIRECCIÓN DE GESTIÓN AMBIENTAL | C8: ALMACEN 1 | D8: MINISPLIT | E8: MINISPLIT | F8: 2 | G8: N/E | H8: YORK | I8: M3-018049 | J8: 505602594100400992 | K8: NO ESPECIFICA | L8: =IF(E8="minisplit",1,0) -> 1 | M8: =IF(E8="remota",1,0) -> 0 | N8: =IF(E8="paquete",1,0) -> 0 | O8: =IF(E8="ventana",1,0) -> 0
A9: MEXICALI | B9: DIRECCIÓN DE ADMINISTRACIÓN | C9: ANDRADE RODRIGUEZ ROXANA LIZBETH | D9: CONDENSADORA | E9: MINISPLIT | F9: 2 | G9: 2MCW0512G1000AA | H9: N/E | I9: M1-138603 | J9: 3793510001164 | K9: 4 | L9: =IF(E9="minisplit",1,0) -> 1 | M9: =IF(E9="remota",1,0) -> 0 | N9: =IF(E9="paquete",1,0) -> 0 | O9: =IF(E9="ventana",1,0) -> 0
A10: TIJUANA | B10: DIRECCIÓN DE ADMINISTRACIÓN | C10: AREA GRAVIMETRIA | D10: MINISPLIT | E10: MINISPLIT | F10: 1 | G10: N/E | H10: YORK | J10: 50520201706100556 | K10: 5 | L10: =IF(E10="minisplit",1,0) -> 1 | M10: =IF(E10="remota",1,0) -> 0 | N10: =IF(E10="paquete",1,0) -> 0 | O10: =IF(E10="ventana",1,0) -> 0
A11: MEXICALI | B11: DIRECCIÓN DE GESTIÓN AMBIENTAL | C11: CATENED | D11: CONDENSADORA | E11: MINISPLIT | F11: 2 | G11: N/E | H11: YORK | I11: INV-154885 | J11: 100002454120200616 | K11: 5 | L11: =IF(E11="minisplit",1,0) -> 1 | M11: =IF(E11="remota",1,0) -> 0 | N11: =IF(E11="paquete",1,0) -> 0 | O11: =IF(E11="ventana",1,0) -> 0
A12: MEXICALI | B12: DIRECCIÓN DE GESTIÓN AMBIENTAL | C12: CATENED | D12: MANEJADORA | E12: REMOTA | F12: 5 | G12: N/E | H12: YORK | I12: INV-154886 | J12: 100001662120200227 | K12: 3 | L12: =IF(E12="minisplit",1,0) -> 0 | M12: =IF(E12="remota",1,0) -> 1 | N12: =IF(E12="paquete",1,0) -> 0 | O12: =IF(E12="ventana",1,0) -> 0
A13: MEXICALI | B13: DIRECCIÓN DE GESTIÓN AMBIENTAL | C13: CATENED | D13: REFRIGERACION | E13: MINISPLIT | F13: 1 | G13: MACC1221L | H13: MIRAGE | I13: INV-309066 | J13: 7051701377 | K13: 3 | L13: =IF(E13="minisplit",1,0) -> 1 | M13: =IF(E13="remota",1,0) -> 0 | N13: =IF(E13="paquete",1,0) -> 0 | O13: =IF(E13="ventana",1,0) -> 0
A14: MEXICALI | B14: DIRECCIÓN DE GESTIÓN AMBIENTAL | C14: CATENED | D14: MINISPLIT | E14: MINISPLIT | F14: 2 | G14: 4TTK0524H1L00AA 4MCW0524H1000AA | H14: TRANE | I14: INV-309067 INV-309068 | J14: 3C46970008084 3E91670001148 | K14: N/E | L14: =IF(E14="minisplit",1,0) -> 1 | M14: =IF(E14="remota",1,0) -> 0 | N14: =IF(E14="paquete",1,0) -> 0 | O14: =IF(E14="ventana",1,0) -> 0
A15: MEXICALI | B15: DIRECCIÓN DE ADMINISTRACIÓN | C15: COMEDOR MXL | D15: CONDENSADORA | E15: MINISPLIT | F15: 2 | G15: 2MCW0512G1000AA | H15: N/E | I15: M1-138601 | J15: 3793500002936 | K15: N/E | L15: =IF(E15="minisplit",1,0) -> 1 | M15: =IF(E15="remota",1,0) -> 0 | N15: =IF(E15="paquete",1,0) -> 0 | O15: =IF(E15="ventana",1,0) -> 0
A16: TIJUANA | B16: DIRECCIÓN DE ADMINISTRACIÓN | C16: DIDCE1IA | D16: MINISPLIT | E16: MINISPLIT | F16: 2 | G16: N/E | H16: TRANE | I16: M1-138609 | J16: 3708610004233 | K16: 2 | L16: =IF(E16="minisplit",1,0) -> 1 | M16: =IF(E16="remota",1,0) -> 0 | N16: =IF(E16="paquete",1,0) -> 0 | O16: =IF(E16="ventana",1,0) -> 0
A17: TIJUANA | B17: DIRECCIÓN DE ADMINISTRACIÓN | C17: DIDCE1IA | D17: MINISPLIT | E17: MINISPLIT | F17: 1 | G17: N/E | H17: TRANE | I17: M1-138610 | J17: 3267010005343 | K17: 2 | L17: =IF(E17="minisplit",1,0) -> 1 | M17: =IF(E17="remota",1,0) -> 0 | N17: =IF(E17="paquete",1,0) -> 0 | O17: =IF(E17="ventana",1,0) -> 0
A18: MEXICALI | B18: DIRECCIÓN DE ADMINISTRACIÓN | C18: ESPINO CANALES BLANCA ESTELA | D18: MINISPLIT | E18: MINISPLIT | F18: 1 | G18: N/E | H18: YORK | I18: M1-118943 | J18: 505202017060100549 | K18: N/E | L18: =IF(E18="minisplit",1,0) -> 1 | M18: =IF(E18="remota",1,0) -> 0 | N18: =IF(E18="paquete",1,0) -> 0 | O18: =IF(E18="ventana",1,0) -> 0
A19: MEXICALI | B19: DEPARTAMENTO DE CALIDAD DE AIRE | C19: ESTACION CESPM | D19: MINISPLIT | E19: MINISPLIT | F19: 1 | G19: N/E | H19: N/E | I19: M1-138615 M1-138617 | J19: 2121253 2151580 | K19: N/E | L19: =IF(E19="minisplit",1,0) -> 1 | M19: =IF(E19="remota",1,0) -> 0 | N19: =IF(E19="paquete",1,0) -> 0 | O19: =IF(E19="ventana",1,0) -> 0
A20: TIJUANA | C20: ESTACION COBACH | D20: CONDENSADORA | E20: MINISPLIT | F20: 2 | G20: N/E | H20: N/E | I20: INV-229690 | J20: 7151850 | K20: N/E | L20: =IF(E20="minisplit",1,0) -> 1 | M20: =IF(E20="remota",1,0) -> 0 | N20: =IF(E20="paquete",1,0) -> 0 | O20: =IF(E20="ventana",1,0) -> 0
A21: TIJUANA | C21: ESTACION COBACH | D21: CONDENSADORA | E21: MINISPLIT | F21: 2 | G21: N/E | H21: N/E | I21: INV-229692 | J21: 9150249 | K21: N/E | L21: =IF(E21="minisplit",1,0) -> 1 | M21: =IF(E21="remota",1,0) -> 0 | N21: =IF(E21="paquete",1,0) -> 0 | O21: =IF(E21="ventana",1,0) -> 0
A22: MEXICALI | B22: DEPARTAMENTO DE CALIDAD DE AIRE | C22: ESTACION COBACH | D22: MINISPLIT | E22: MINISPLIT | F22: 2 | G22: 4TTK0524H1L00AA | H22: TRANE | I22: M1-138619 M1-138621 | J22: 3C46970007977 3E91670001069 | K22: N/E | L22: =IF(E22="minisplit",1,0) -> 1 | M22: =IF(E22="remota",1,0) -> 0 | N22: =IF(E22="paquete",1,0) -> 0 | O22: =IF(E22="ventana",1,0) -> 0
A23: ENSENADA | B23: DEPARTAMENTO DE CALIDAD DE AIRE | C23: ESTACION ENSENADA | D23: MINISPLIT | E23: MINISPLIT | F23: 1 | G23: N/E | H23: N/E | I23: INV-229708 INV-229709 | J23: 2150607 5120055 | K23: N/E | L23: =IF(E23="minisplit",1,0) -> 1 | M23: =IF(E23="remota",1,0) -> 0 | N23: =IF(E23="paquete",1,0) -> 0 | O23: =IF(E23="ventana",1,0) -> 0
A24: TIJUANA | B24: DEPARTAMENTO DE PREVENCIÓN DE LA CONTAMINACIÓN | C24: ESTACION ITT TJ | D24: MINISPLIT | E24: MINISPLIT | F24: 1 | G24: N/E | H24: N/E | I24: INV-229703 INV-229704 | J24: 5120054 2151575 | K24: 2 | L24: =IF(E24="minisplit",1,0) -> 1 | M24: =IF(E24="remota",1,0) -> 0 | N24: =IF(E24="paquete",1,0) -> 0 | O24: =IF(E24="ventana",1,0) -> 0
A25: TIJUANA | B25: DEPARTAMENTO DE PREVENCIÓN DE LA CONTAMINACIÓN | C25: ESTACION LA MESA | D25: MANEJADORA | E25: MINISPLIT | F25: 2 | G25: N/E | H25: N/E | I25: INV-229693 | J25: 7130196 | K25: 2 | L25: =IF(E25="minisplit",1,0) -> 1 | M25: =IF(E25="remota",1,0) -> 0 | N25: =IF(E25="paquete",1,0) -> 0 | O25: =IF(E25="ventana",1,0) -> 0
A26: TIJUANA | B26: DEPARTAMENTO DE PREVENCIÓN DE LA CONTAMINACIÓN | C26: ESTACION LA MESA | D26: MINISPLIT | E26: MINISPLIT | F26: 1 | G26: N/E | H26: N/E | I26: INV-229694 | J26: 2151627 | K26: 2 | L26: =IF(E26="minisplit",1,0) -> 1 | M26: =IF(E26="remota",1,0) -> 0 | N26: =IF(E26="paquete",1,0) -> 0 | O26: =IF(E26="ventana",1,0) -> 0
A27: TIJUANA | B27: DEPARTAMENTO DE PREVENCIÓN DE LA CONTAMINACIÓN | C27: ESTACION LABORATORIO | D27: MINISPLIT | E27: MINISPLIT | F27: 1 | G27: N/E | H27: N/E | I27: INV-229699 INV-229700 | J27: 2122128 2151284 | K27: 2 | L27: =IF(E27="minisplit",1,0) -> 1 | M27: =IF(E27="remota",1,0) -> 0 | N27: =IF(E27="paquete",1,0) -> 0 | O27: =IF(E27="ventana",1,0) -> 0
A28: TECATE | B28: LABORATORIO | C28: ESTACION TKT | D28: MINISPLIT | E28: MINISPLIT | F28: 1 | G28: N/E | H28: N/E | I28: INV-229697 INV-229698 | J28: 5120063 2151421 | K28: 7.5 | L28: =IF(E28="minisplit",1,0) -> 1 | M28: =IF(E28="remota",1,0) -> 0 | N28: =IF(E28="paquete",1,0) -> 0 | O28: =IF(E28="ventana",1,0) -> 0
A29: MEXICALI | B29: DEPARTAMENTO DE CALIDAD DE AIRE | C29: ESTACION UABC MXL | D29: MINISPLIT | E29: MINISPLIT | F29: 2 | G29: N/E | H29: N/E | I29: M1-138625 | J29: 3793510003775 | K29: 7.5 | L29: =IF(E29="minisplit",1,0) -> 1 | M29: =IF(E29="remota",1,0) -> 0 | N29: =IF(E29="paquete",1,0) -> 0 | O29: =IF(E29="ventana",1,0) -> 0
A30: MEXICALI | B30: DEPARTAMENTO DE CALIDAD DE AIRE | C30: ESTACION UABC MXL | D30: MINISPLIT | E30: MINISPLIT | F30: 1 | G30: N/E | H30: TRANE | I30: M1-138627 | J30: 3267010001120 | K30: 7.5 | L30: =IF(E30="minisplit",1,0) -> 1 | M30: =IF(E30="remota",1,0) -> 0 | N30: =IF(E30="paquete",1,0) -> 0 | O30: =IF(E30="ventana",1,0) -> 0
A31: MEXICALI | B31: DEPARTAMENTO DE CALIDAD DE AIRE | C31: ESTACION UPBC | D31: MINISPLIT | E31: MINISPLIT | F31: 2 | G31: N/E | H31: N/E | I31: M1-138623 | J31: 3793510001156 | K31: 2 | L31: =IF(E31="minisplit",1,0) -> 1 | M31: =IF(E31="remota",1,0) -> 0 | N31: =IF(E31="paquete",1,0) -> 0 | O31: =IF(E31="ventana",1,0) -> 0
A32: MEXICALI | B32: DEPARTAMENTO DE CALIDAD DE AIRE | C32: ESTACION UPBC | D32: MINISPLIT | E32: MINISPLIT | F32: 1 | G32: N/E | H32: TRANE | I32: M1-138629 | J32: 3267010005341 | K32: 2 | L32: =IF(E32="minisplit",1,0) -> 1 | M32: =IF(E32="remota",1,0) -> 0 | N32: =IF(E32="paquete",1,0) -> 0 | O32: =IF(E32="ventana",1,0) -> 0
A33: TIJUANA | B33: DEPARTAMENTO DE PREVENCIÓN DE LA CONTAMINACIÓN | C33: ESTACION UTT | D33: MINISPLIT | E33: MINISPLIT | F33: 1 | G33: N/E | H33: N/E | I33: INV-229701 INV-229702 | J33: 2121345 3150467 | K33: 2 | L33: =IF(E33="minisplit",1,0) -> 1 | M33: =IF(E33="remota",1,0) -> 0 | N33: =IF(E33="paquete",1,0) -> 0 | O33: =IF(E33="ventana",1,0) -> 0
A34: MEXICALI | B34: DEPARTAMENTO DE AUDITORÍA | C34: FELIX VELDERRAIN FRANCISCO JAVIER | D34: MINISPLIT | E34: MINISPLIT | F34: 2 | G34: N/E | H34: MIRAGE | I34: M1-066385 | J34: ` | K34: 2 | L34: =IF(E34="minisplit",1,0) -> 1 | M34: =IF(E34="remota",1,0) -> 0 | N34: =IF(E34="paquete",1,0) -> 0 | O34: =IF(E34="ventana",1,0) -> 0
A35: MEXICALI | B35: DEPARTAMENTO DE AUDITORÍA | C35: FELIX VELDERRAIN FRANCISCO JAVIER | D35: CONDENSADORA | E35: MINISPLIT | F35: 2 | G35: 2MCW0512G1000AA | H35: N/E | I35: M1-138604 | J35: 3793510001289 | K35: 2 | L35: =IF(E35="minisplit",1,0) -> 1 | M35: =IF(E35="remota",1,0) -> 0 | N35: =IF(E35="paquete",1,0) -> 0 | O35: =IF(E35="ventana",1,0) -> 0
A36: MEXICALI | B36: DEPARTAMENTO DE AUDITORÍA | C36: FELIX VELDERRAIN FRANCISCO JAVIER | D36: CONDENSADORA | E36: MINISPLIT | F36: 2 | G36: 2TTK0524G1P00AA | H36: N/E | I36: M1-138607 | J36: 3762410002452 | K36: 1 | L36: =IF(E36="minisplit",1,0) -> 1 | M36: =IF(E36="remota",1,0) -> 0 | N36: =IF(E36="paquete",1,0) -> 0 | O36: =IF(E36="ventana",1,0) -> 0
A37: TIJUANA | C37: LABORATORIO TECHO | D37: PAQUETE | E37: PAQUETE | F37: 4 | G37: RSPM-A048CK | H37: RHEEM | I37: INV-157997 | J37: 7590F181104102 | K37: 1 | L37: =IF(E37="minisplit",1,0) -> 0 | M37: =IF(E37="remota",1,0) -> 0 | N37: =IF(E37="paquete",1,0) -> 1 | O37: =IF(E37="ventana",1,0) -> 0
A38: TIJUANA | B38: DIRECCIÓN DE GESTIÓN AMBIENTAL | C38: LABORATORIO TECHO | D38: PAQUETE | E38: PAQUETE | F38: 5 | G38: RSPM-A060CK | H38: RHEEM | I38: INV-157998 | J38: 7592W161314363 | K38: 1 | L38: =IF(E38="minisplit",1,0) -> 0 | M38: =IF(E38="remota",1,0) -> 0 | N38: =IF(E38="paquete",1,0) -> 1 | O38: =IF(E38="ventana",1,0) -> 0
A39: TIJUANA | C39: LABORATORIO TECHO | D39: PAQUETE | E39: PAQUETE | F39: 5 | G39: RSPM-A060CK | H39: RHEEM | I39: INV-157999 | J39: 7592W161314364 | K39: 1 | L39: =IF(E39="minisplit",1,0) -> 0 | M39: =IF(E39="remota",1,0) -> 0 | N39: =IF(E39="paquete",1,0) -> 1 | O39: =IF(E39="ventana",1,0) -> 0
A40: TIJUANA | C40: LABORATORIO TECHO | D40: CONDENSADORA | E40: MINISPLIT | F40: 3 | G40: RHSL-HM3617JA/13AJN36A01 | H40: RHEEM | I40: INV-159300 | J40: 8392W161317335 | K40: 1 | L40: =IF(E40="minisplit",1,0) -> 1 | M40: =IF(E40="remota",1,0) -> 0 | N40: =IF(E40="paquete",1,0) -> 0 | O40: =IF(E40="ventana",1,0) -> 0
A41: TIJUANA | B41: DIRECCIÓN DE GESTIÓN AMBIENTAL | C41: LABORATORIO TECHO | D41: CONDENSADORA | E41: MINISPLIT | F41: 3 | G41: RHSL-HM3617JA/13AJN36A01 | H41: RHEEM | I41: INV-159301 | J41: 8392W161317597 | K41: 1 | L41: =IF(E41="minisplit",1,0) -> 1 | M41: =IF(E41="remota",1,0) -> 0 | N41: =IF(E41="paquete",1,0) -> 0 | O41: =IF(E41="ventana",1,0) -> 0
A42: TIJUANA | C42: LABORATORIO TECHO | D42: MANEJADORA | E42: REMOTA | F42: 7.5 | G42: N/E | H42: N/E | I42: INV-159302 | J42: W071312605 | K42: 1 | L42: =IF(E42="minisplit",1,0) -> 0 | M42: =IF(E42="remota",1,0) -> 1 | N42: =IF(E42="paquete",1,0) -> 0 | O42: =IF(E42="ventana",1,0) -> 0
A43: TIJUANA | C43: LABORATORIO TECHO | D43: MANEJADORA | E43: REMOTA | F43: 7.5 | G43: N/E | H43: N/E | I43: INV-159303 | J43: W441215510 | K43: 1 | L43: =IF(E43="minisplit",1,0) -> 0 | M43: =IF(E43="remota",1,0) -> 1 | N43: =IF(E43="paquete",1,0) -> 0 | O43: =IF(E43="ventana",1,0) -> 0
A44: TIJUANA | B44: DIRECCIÓN DE GESTIÓN AMBIENTAL | C44: LABORATORIO TECHO | D44: CONDENSADORA | E44: MINISPLIT | F44: 2 | G44: RHLL-M6021JA/13AJN60A01 RHLL-M6021JA/13AJN60A01 | H44: RHEEM | I44: INV-159304 INV-159305 | J44: 8395W061302581 8395W61302596 | K44: 1 | L44: =IF(E44="minisplit",1,0) -> 1 | M44: =IF(E44="remota",1,0) -> 0 | N44: =IF(E44="paquete",1,0) -> 0 | O44: =IF(E44="ventana",1,0) -> 0
A45: TIJUANA | C45: LABORATORIO TECHO | D45: MANEJADORA | E45: REMOTA | F45: 7.5 | G45: N/E | H45: N/E | I45: INV-159306 | J45: W171327981 | K45: 1 | L45: =IF(E45="minisplit",1,0) -> 0 | M45: =IF(E45="remota",1,0) -> 1 | N45: =IF(E45="paquete",1,0) -> 0 | O45: =IF(E45="ventana",1,0) -> 0
A46: TIJUANA | C46: LABORATORIO TECHO | D46: MANEJADORA | E46: REMOTA | F46: 7.5 | G46: N/E | H46: N/E | I46: INV-159307 | J46: W171327905 | K46: 2 | L46: =IF(E46="minisplit",1,0) -> 0 | M46: =IF(E46="remota",1,0) -> 1 | N46: =IF(E46="paquete",1,0) -> 0 | O46: =IF(E46="ventana",1,0) -> 0
A47: TIJUANA | C47: LABORATORIO TECHO | D47: MANEJADORA | E47: REMOTA | F47: 7.5 | G47: N/E | H47: N/E | I47: INV-159308 | J47: W071325853 | K47: 2 | L47: =IF(E47="minisplit",1,0) -> 0 | M47: =IF(E47="remota",1,0) -> 1 | N47: =IF(E47="paquete",1,0) -> 0 | O47: =IF(E47="ventana",1,0) -> 0
A48: TIJUANA | C48: LABORATORIO TECHO | D48: MANEJADORA | E48: REMOTA | F48: 7.5 | G48: N/E | H48: N/E | I48: INV-159309 | J48: W071325797 | K48: 1.5 | L48: =IF(E48="minisplit",1,0) -> 0 | M48: =IF(E48="remota",1,0) -> 1 | N48: =IF(E48="paquete",1,0) -> 0 | O48: =IF(E48="ventana",1,0) -> 0
A49: TIJUANA | C49: LABORATORIO TECHO | D49: MANEJADORA | E49: REMOTA | F49: 7.5 | G49: N/E | H49: N/E | I49: INV-159310 | J49: W071325877 | K49: 1 | L49: =IF(E49="minisplit",1,0) -> 0 | M49: =IF(E49="remota",1,0) -> 1 | N49: =IF(E49="paquete",1,0) -> 0 | O49: =IF(E49="ventana",1,0) -> 0
A50: TIJUANA | C50: LABORATORIO TECHO | D50: MANEJADORA | E50: REMOTA | F50: 7.5 | G50: N/E | H50: N/E | I50: INV-159311 | J50: W071325910 | K50: 2 | L50: =IF(E50="minisplit",1,0) -> 0 | M50: =IF(E50="remota",1,0) -> 1 | N50: =IF(E50="paquete",1,0) -> 0 | O50: =IF(E50="ventana",1,0) -> 0
A51: TIJUANA | B51: DIRECCIÓN DE GESTIÓN AMBIENTAL | C51: LABORATORIO TECHO | D51: CONDENSADORA | E51: MINISPLIT | F51: 2 | G51: RHSL-HM2417JA/13AJN24A01 | H51: RHEEM | I51: INV-159312 | J51: 8390W321314146 | K51: 2 | L51: =IF(E51="minisplit",1,0) -> 1 | M51: =IF(E51="remota",1,0) -> 0 | N51: =IF(E51="paquete",1,0) -> 0 | O51: =IF(E51="ventana",1,0) -> 0
A52: TIJUANA | B52: DIRECCIÓN DE GESTIÓN AMBIENTAL | C52: LABORATORIO TECHO | D52: CONDENSADORA | E52: MINISPLIT | F52: 2 | G52: RHSL-HM2417JA/13AJN24A01 | H52: RHEEM | I52: INV-159313 | J52: 8390W321314166 | K52: 2 | L52: =IF(E52="minisplit",1,0) -> 1 | M52: =IF(E52="remota",1,0) -> 0 | N52: =IF(E52="paquete",1,0) -> 0 | O52: =IF(E52="ventana",1,0) -> 0
A53: TIJUANA | B53: DIRECCIÓN DE GESTIÓN AMBIENTAL | C53: LABORATORIO TECHO | D53: CONDENSADORA | E53: MINISPLIT | F53: 2 | G53: RHSL-HM2417JA/13AJN24A01 | H53: RHEEM | I53: INV-159314 | J53: 8390W341300838 | K53: 2 | L53: =IF(E53="minisplit",1,0) -> 1 | M53: =IF(E53="remota",1,0) -> 0 | N53: =IF(E53="paquete",1,0) -> 0 | O53: =IF(E53="ventana",1,0) -> 0
A54: TIJUANA | B54: DIRECCIÓN DE GESTIÓN AMBIENTAL | C54: LABORATORIO TECHO | D54: CONDENSADORA | E54: MINISPLIT | F54: 2 | G54: RHSL-HM2417JA/13AJN24A01 | H54: RHEEM | I54: INV-159315 | J54: 8390W321314158 | K54: 1.5 | L54: =IF(E54="minisplit",1,0) -> 1 | M54: =IF(E54="remota",1,0) -> 0 | N54: =IF(E54="paquete",1,0) -> 0 | O54: =IF(E54="ventana",1,0) -> 0
A55: TIJUANA | B55: DIRECCIÓN DE GESTIÓN AMBIENTAL | C55: LABORATORIO TECHO | D55: PAQUETE | E55: PAQUETE | F55: 7.5 | G55: RLKL-B090CK-R410 | H55: RHEEM | I55: INV-159768 | J55: 8294F201202942 | K55: 2 | L55: =IF(E55="minisplit",1,0) -> 0 | M55: =IF(E55="remota",1,0) -> 0 | N55: =IF(E55="paquete",1,0) -> 1 | O55: =IF(E55="ventana",1,0) -> 0
A56: TIJUANA | B56: DIRECCIÓN DE GESTIÓN AMBIENTAL | C56: LABORATORIO TECHO | D56: PAQUETE | E56: PAQUETE | F56: 7.5 | G56: RLKL-B090CK-R410 | H56: RHEEM | I56: INV-159769 | J56: 8294F201202948 | K56: 2 | L56: =IF(E56="minisplit",1,0) -> 0 | M56: =IF(E56="remota",1,0) -> 0 | N56: =IF(E56="paquete",1,0) -> 1 | O56: =IF(E56="ventana",1,0) -> 0
A57: TIJUANA | B57: DIRECCIÓN DE GESTIÓN AMBIENTAL | C57: LABORATORIO TECHO | D57: PAQUETE | E57: PAQUETE | F57: 7.5 | G57: RLKL-B090CK-R410 | H57: RHEEM | I57: INV-159770 | J57: 8294F201202944 | K57: 2 | L57: =IF(E57="minisplit",1,0) -> 0 | M57: =IF(E57="remota",1,0) -> 0 | N57: =IF(E57="paquete",1,0) -> 1 | O57: =IF(E57="ventana",1,0) -> 0
A58: TIJUANA | B58: DIRECCIÓN DE GESTIÓN AMBIENTAL | C58: LABORATORIO TECHO | D58: PAQUETE | E58: PAQUETE | F58: 2 | G58: RQRM-A024JK | H58: RHEEM | I58: INV-207194 | J58: W421302122 | K58: 1 | L58: =IF(E58="minisplit",1,0) -> 0 | M58: =IF(E58="remota",1,0) -> 0 | N58: =IF(E58="paquete",1,0) -> 1 | O58: =IF(E58="ventana",1,0) -> 0
A59: TIJUANA | B59: DIRECCIÓN DE GESTIÓN AMBIENTAL | C59: LABORATORIO TECHO | D59: PAQUETE | E59: PAQUETE | F59: 2 | G59: RQRM-A024JK | H59: RHEEM | I59: INV-207195 | J59: W421302123 | K59: 2 | L59: =IF(E59="minisplit",1,0) -> 0 | M59: =IF(E59="remota",1,0) -> 0 | N59: =IF(E59="paquete",1,0) -> 1 | O59: =IF(E59="ventana",1,0) -> 0
A60: TIJUANA | B60: DIRECCIÓN DE GESTIÓN AMBIENTAL | C60: LABORATORIO TECHO | D60: MINISPLIT | E60: MINISPLIT | F60: 2 | G60: N/E | H60: YORK | I60: M3-018050 | J60: 505602594100400987 | K60: 2 | L60: =IF(E60="minisplit",1,0) -> 1 | M60: =IF(E60="remota",1,0) -> 0 | N60: =IF(E60="paquete",1,0) -> 0 | O60: =IF(E60="ventana",1,0) -> 0
A61: MEXICALI | B61: DIRECCIÓN DE ADMINISTRACIÓN | C61: MENDEZ CORNEJO RICARDO | D61: MINISPLIT | E61: MINISPLIT | F61: 1 | G61: N/E | H61: TRANE | I61: INV-286805 | J61: 3A61970000716 | K61: 1 | L61: =IF(E61="minisplit",1,0) -> 1 | M61: =IF(E61="remota",1,0) -> 0 | N61: =IF(E61="paquete",1,0) -> 0 | O61: =IF(E61="ventana",1,0) -> 0
A62: MEXICALI | B62: DIRECCIÓN DE RECURSOS NATURALES | C62: PEREZ BRAMBILA RUBEN | D62: MINISPLIT | E62: MINISPLIT | F62: 2 | G62: 4TTK0524H1L00AA | H62: TRANE | I62: M1-138607 M1-138609 | J62: 3C46970008040 3E91670001061 | K62: 2 | L62: =IF(E62="minisplit",1,0) -> 1 | M62: =IF(E62="remota",1,0) -> 0 | N62: =IF(E62="paquete",1,0) -> 0 | O62: =IF(E62="ventana",1,0) -> 0
A63: MEXICALI | B63: DIRECCIÓN DE RECURSOS NATURALES | C63: PEREZ BRAMBILA RUBEN | D63: CONDENSADORA | E63: MINISPLIT | F63: 2 | G63: 2MCW0512G1000AA | H63: N/E | I63: M1-138611 | J63: 3793510001299 | K63: NO ESPECIFICA | L63: =IF(E63="minisplit",1,0) -> 1 | M63: =IF(E63="remota",1,0) -> 0 | N63: =IF(E63="paquete",1,0) -> 0 | O63: =IF(E63="ventana",1,0) -> 0
A64: MEXICALI | B64: DIRECCIÓN DE RECURSOS NATURALES | C64: PEREZ BRAMBILA RUBEN | D64: CONDENSADORA | E64: MINISPLIT | F64: 2 | G64: 2MCW0524G1000AA | H64: N/E | I64: M1-138613 | J64: 3762410002524 | K64: NO ESPECIFICA | L64: =IF(E64="minisplit",1,0) -> 1 | M64: =IF(E64="remota",1,0) -> 0 | N64: =IF(E64="paquete",1,0) -> 0 | O64: =IF(E64="ventana",1,0) -> 0
A65: TIJUANA | C65: ROSARITO - LAB | D65: MINISPLIT | E65: MINISPLIT | F65: 1 | G65: N/E | H65: N/E | I65: INV-229705 | J65: 1120590 | K65: 1 | L65: =IF(E65="minisplit",1,0) -> 1 | M65: =IF(E65="remota",1,0) -> 0 | N65: =IF(E65="paquete",1,0) -> 0 | O65: =IF(E65="ventana",1,0) -> 0
A66: MEXICALI | B66: DIRECCIÓN DE ADMINISTRACIÓN | C66: SALA DE JUNTAS MXL | D66: MINISPLIT | E66: MINISPLIT | F66: 1.5 | G66: N/E | H66: N/E | I66: M1-076116 | K66: 1 | L66: =IF(E66="minisplit",1,0) -> 1 | M66: =IF(E66="remota",1,0) -> 0 | N66: =IF(E66="paquete",1,0) -> 0 | O66: =IF(E66="ventana",1,0) -> 0
A67: MEXICALI | B67: DIRECCIÓN DE ADMINISTRACIÓN | C67: SALA DE JUNTAS MXL | D67: MINISPLIT | E67: MINISPLIT | F67: 1.5 | G67: N/E | H67: N/E | I67: M1-138605 | J67: 3554050001458 | K67: 2 | L67: =IF(E67="minisplit",1,0) -> 1 | M67: =IF(E67="remota",1,0) -> 0 | N67: =IF(E67="paquete",1,0) -> 0 | O67: =IF(E67="ventana",1,0) -> 0
A68: MEXICALI | B68: DIRECCIÓN DE ADMINISTRACIÓN | C68: TECHO CUCHILLA | D68: MINISPLIT | E68: MINISPLIT | F68: 1 | G68: N/E | H68: TRANE | I68: INV-286806 | J68: 3A62070000653 | K68: 2 | L68: =IF(E68="minisplit",1,0) -> 1 | M68: =IF(E68="remota",1,0) -> 0 | N68: =IF(E68="paquete",1,0) -> 0 | O68: =IF(E68="ventana",1,0) -> 0
A69: MEXICALI | B69: DIRECCIÓN DE ADMINISTRACIÓN | C69: TECHO CUCHILLA | D69: REMOTA | E69: REMOTA | F69: 5 | G69: LXE-CBX25UH06023 LXE-13ACX060230 | H69: LENNOX | I69: INV-296495 INV-296496 | J69: 1717H24207 1917D20916 | K69: 1 | L69: =IF(E69="minisplit",1,0) -> 0 | M69: =IF(E69="remota",1,0) -> 1 | N69: =IF(E69="paquete",1,0) -> 0 | O69: =IF(E69="ventana",1,0) -> 0
F72: =+COUNTA(A3:A69) -> 67 | G72: EQUIPOS | K72: =SUBTOTAL(109,K65:K69) -> 7 | L72: =SUBTOTAL(109,L3:L69) -> 45 | M72: =SUBTOTAL(109,M3:M69) -> 14 | N72: =SUBTOTAL(109,N3:N69) -> 8 | O72: =SUBTOTAL(109,O3:O69) -> 0
F73: =+SUM(F3:F69) -> 205.5 | G73: TONELADAS
J74: Total | K74: =SUM(K72:N72) -> 74 | L74: =SUM(L72:O72) -> 67

Sheet OM
A2: MUNICIPIO | B2: UNIDAD ADMINISTRATIVA | C2: DIRECCIÓN-UBICACIÓN | D2: TIPO DE EQUIPO | E2: CAP.TONELADAS | F2: MODELO | G2: MARCA | H2: INVENTARIO | I2: NO. DE SERIE | J2: Minisplit | K2: Remota | L2: Paquete | M2: Ventana
A3: MEXICALI | B3: Oficialía Mayor SIDUE - Dirección Ordenamiento Territorial (5to. Piso) | C3: Centro Gobierno - Edificio Poder Ejecutivo SIDUE - Dirección Ordenamiento Territorial (5to. Piso) | D3: PAQUETE | E3: 5 | F3: TCP060F400AA | G3: TRANE | H3: M3-012309 ING-T073 | I3: 5112KM42H | J3: =IF(D3="minisplit",1,0) -> 0 | K3: =IF(D3="remota",1,0) -> 0 | L3: =IF(D3="paquete",1,0) -> 1 | M3: =IF(D3="ventana",1,0) -> 0
A4: MEXICALI | B4: Oficialía Mayor SIDUE - Dirección Ordenamiento Territorial (5to. Piso) | C4: Centro Gobierno - Edificio Poder Ejecutivo SIDUE - Dirección Ordenamiento Territorial (5to. Piso) | D4: MINISPLIT | E4: 2 | F4: MMS-26211C | G4: MIRAGE | H4: ING-M058 | I4: 405KADT00290 | J4: =IF(D4="minisplit",1,0) -> 1 | K4: =IF(D4="remota",1,0) -> 0 | L4: =IF(D4="paquete",1,0) -> 0 | M4: =IF(D4="ventana",1,0) -> 0
A5: MEXICALI | B5: Oficialía Mayor SIDUE - Sala de Juntas (4to. Piso) | C5: Centro Gobierno - Edificio Poder Ejecutivo SIDUE - Sala de Juntas (4to. Piso) | D5: PAQUETE | E5: 10 | F5: TSC120A3EOA260 | G5: TRANE | H5: M3-013887 ING-T061 | I5: 620103748L | J5: =IF(D5="minisplit",1,0) -> 0 | K5: =IF(D5="remota",1,0) -> 0 | L5: =IF(D5="paquete",1,0) -> 1 | M5: =IF(D5="ventana",1,0) -> 0
A6: MEXICALI | B6: Oficialía Mayor SIDUE - Dirección Ordenamiento Territorial (5to. Piso) | C6: Centro Gobierno - Edificio Poder Ejecutivo SIDUE - Dirección Ordenamiento Territorial (5to. Piso) | D6: REMOTA | E6: 10 | F6: TTA120A400FA | G6: TRANE | H6: M3-013888 ING-T063 | I6: 5491MREAD | J6: =IF(D6="minisplit",1,0) -> 0 | K6: =IF(D6="remota",1,0) -> 1 | L6: =IF(D6="paquete",1,0) -> 0 | M6: =IF(D6="ventana",1,0) -> 0
A7: MEXICALI | B7: Oficialía Mayor SEDECO - Área de Computo (4to. Piso) SITE | C7: Centro Gobierno - Edificio Poder Ejecutivo SEDECO - Área de Computo (4to. Piso) SITE | D7: MINISPLIT | E7: 1 | F7: YJDA12FS-ADA | G7: YORK | H7: ING-Y068 | I7: S/S | J7: =IF(D7="minisplit",1,0) -> 1 | K7: =IF(D7="remota",1,0) -> 0 | L7: =IF(D7="paquete",1,0) -> 0 | M7: =IF(D7="ventana",1,0) -> 0
A8: MEXICALI | B8: Oficialía Mayor Guardias del Gobernador | C8: Centro Gobierno - Edificio Poder Ejecutivo Guardias del Gobernador | D8: MINISPLIT | E8: 2 | F8: MMS-26211C | G8: MIRAGE | H8: M3-011736 ING-M284 | I8: S/S | J8: =IF(D8="minisplit",1,0) -> 1 | K8: =IF(D8="remota",1,0) -> 0 | L8: =IF(D8="paquete",1,0) -> 0 | M8: =IF(D8="ventana",1,0) -> 0
A9: MEXICALI | B9: Oficialía Mayor SIMTG (Sótano) SITE | C9: Centro Gobierno - Edificio Poder Ejecutivo SIMTG (Sótano) SITE | D9: REMOTA | E9: 5 | F9: MDC61211CC | G9: MIRAGE | H9: ING-M198 | I9: MDC611100310159 | J9: =IF(D9="minisplit",1,0) -> 0 | K9: =IF(D9="remota",1,0) -> 1 | L9: =IF(D9="paquete",1,0) -> 0 | M9: =IF(D9="ventana",1,0) -> 0
A10: MEXICALI | B10: Oficialía Mayor SIMTG - SITE (Sótano) | C10: Centro Gobierno - Edificio Poder Ejecutivo SIMTG - SITE (Sótano) | D10: REMOTA | E10: 7.5 | F10: RAWL-090CAZ | G10: RHEEM | H10: INV-193410 ING-R283, EJE-39 | I10: 7753W221333792 | J10: =IF(D10="minisplit",1,0) -> 0 | K10: =IF(D10="remota",1,0) -> 1 | L10: =IF(D10="paquete",1,0) -> 0 | M10: =IF(D10="ventana",1,0) -> 0
A11: MEXICALI | B11: Oficialía Mayor Elevador - Discapacitados | C11: Centro Gobierno - Edificio Poder Ejecutivo Elevador - Discapacitados | D11: MINISPLIT | E11: 1.5 | F11: ESF181B | G11: JAPANDO | H11: ING-J202 | I11: S/S | J11: =IF(D11="minisplit",1,0) -> 1 | K11: =IF(D11="remota",1,0) -> 0 | L11: =IF(D11="paquete",1,0) -> 0 | M11: =IF(D11="ventana",1,0) -> 0
A12: MEXICALI | B12: Oficialía Mayor Cuarto de breaks (sortea) | C12: Centro Gobierno - Edificio Poder Ejecutivo Cuarto de breaks (sortea) | D12: REMOTA | E12: 4 | F12: 2TTB0048AA1000AA | G12: TRANE | H12: ING-T054 | I12: 4061TP33F | J12: =IF(D12="minisplit",1,0) -> 0 | K12: =IF(D12="remota",1,0) -> 1 | L12: =IF(D12="paquete",1,0) -> 0 | M12: =IF(D12="ventana",1,0) -> 0
A13: MEXICALI | B13: Oficialía Mayor SIDUE - Dirección de Administración, (5to. Piso) SITE | C13: Centro Gobierno - Edificio Poder Ejecutivo SIDUE - Dirección de Administración, (5to. Piso) SITE | D13: MINISPLIT | E13: 2 | F13: 2TTK0524A1AA | G13: TRANE | H13: ING-T064 | I13: S/S | J13: =IF(D13="minisplit",1,0) -> 1 | K13: =IF(D13="remota",1,0) -> 0 | L13: =IF(D13="paquete",1,0) -> 0 | M13: =IF(D13="ventana",1,0) -> 0
A14: MEXICALI | B14: Oficialía Mayor Oficina del Ejecutivo - Sala de Gobernadores (3er. Piso) | C14: Centro Gobierno - Edificio Poder Ejecutivo Oficina del Ejecutivo - Sala de Gobernadores (3er. Piso) | D14: REMOTA | E14: 7.5 | F14: TTA090D300AA | G14: TRANE | H14: ING-T069 | I14: 11452U0NYA | J14: =IF(D14="minisplit",1,0) -> 0 | K14: =IF(D14="remota",1,0) -> 1 | L14: =IF(D14="paquete",1,0) -> 0 | M14: =IF(D14="ventana",1,0) -> 0
... A39: MEXICALI | B39: Oficialía Mayor SGG - Secretario General (3er. Piso) | C39: Centro Gobierno - Edificio Poder Ejecutivo SGG - Secretario General (3er. Piso) | D39: MINISPLIT | E39: 2 | F39: 4MCW0524H1000AA | G39: TRANE | H39: EJE-14 | I39: S/S | J39: =IF(D39="minisplit",1,0) -> 1 | K39: =IF(D39="remota",1,0) -> 0 | L39: =IF(D39="paquete",1,0) -> 0 | M39: =IF(D39="ventana",1,0) -> 0
A40: MEXICALI | B40: Oficialía Mayor SEDECO - Secretario (4to. Piso) | C40: Centro Gobierno - Edificio Poder Ejecutivo SEDECO - Secretario (4to. Piso) | D40: MINISPLIT | E40: 1 | F40: WA2041Q | G40: WHIRLPOOL | H40: EJE-15 | I40: 113206093 | J40: =IF(D40="minisplit",1,0) -> 1 | K40: =IF(D40="remota",1,0) -> 0 | L40: =IF(D40="paquete",1,0) -> 0 | M40: =IF(D40="ventana",1,0) -> 0
A41: MEXICALI | B41: Oficialía Mayor SEDECO - Salas de Juntas (4to. Piso) | C41: Centro Gobierno - Edificio Poder Ejecutivo SEDECO - Salas de Juntas (4to. Piso) | D41: MINISPLIT | E41: 2 | F41: 2TWK0524A1AA | G41: TRANE | H41: EJE-16 | I41: S/S | J41: =IF(D41="minisplit",1,0) -> 1 | K41: =IF(D41="remota",1,0) -> 0 | L41: =IF(D41="paquete",1,0) -> 0 | M41: =IF(D41="ventana",1,0) -> 0
A42: MEXICALI | B42: Oficialía Mayor SEDECO - Secretario (4to. Piso) | C42: Centro Gobierno - Edificio Poder Ejecutivo SEDECO - Secretario (4to. Piso) | D42: REMOTA | E42: 2 | F42: 2TTB0024A1000CB | G42: TRANE | H42: EJE-17 | I42: 14482MGH5F | J42: =IF(D42="minisplit",1,0) -> 0 | K42: =IF(D42="remota",1,0) -> 1 | L42: =IF(D42="paquete",1,0) -> 0 | M42: =IF(D42="ventana",1,0) -> 0
A43: MEXICALI | B43: Oficialía Mayor Contraloría - Titular (4to. Piso) | C43: Centro Gobierno - Edificio Poder Ejecutivo Contraloría - Titular (4to. Piso) | D43: REMOTA | E43: 1.5 | F43: 4TTB3018G1000AA | G43: TRANE | H43: INV-259564 EJE-18 | I43: 12513NDJ3F | J43: =IF(D43="minisplit",1,0) -> 0 | K43: =IF(D43="remota",1,0) -> 1 | L43: =IF(D43="paquete",1,0) -> 0 | M43: =IF(D43="ventana",1,0) -> 0
A44: MEXICALI | B44: Oficialía Mayor Comunicación Social (3er. Piso) | C44: Centro Gobierno - Edificio Poder Ejecutivo Comunicación Social (3er. Piso) | D44: MINISPLIT | E44: 2 | F44: 2MCW0524G1000CA | G44: TRANE | H44: INV-261680 EJE-19 | I44: S/S | J44: =IF(D44="minisplit",1,0) -> 1 | K44: =IF(D44="remota",1,0) -> 0 | L44: =IF(D44="paquete",1,0) -> 0 | M44: =IF(D44="ventana",1,0) -> 0
A45: MEXICALI | B45: Oficialía Mayor SPF - Titular (4to. Piso) | C45: Centro Gobierno - Edificio Poder Ejecutivo SPF - Titular (4to. Piso) | D45: MINISPLIT | E45: 2 | F45: 380PC243A-C | G45: CARRIER | H45: INV-266203 EJE-20 | I45: S/S | J45: =IF(D45="minisplit",1,0) -> 1 | K45: =IF(D45="remota",1,0) -> 0 | L45: =IF(D45="paquete",1,0) -> 0 | M45: =IF(D45="ventana",1,0) -> 0
A46: MEXICALI | B46: Oficialía Mayor Particular -SITE (3er. Piso) | C46: Centro Gobierno - Edificio Poder Ejecutivo Particular -SITE (3er. Piso) | D46: MINISPLIT | E46: 2 | F46: 2MCW0524G1000CA | G46: TRANE | H46: EJE-22 | I46: S/S | J46: =IF(D46="minisplit",1,0) -> 1 | K46: =IF(D46="remota",1,0) -> 0 | L46: =IF(D46="paquete",1,0) -> 0 | M46: =IF(D46="ventana",1,0) -> 0
A47: MEXICALI | B47: Oficialía Mayor Particular - Oficina Comodín (3er. Piso) | C47: Centro Gobierno - Edificio Poder Ejecutivo Particular - Oficina Comodín (3er. Piso) | D47: MINISPLIT | E47: 1 | F47: CMPRC122-E | G47: PRIME | H47: EJE-23 | I47: S/S | J47: =IF(D47="minisplit",1,0) -> 1 | K47: =IF(D47="remota",1,0) -> 0 | L47: =IF(D47="paquete",1,0) -> 0 | M47: =IF(D47="ventana",1,0) -> 0
A48: MEXICALI | B48: Oficialía Mayor Particular - Sala de Juntas (3er. Piso) | C48: Centro Gobierno - Edificio Poder Ejecutivo Particular - Sala de Juntas (3er. Piso) | D48: MINISPLIT | E48: 2 | F48: LM024C0-100P232-X | G48: LENNOX | H48: EJE-24 | I48: S/S | J48: =IF(D48="minisplit",1,0) -> 1 | K48: =IF(D48="remota",1,0) -> 0 | L48: =IF(D48="paquete",1,0) -> 0 | M48: =IF(D48="ventana",1,0) -> 0
A49: MEXICALI | B49: Oficialía Mayor Particular - Sala de Juntas (3er. Piso) | C49: Centro Gobierno - Edificio Poder Ejecutivo Particular - Sala de Juntas (3er. Piso) | D49: MINISPLIT | E49: 2 | F49: LM024C0-100P232-X | G49: LENNOX | H49: EJE-25 | I49: S/S | J49: =IF(D49="minisplit",1,0) -> 1 | K49: =IF(D49="remota",1,0) -> 0 | L49: =IF(D49="paquete",1,0) -> 0 | M49: =IF(D49="ventana",1,0) -> 0
A50: MEXICALI | B50: Oficialía Mayor Particular - Recepción (3er. Piso) | C50: Centro Gobierno - Edificio Poder Ejecutivo Particular - Recepción (3er. Piso) | D50: MINISPLIT | E50: 1 | F50: LM012C0-100P232-X | G50: LENNOX | H50: EJE-26 | I50: S/S | J50: =IF(D50="minisplit",1,0) -> 1 | K50: =IF(D50="remota",1,0) -> 0 | L50: =IF(D50="paquete",1,0) -> 0 | M50: =IF(D50="ventana",1,0) -> 0
A51: MEXICALI | B51: Oficialía Mayor SIDUE (5to. Piso) | C51: Centro Gobierno - Edificio Poder Ejecutivo SIDUE (5to. Piso) | D51: MINISPLIT | E51: 2 | F51: ESF261B | G51: JAPANDO | H51: EJE-27 | I51: S/S | J51: =IF(D51="minisplit",1,0) -> 1 | K51: =IF(D51="remota",1,0) -> 0 | L51: =IF(D51="paquete",1,0) -> 0 | M51: =IF(D51="ventana",1,0) -> 0
A52: MEXICALI | B52: Oficialía Mayor OM - Servicios Generales (Sótano) | C52: Centro Gobierno - Edificio Poder Ejecutivo OM - Servicios Generales (Sótano) | D52: MINISPLIT | E52: 2 | F52: 2MCW0524G1000CA | G52: TRANE | H52: INV-261696 EJE-28 | I52: S/S | J52: =IF(D52="minisplit",1,0) -> 1 | K52: =IF(D52="remota",1,0) -> 0 | L52: =IF(D52="paquete",1,0) -> 0 | M52: =IF(D52="ventana",1,0) -> 0
... A64: MEXICALI | B64: Oficialía Mayor SIMTG - Sala de Juntas (Sótano) | C64: Centro Gobierno - Edificio Poder Ejecutivo SIMTG - Sala de Juntas (Sótano) | D64: MINISPLIT | E64: 3 | F64: 2MCW0536G1000CA | G64: TRANE | H64: EJE-41 | I64: S/S | J64: =IF(D64="minisplit",1,0) -> 1 | K64: =IF(D64="remota",1,0) -> 0 | L64: =IF(D64="paquete",1,0) -> 0 | M64: =IF(D64="ventana",1,0) -> 0
A65: MEXICALI | B65: Oficialía Mayor Ejecutivo - Escoltas del Gobernador (Sótano) | C65: Centro Gobierno - Edificio Poder Ejecutivo Ejecutivo - Escoltas del Gobernador (Sótano) | D65: REMOTA | E65: 3 | F65: NACU030AKA4 | G65: 0 | H65: EJE-42 | I65: L022803591 | J65: =IF(D65="minisplit",1,0) -> 0 | K65: =IF(D65="remota",1,0) -> 1 | L65: =IF(D65="paquete",1,0) -> 0 | M65: =IF(D65="ventana",1,0) -> 0
A66: MEXICALI | B66: Oficialía Mayor Caseta de Vigilancia #1 | C66: Centro Gobierno - Edificio Poder Ejecutivo Caseta de Vigilancia #1 | D66: MINISPLIT | E66: 1 | F66: 2MCW0512G1000DA | G66: TRANE | H66: EJE-43 | I66: S/S | J66: =IF(D66="minisplit",1,0) -> 1 | K66: =IF(D66="remota",1,0) -> 0 | L66: =IF(D66="paquete",1,0) -> 0 | M66: =IF(D66="ventana",1,0) -> 0
A67: MEXICALI | B67: Oficialía Mayor Caseta de Vigilancia #2 | C67: Centro Gobierno - Edificio Poder Ejecutivo Caseta de Vigilancia #2 | D67: MINISPLIT | E67: 1 | F67: 2MCW0512G1000DA | G67: TRANE | H67: EJE-44 | I67: S/S | J67: =IF(D67="minisplit",1,0) -> 1 | K67: =IF(D67="remota",1,0) -> 0 | L67: =IF(D67="paquete",1,0) -> 0 | M67: =IF(D67="ventana",1,0) -> 0
A68: MEXICALI | B68: Oficialía Mayor Caseta de Vigilancia #3 | C68: Centro Gobierno - Edificio Poder Ejecutivo Caseta de Vigilancia #3 | D68: MINISPLIT | E68: 1 | F68: 2MCW0512G1000DA | G68: TRANE | H68: EJE-45 | I68: S/S | J68: =IF(D68="minisplit",1,0) -> 1 | K68: =IF(D68="remota",1,0) -> 0 | L68: =IF(D68="paquete",1,0) -> 0 | M68: =IF(D68="ventana",1,0) -> 0
A69: MEXICALI | B69: Oficialía Mayor Elevador Estacionamiento | C69: Centro Gobierno - Edificio Poder Ejecutivo Elevador Estacionamiento | D69: MINISPLIT | E69: 2 | F69: ZMCW053G1000CA | G69: TRANE | H69: EJE-46 | I69: S/S | J69: =IF(D69="minisplit",1,0) -> 1 | K69: =IF(D69="remota",1,0) -> 0 | L69: =IF(D69="paquete",1,0) -> 0 | M69: =IF(D69="ventana",1,0) -> 0
A70: MEXICALI | B70: Oficialía Mayor Caseta de Vigilancia #7 | C70: Centro Gobierno - Edificio Poder Ejecutivo Caseta de Vigilancia #7 | D70: MINISPLIT | E70: 1 | F70: 2MCW0512G1000CA | G70: TRANE | H70: EJE-47 | I70: S/S | J70: =IF(D70="minisplit",1,0) -> 1 | K70: =IF(D70="remota",1,0) -> 0 | L70: =IF(D70="paquete",1,0) -> 0 | M70: =IF(D70="ventana",1,0) -> 0
A71: MEXICALI | B71: Oficialía Mayor Caseta de Vigilancia (Titulares) | C71: Centro Gobierno - Edificio Poder Ejecutivo Caseta de Vigilancia (Titulares) | D71: VENTANA | E71: 0.75 | F71: 541G01Y7 | G71: LG | H71: EJE-48 | I71: 504TAGHL4639 | J71: =IF(D71="minisplit",1,0) -> 0 | K71: =IF(D71="remota",1,0) -> 0 | L71: =IF(D71="paquete",1,0) -> 0 | M71: =IF(D71="ventana",1,0) -> 1
A72: MEXICALI | B72: Oficialía Mayor Caseta de Vigilancia #8 | C72: Centro Gobierno - Edificio Poder Ejecutivo Caseta de Vigilancia #8 | D72: MINISPLIT | E72: 1 | F72: 2MCW0512G1000CA | G72: TRANE | H72: EJE-49 | I72: S/S | J72: =IF(D72="minisplit",1,0) -> 1 | K72: =IF(D72="remota",1,0) -> 0 | L72: =IF(D72="paquete",1,0) -> 0 | M72: =IF(D72="ventana",1,0) -> 0
A73: MEXICALI | B73: Oficialía Mayor Elevador Estacionamiento | C73: Centro Gobierno - Edificio Poder Ejecutivo Elevador Estacionamiento | D73: MINISPLIT | E73: 2 | F73: 2MCW0524G1000CA | G73: TRANE | H73: EJE-50 | I73: S/S | J73: =IF(D73="minisplit",1,0) -> 1 | K73: =IF(D73="remota",1,0) -> 0 | L73: =IF(D73="paquete",1,0) -> 0 | M73: =IF(D73="ventana",1,0) -> 0
A74: MEXICALI | B74: Oficialía Mayor OM-Site (3er. Piso) | C74: Centro Gobierno - Edificio Poder Ejecutivo OM-Site (3er. Piso) | D74: MINISPLIT | E74: 2 | F74: 2MCW0532G1000CA | G74: TRANE | H74: EJE-51 | I74: S/S | J74: =IF(D74="minisplit",1,0) -> 1 | K74: =IF(D74="remota",1,0) -> 0 | L74: =IF(D74="paquete",1,0) -> 0 | M74: =IF(D74="ventana",1,0) -> 0
A75: MEXICALI | B75: Oficialía Mayor ARCHIVO DE CONCENTRACION OM | C75: AV. NAVOLATO Y VILLA HERMOSA | D75: MINISPLIT | E75: 2 | F75: 4MCW0524H1000AA | G75: TRANE | H75: INV.309247 | I75: S/S | J75: =IF(D75="minisplit",1,0) -> 1 | K75: =IF(D75="remota",1,0) -> 0 | L75: =IF(D75="paquete",1,0) -> 0 | M75: =IF(D75="ventana",1,0) -> 0
A76: MEXICALI | B76: Oficialía Mayor ARCHIVO DE CONCENTRACION OM | C76: AV. NAVOLATO Y VILLA HERMOSA | D76: MINISPLIT | E76: 2 | F76: 4MCW0524H1000AA | G76: TRANE | H76: INV.309246 | I76: S/S | J76: =IF(D76="minisplit",1,0) -> 1 | K76: =IF(D76="remota",1,0) -> 0 | L76: =IF(D76="paquete",1,0) -> 0 | M76: =IF(D76="ventana",1,0) -> 0
A77: MEXICALI | B77: Oficialía Mayor ARCHIVO DE CONCENTRACION OM | C77: AV. NAVOLATO Y VILLA HERMOSA | D77: PAQUETE | E77: 5 | F77: 4TCC3060A1000BA | G77: TRANE | I77: 13303JK29H | J77: =IF(D77="minisplit",1,0) -> 0 | K77: =IF(D77="remota",1,0) -> 0 | L77: =IF(D77="paquete",1,0) -> 1 | M77: =IF(D77="ventana",1,0) -> 0
A78: MEXICALI | B78: Oficialía Mayor CENPRODE | C78: JANIZIO #1077 | D78: REMOTA | E78: 5 | F78: 2TTA0060A3000CA | G78: TRANE | H78: CENPRODE3 | I78: 9361NAR4F | J78: =IF(D78="minisplit",1,0) -> 0 | K78: =IF(D78="remota",1,0) -> 1 | L78: =IF(D78="paquete",1,0) -> 0 | M78: =IF(D78="ventana",1,0) -> 0
A79: MEXICALI | B79: Oficialía Mayor CENPRODE | C79: JANIZIO #1078 | D79: REMOTA | E79: 5 | F79: 2TTA0060A3000CA | G79: TRANE | H79: CENPRODE2 | I79: 9361MP54F | J79: =IF(D79="minisplit",1,0) -> 0 | K79: =IF(D79="remota",1,0) -> 1 | L79: =IF(D79="paquete",1,0) -> 0 | M79: =IF(D79="ventana",1,0) -> 0
A80: MEXICALI | B80: Oficialía Mayor CENPRODE | C80: JANIZIO #1079 | D80: REMOTA | E80: 5 | F80: 2TTA0060A3000CA | G80: TRANE | H80: CENPRODE1 | I80: 11092M94F | J80: =IF(D80="minisplit",1,0) -> 0 | K80: =IF(D80="remota",1,0) -> 1 | L80: =IF(D80="paquete",1,0) -> 0 | M80: =IF(D80="ventana",1,0) -> 0
A81: MEXICALI | B81: Oficialía Mayor CENPRODE | C81: JANIZIO #1080 | D81: MINISPLIT | E81: 1 | F81: 2TTK0512G1P00AA | G81: TRANE | H81: CENPRODE4 | I81: S/S | J81: =IF(D81="minisplit",1,0) -> 1 | K81: =IF(D81="remota",1,0) -> 0 | L81: =IF(D81="paquete",1,0) -> 0 | M81: =IF(D81="ventana",1,0) -> 0
A82: MEXICALI | B82: Oficialía Mayor TALLER DE CARPINTERIA | C82: AV. RIO CULIACAN, COL. PRO-HOGAR | D82: VENTANA | E82: 1.5 | F82: 51FT18 | G82: CARRIER | H82: ING-C294 | I82: 2700N39799 | J82: =IF(D82="minisplit",1,0) -> 0 | K82: =IF(D82="remota",1,0) -> 0 | L82: =IF(D82="paquete",1,0) -> 0 | M82: =IF(D82="ventana",1,0) -> 1
A83: MEXICALI | B83: Oficialía Mayor TALLER MECANICO DEL ESTADO | C83: RIO CULIACAN E IGNACIO COMONFORT S/N | D83: PAQUETE | E83: 5 | F83: RSPM-A060JK | G83: RHEEM | H83: M1-097512 ING-R031 | I83: 7600F180806994 | J83: =IF(D83="minisplit",1,0) -> 0 | K83: =IF(D83="remota",1,0) -> 0 | L83: =IF(D83="paquete",1,0) -> 1 | M83: =IF(D83="ventana",1,0) -> 0
A84: MEXICALI | B84: Oficialía Mayor TALLER MECANICO DEL ESTADO | C84: RIO CULIACAN E IGNACIO COMONFORT S/N | D84: PAQUETE | E84: 4 | F84: RSPM-A048CK | G84: RHEEM | H84: M1-097510 ING-R027 | I84: 7605F180807012 | J84: =IF(D84="minisplit",1,0) -> 0 | K84: =IF(D84="remota",1,0) -> 0 | L84: =IF(D84="paquete",1,0) -> 1 | M84: =IF(D84="ventana",1,0) -> 0
A85: MEXICALI | B85: Oficialía Mayor TALLER MECANICO DEL ESTADO | C85: RIO CULIACAN E IGNACIO COMONFORT S/N | D85: PAQUETE | E85: 5 | F85: RSPM-A060CK | G85: RHEEM | H85: M1-097509 ING-R028 | I85: 7606F290606996 | J85: =IF(D85="minisplit",1,0) -> 0 | K85: =IF(D85="remota",1,0) -> 0 | L85: =IF(D85="paquete",1,0) -> 1 | M85: =IF(D85="ventana",1,0) -> 0
A86: MEXICALI | B86: Oficialía Mayor TALLER MECANICO DEL ESTADO | C86: RIO CULIACAN E IGNACIO COMONFORT S/N | D86: PAQUETE | E86: 5 | F86: RSPM-A060CK | G86: RHEEM | H86: M1-097511 ING-R029 | I86: 7601F180806975 | J86: =IF(D86="minisplit",1,0) -> 0 | K86: =IF(D86="remota",1,0) -> 0 | L86: =IF(D86="paquete",1,0) -> 1 | M86: =IF(D86="ventana",1,0) -> 0
A87: MEXICALI | B87: Oficialía Mayor TALLER MECANICO DEL ESTADO | C87: RIO CULIACAN E IGNACIO COMONFORT S/N | D87: VENTANA | E87: 0.75 | F87: AGD08FAM2 | G87: G.E | H87: ING-G032 | I87: DA393579 | J87: =IF(D87="minisplit",1,0) -> 0 | K87: =IF(D87="remota",1,0) -> 0 | L87: =IF(D87="paquete",1,0) -> 0 | M87: =IF(D87="ventana",1,0) -> 1
A88: MEXICALI | B88: Oficialía Mayor TALLER MECANICO DEL ESTADO | C88: RIO CULIACAN E IGNACIO COMONFORT S/N | D88: REMOTA | E88: 1.5 | F88: TTB018C100A2 | G88: TRANE | H88: M3-010503 ING-T030 | I88: Z093PSTBF | J88: =IF(D88="minisplit",1,0) -> 0 | K88: =IF(D88="remota",1,0) -> 1 | L88: =IF(D88="paquete",1,0) -> 0 | M88: =IF(D88="ventana",1,0) -> 0
A89: MEXICALI | B89: Oficialía Mayor ARCHIVO HISTORICO DEL ESTADO | C89: PEDRO F. PEREZ Y RAMIREZ | D89: PAQUETE | E89: 5 | F89: RSPM-A060JK | G89: RHEEM | H89: M1-097523 ING-R124 | I89: 7600F180806992 | J89: =IF(D89="minisplit",1,0) -> 0 | K89: =IF(D89="remota",1,0) -> 0 | L89: =IF(D89="paquete",1,0) -> 1 | M89: =IF(D89="ventana",1,0) -> 0
... A98: MEXICALI | B98: Oficialía Mayor ALMACENES GENERALES DEL ESTADO | C98: AV. MADERO ENTRE K Y L | D98: PAQUETE | E98: 5 | F98: RSPM-A060CK | G98: RHEEM | H98: M1-097520 ING-R009 | I98: 7601F180806979 | J98: =IF(D98="minisplit",1,0) -> 0 | K98: =IF(D98="remota",1,0) -> 0 | L98: =IF(D98="paquete",1,0) -> 1 | M98: =IF(D98="ventana",1,0) -> 0
A99: MEXICALI | B99: Oficialía Mayor ALMACENES GENERALES DEL ESTADO | C99: AV. MADERO ENTRE K Y L | D99: VENTANA | E99: | | F99: MAC12111C | G99: MIRAGE | I99: 0 | J99: =IF(D99="minisplit",1,0) -> 0 | K99: =IF(D99="remota",1,0) -> 0 | L99: =IF(D99="paquete",1,0) -> 0 | M99: =IF(D99="ventana",1,0) -> 1
A100: MEXICALI | B100: Oficialía Mayor ALMACENES GENERALES DEL ESTADO | C100: AV. MADERO ENTRE K Y L | D100: VENTANA | E100: 2 | F100: 0 | G100: MIRAGE | H100: M1-091184 ING-M044 | I100: 0 | J100: =IF(D100="minisplit",1,0) -> 0 | K100: =IF(D100="remota",1,0) -> 0 | L100: =IF(D100="paquete",1,0) -> 0 | M100: =IF(D100="ventana",1,0) -> 1
A101: MEXICALI | B101: Oficialía Mayor ALMACENES GENERALES DEL ESTADO | C101: AV. MADERO ENTRE K Y L | D101: VENTANA | E101: 1 | F101: W122CM-SC4 | G101: LG | H101: M3-0018905 | I101: 0 | J101: =IF(D101="minisplit",1,0) -> 0 | K101: =IF(D101="remota",1,0) -> 0 | L101: =IF(D101="paquete",1,0) -> 0 | M101: =IF(D101="ventana",1,0) -> 1
A102: MEXICALI | B102: Oficialía Mayor TALLER GRAFICO | C102: AV. MADERO ENTRE K Y L | D102: PAQUETE | E102: 5 | F102: RSPM-A060CK | G102: RHEEM | H102: M1-097514 ING-R007 | I102: 7601F180806986 | J102: =IF(D102="minisplit",1,0) -> 0 | K102: =IF(D102="remota",1,0) -> 0 | L102: =IF(D102="paquete",1,0) -> 1 | M102: =IF(D102="ventana",1,0) -> 0
A103: MEXICALI | B103: Oficialía Mayor TALLER GRAFICO | C103: AV. MADERO ENTRE K Y L | D103: PAQUETE | E103: 5 | F103: RSPM-A060CK | G103: RHEEM | H103: M1-097513 ING-R001 | I103: 7601F180806978 | J103: =IF(D103="minisplit",1,0) -> 0 | K103: =IF(D103="remota",1,0) -> 0 | L103: =IF(D103="paquete",1,0) -> 1 | M103: =IF(D103="ventana",1,0) -> 0
A104: MEXICALI | B104: Oficialía Mayor TALLER GRAFICO | C104: AV. MADERO ENTRE K Y L | D104: PAQUETE | E104: 5 | F104: RSPM-A060CK | G104: RHEEM | H104: M1-097518 ING-R006 | I104: 7601F180806980 | J104: =IF(D104="minisplit",1,0) -> 0 | K104: =IF(D104="remota",1,0) -> 0 | L104: =IF(D104="paquete",1,0) -> 1 | M104: =IF(D104="ventana",1,0) -> 0
A105: MEXICALI | B105: Oficialía Mayor TALLER GRAFICO | C105: AV. MADERO ENTRE K Y L | D105: PAQUETE | E105: 5 | F105: RSPM-A060CK | G105: RHEEM | H105: M1-097516 ING-R002 | I105: 7601F180806991 | J105: =IF(D105="minisplit",1,0) -> 0 | K105: =IF(D105="remota",1,0) -> 0 | L105: =IF(D105="paquete",1,0) -> 1 | M105: =IF(D105="ventana",1,0) -> 0
A106: MEXICALI | B106: Oficialía Mayor TALLER GRAFICO | C106: AV. MADERO ENTRE K Y L | D106: PAQUETE | E106: 5 | F106: RSPM-A060CK | G106: RHEEM | H106: M1-097517 ING-R003 | I106: 7601F180806983 | J106: =IF(D106="minisplit",1,0) -> 0 | K106: =IF(D106="remota",1,0) -> 0 | L106: =IF(D106="paquete",1,0) -> 1 | M106: =IF(D106="ventana",1,0) -> 0
A107: MEXICALI | B107: Oficialía Mayor TALLER GRAFICO | C107: AV. MADERO ENTRE K Y L | D107: PAQUETE | E107: 5 | F107: RSPM-A060CK | G107: RHEEM | H107: ING-R241 | I107: 7601F180806970 | J107: =IF(D107="minisplit",1,0) -> 0 | K107: =IF(D107="remota",1,0) -> 0 | L107: =IF(D107="paquete",1,0) -> 1 | M107: =IF(D107="ventana",1,0) -> 0
A108: MEXICALI | B108: Oficialía Mayor TALLER GRAFICO | C108: AV. MADERO ENTRE K Y L | D108: PAQUETE | E108: 5 | F108: RSNM-A060CK000 | G108: RHEEM | H108: INV-193463 ING-R267 | I108: 7592W251314425 | J108: =IF(D108="minisplit",1,0) -> 0 | K108: =IF(D108="remota",1,0) -> 0 | L108: =IF(D108="paquete",1,0) -> 1 | M108: =IF(D108="ventana",1,0) -> 0
E111: =+COUNTA(A3:A108) -> 106 | F111: EQUIPOS | J111: =SUBTOTAL(109,J3:J108) -> 49 | K111: =SUBTOTAL(109,K3:K108) -> 22 | L111: =SUBTOTAL(109,L3:L108) -> 27 | M111: =SUBTOTAL(109,M3:M108) -> 8
E112: =+SUM(E3:E108) -> 333.5 | F112: TONELADAS
I113: Total | J113: =SUM(J111:M111) -> 106

Sheet Delegaciones
A4: MUNICIPIO | B4: UNIDAD ADMINISTRATIVA | C4: DIRECCIÓN-UBICACIÓN | D4: TIPO DE EQUIPO | E4: CAP.TONELADAS | F4: MODELO | G4: MARCA | H4: INVENTARIO | I4: NO. DE SERIE | J4: Minisplit | K4: Remota | L4: Paquete | M4: Ventana
A5: ENSENADA | B5: COMUNICACIÓN SOCIAL | C5: CARRETERA TRANSPENINSULAR LA PAZ - ENSENADA #6500 EX. EJIDO CHAPULTEPEC CP. 22785 | D5: MINISPLIT | E5: 2.5 | F5: S/N | G5: MIRAGE | H5: S/N | I5: S/N | J5: =IF(D5="minisplit",1,0) -> 1 | K5: =IF(D5="remota",1,0) -> 0 | L5: =IF(D5="paquete",1,0) -> 0 | M5: =IF(D5="ventana",1,0) -> 0
A6: ENSENADA | B6: COMUNICACIÓN SOCIAL | C6: CARRETERA TRANSPENINSULAR LA PAZ - ENSENADA #6500 EX. EJIDO CHAPULTEPEC CP. 22785 | D6: MINISPLIT | E6: 2 | F6: S/N | G6: MIRAGE | H6: E-3006487 | I6: S/N | J6: =IF(D6="minisplit",1,0) -> 1 | K6: =IF(D6="remota",1,0) -> 0 | L6: =IF(D6="paquete",1,0) -> 0 | M6: =IF(D6="ventana",1,0) -> 0
A7: ENSENADA | B7: SECRETARIA DE PESCA | C7: CARRETERA TRANSPENINSULAR LA PAZ - ENSENADA #6500 EX. EJIDO CHAPULTEPEC CP. 22785 | D7: MINISPLIT | E7: 2 | F7: 4TTK0512HL100AA | G7: TRANE | H7: INV-308867 | I7: S/N | J7: =IF(D7="minisplit",1,0) -> 1 | K7: =IF(D7="remota",1,0) -> 0 | L7: =IF(D7="paquete",1,0) -> 0 | M7: =IF(D7="ventana",1,0) -> 0
A8: ENSENADA | B8: SECRETARIA DE PESCA | C8: CARRETERA TRANSPENINSULAR LA PAZ - ENSENADA #6500 EX. EJIDO CHAPULTEPEC CP. 22785 | D8: REMOTA | E8: 4 | F8: S/N | G8: WESTING HOUSE | H8: E3-006484 | I8: S/N | J8: =IF(D8="minisplit",1,0) -> 0 | K8: =IF(D8="remota",1,0) -> 1 | L8: =IF(D8="paquete",1,0) -> 0 | M8: =IF(D8="ventana",1,0) -> 0
A9: ENSENADA | B9: SECRETARIA DE PESCA | C9: CARRETERA TRANSPENINSULAR LA PAZ - ENSENADA #6500 EX. EJIDO CHAPULTEPEC CP. 22785 | D9: REMOTA | E9: 4 | F9: S/N | G9: WESTING | H9: E3-006485 | I9: S/N | J9: =IF(D9="minisplit",1,0) -> 0 | K9: =IF(D9="remota",1,0) -> 1 | L9: =IF(D9="paquete",1,0) -> 0 | M9: =IF(D9="ventana",1,0) -> 0
A10: ENSENADA | B10: SALA TIJUANA | C10: CARRETERA TRANSPENINSULAR LA PAZ - ENSENADA #6500 EX. EJIDO CHAPULTEPEC CP. 22785 | D10: REMOTA | E10: 4 | F10: S/N | G10: TRANE | H10: S/N | I10: S/N | J10: =IF(D10="minisplit",1,0) -> 0 | K10: =IF(D10="remota",1,0) -> 1 | L10: =IF(D10="paquete",1,0) -> 0 | M10: =IF(D10="ventana",1,0) -> 0
A11: ENSENADA | B11: INFORMATICA | C11: CARRETERA TRANSPENINSULAR LA PAZ - ENSENADA #6500 EX. EJIDO CHAPULTEPEC CP. 22785 | D11: MINISPLIT | E11: 2 | F11: S/N | G11: LG | H11: S/N | I11: S/N | J11: =IF(D11="minisplit",1,0) -> 1 | K11: =IF(D11="remota",1,0) -> 0 | L11: =IF(D11="paquete",1,0) -> 0 | M11: =IF(D11="ventana",1,0) -> 0
A12: ENSENADA | B12: INFORMATICA | C12: CARRETERA TRANSPENINSULAR LA PAZ - ENSENADA #6500 EX. EJIDO CHAPULTEPEC CP. 22785 | D12: REMOTA | E12: 4 | F12: 4TTR3036H1000PA | G12: TRANE | H12: INV-423454 | I12: S/N | J12: =IF(D12="minisplit",1,0) -> 0 | K12: =IF(D12="remota",1,0) -> 1 | L12: =IF(D12="paquete",1,0) -> 0 | M12: =IF(D12="ventana",1,0) -> 0
A13: ENSENADA | B13: INFORMATICA | C13: CARRETERA TRANSPENINSULAR LA PAZ - ENSENADA #6500 EX. EJIDO CHAPULTEPEC CP. 22785 | D13: REMOTA | E13: 4 | F13: 6465U493F | G13: TRANE | H13: S/N | I13: S/N | J13: =IF(D13="minisplit",1,0) -> 0 | K13: =IF(D13="remota",1,0) -> 1 | L13: =IF(D13="paquete",1,0) -> 0 | M13: =IF(D13="ventana",1,0) -> 0
A14: ENSENADA | B14: REGISTRO PUBLICO | C14: CARRETERA TRANSPENINSULAR LA PAZ - ENSENADA #6500 EX. EJIDO CHAPULTEPEC CP. 22785 | D14: REMOTA | E14: 4 | F14: S/N | G14: LENNOX | H14: INV-359040 | I14: S/N | J14: =IF(D14="minisplit",1,0) -> 0 | K14: =IF(D14="remota",1,0) -> 1 | L14: =IF(D14="paquete",1,0) -> 0 | M14: =IF(D14="ventana",1,0) -> 0
A15: ENSENADA | B15: REGISTRO PUBLICO | C15: CARRETERA TRANSPENINSULAR LA PAZ - ENSENADA #6500 EX. EJIDO CHAPULTEPEC CP. 22785 | D15: REMOTA | E15: 4 | F15: S/N | G15: AMERICAN ESTÁNDAR | H15: S/N | I15: S/N | J15: =IF(D15="minisplit",1,0) -> 0 | K15: =IF(D15="remota",1,0) -> 1 | L15: =IF(D15="paquete",1,0) -> 0 | M15: =IF(D15="ventana",1,0) -> 0
A16: ENSENADA | B16: RECAUDACION RENTAS | C16: CARRETERA TRANSPENINSULAR LA PAZ - ENSENADA #6500 EX. EJIDO CHAPULTEPEC CP. 22785 | D16: REMOTA | E16: 4 | F16: 617ULT5F | G16: TRANE | H16: S/N | I16: S/N | J16: =IF(D16="minisplit",1,0) -> 0 | K16: =IF(D16="remota",1,0) -> 1 | L16: =IF(D16="paquete",1,0) -> 0 | M16: =IF(D16="ventana",1,0) -> 0
... A47: SAN QUINTIN | B47: OFICIALIA MAYOR | C47: Av. "A" entre 9 y 10 s/n San Quintín B.C. C.P. 22931 | D47: MINISPLIT | E47: 2 | F47: S/N | G47: TRANE | H47: M1-115108 | I47: 3101590002041 | J47: =IF(D47="minisplit",1,0) -> 1 | K47: =IF(D47="remota",1,0) -> 0 | L47: =IF(D47="paquete",1,0) -> 0 | M47: =IF(D47="ventana",1,0) -> 0
A48: SAN QUINTIN | B48: OFICIALIA MAYOR | C48: Av. "A" entre 9 y 10 s/n San Quintín B.C. C.P. 22932 | D48: MINISPLIT | E48: 1 | F48: S/N | G48: YORK | H48: M3-020425 | I48: 2110402563 | J48: =IF(D48="minisplit",1,0) -> 1 | K48: =IF(D48="remota",1,0) -> 0 | L48: =IF(D48="paquete",1,0) -> 0 | M48: =IF(D48="ventana",1,0) -> 0
A49: SAN QUINTIN | B49: OFICIALIA MAYOR | C49: Av. "A" entre 9 y 10 s/n San Quintín B.C. C.P. 22934 | D49: MINISPLIT | E49: 1 | F49: S/N | G49: YORK | H49: M3-020427 | I49: 2110402649 | J49: =IF(D49="minisplit",1,0) -> 1 | K49: =IF(D49="remota",1,0) -> 0 | L49: =IF(D49="paquete",1,0) -> 0 | M49: =IF(D49="ventana",1,0) -> 0
A50: SAN QUINTIN | B50: OFICIALIA MAYOR | C50: Av. "A" entre 9 y 10 s/n San Quintín B.C. C.P. 22936 | D50: MINISPLIT | E50: 1 | F50: S/N | G50: YORK | H50: M3-020429 | I50: 2110402919 | J50: =IF(D50="minisplit",1,0) -> 1 | K50: =IF(D50="remota",1,0) -> 0 | L50: =IF(D50="paquete",1,0) -> 0 | M50: =IF(D50="ventana",1,0) -> 0
A51: SAN QUINTIN | B51: OFICIALIA MAYOR | C51: Av. "A" entre 9 y 10 s/n San Quintín B.C. C.P. 22938 | D51: MINISPLIT | E51: 1 | F51: S/N | G51: YORK | H51: M3-020431 | I51: 2110401651 | J51: =IF(D51="minisplit",1,0) -> 1 | K51: =IF(D51="remota",1,0) -> 0 | L51: =IF(D51="paquete",1,0) -> 0 | M51: =IF(D51="ventana",1,0) -> 0
A52: SAN QUINTIN | B52: OFICIALIA MAYOR | C52: Av. "A" entre 9 y 10 s/n San Quintín B.C. C.P. 22940 | D52: MINISPLIT | E52: 1 | F52: S/N | G52: YORK | H52: M3-020433 | I52: 2110400583 | J52: =IF(D52="minisplit",1,0) -> 1 | K52: =IF(D52="remota",1,0) -> 0 | L52: =IF(D52="paquete",1,0) -> 0 | M52: =IF(D52="ventana",1,0) -> 0
A53: SAN QUINTIN | B53: OFICIALIA MAYOR | C53: Av. "A" entre 9 y 10 s/n San Quintín B.C. C.P. 22942 | D53: MINISPLIT | E53: 1 | F53: S/N | G53: YORK | H53: M3-020435 | I53: 2110402647 | J53: =IF(D53="minisplit",1,0) -> 1 | K53: =IF(D53="remota",1,0) -> 0 | L53: =IF(D53="paquete",1,0) -> 0 | M53: =IF(D53="ventana",1,0) -> 0
A54: SAN QUINTIN | B54: OFICIALIA MAYOR | C54: Av. "A" entre 9 y 10 s/n San Quintín B.C. C.P. 22944 | D54: MINISPLIT | E54: 1 | F54: S/N | G54: YORK | H54: M3-020437 | I54: 2110401775 | J54: =IF(D54="minisplit",1,0) -> 1 | K54: =IF(D54="remota",1,0) -> 0 | L54: =IF(D54="paquete",1,0) -> 0 | M54: =IF(D54="ventana",1,0) -> 0
A55: SAN QUINTIN | B55: OFICIALIA MAYOR | C55: Av. "A" entre 9 y 10 s/n San Quintín B.C. C.P. 22946 | D55: MINISPLIT | E55: 1 | F55: S/N | G55: YORK | H55: M3-020439 | I55: 2110402674 | J55: =IF(D55="minisplit",1,0) -> 1 | K55: =IF(D55="remota",1,0) -> 0 | L55: =IF(D55="paquete",1,0) -> 0 | M55: =IF(D55="ventana",1,0) -> 0
A56: SAN QUINTIN | B56: OFICIALIA MAYOR | C56: Av. "A" entre 9 y 10 s/n San Quintín B.C. C.P. 22948 | D56: MINISPLIT | E56: 1 | F56: S/N | G56: YORK | H56: M3-020441 | I56: 2110401745 | J56: =IF(D56="minisplit",1,0) -> 1 | K56: =IF(D56="remota",1,0) -> 0 | L56: =IF(D56="paquete",1,0) -> 0 | M56: =IF(D56="ventana",1,0) -> 0
A57: SAN QUINTIN | B57: OFICIALIA MAYOR | C57: Av. "A" entre 9 y 10 s/n San Quintín B.C. C.P. 22950 | D57: MINISPLIT | E57: 1 | F57: S/N | G57: YORK | H57: M3-020443 | I57: 2110401731 | J57: =IF(D57="minisplit",1,0) -> 1 | K57: =IF(D57="remota",1,0) -> 0 | L57: =IF(D57="paquete",1,0) -> 0 | M57: =IF(D57="ventana",1,0) -> 0
A58: SAN QUINTIN | B58: OFICIALIA MAYOR | C58: Av. "A" entre 9 y 10 s/n San Quintín B.C. C.P. 22952 | D58: MINISPLIT | E58: 1 | F58: S/N | G58: YORK | H58: M3-020445 | I58: 2110402696 | J58: =IF(D58="minisplit",1,0) -> 1 | K58: =IF(D58="remota",1,0) -> 0 | L58: =IF(D58="paquete",1,0) -> 0 | M58: =IF(D58="ventana",1,0) -> 0
A59: SAN QUINTIN | B59: OFICIALIA MAYOR | C59: Av. "A" entre 9 y 10 s/n San Quintín B.C. C.P. 22954 | D59: MINISPLIT | E59: 2 | F59: S/N | G59: YORK | H59: M3-020447 | I59: 1110502263 | J59: =IF(D59="minisplit",1,0) -> 1 | K59: =IF(D59="remota",1,0) -> 0 | L59: =IF(D59="paquete",1,0) -> 0 | M59: =IF(D59="ventana",1,0) -> 0
A60: SAN QUINTIN | B60: OFICIALIA MAYOR | C60: Av. "A" entre 9 y 10 s/n San Quintín B.C. C.P. 22955 | D60: PAQUETE | E60: 5 | F60: S/N | G60: YORK | H60: M3-020449 | I60: W1B1703980 | J60: =IF(D60="minisplit",1,0) -> 0 | K60: =IF(D60="remota",1,0) -> 0 | L60: =IF(D60="paquete",1,0) -> 1 | M60: =IF(D60="ventana",1,0) -> 0
A61: SAN QUINTIN | B61: OFICIALIA MAYOR | C61: Av. "A" entre 9 y 10 s/n San Quintín B.C. C.P. 22957 | D61: PAQUETE | E61: 4 | F61: S/N | G61: YORK | H61: M3-020451 | I61: W1D0782394 | J61: =IF(D61="minisplit",1,0) -> 0 | K61: =IF(D61="remota",1,0) -> 0 | L61: =IF(D61="paquete",1,0) -> 1 | M61: =IF(D61="ventana",1,0) -> 0
A62: SAN QUINTIN | B62: OFICIALIA MAYOR | C62: Av. "A" entre 9 y 10 s/n San Quintín B.C. C.P. 22959 | D62: PAQUETE | E62: 5 | F62: S/N | G62: YORK | H62: M3-020453 | I62: W1B1703928 | J62: =IF(D62="minisplit",1,0) -> 0 | K62: =IF(D62="remota",1,0) -> 0 | L62: =IF(D62="paquete",1,0) -> 1 | M62: =IF(D62="ventana",1,0) -> 0
A63: SAN QUINTIN | B63: OFICIALIA MAYOR | C63: Av. "A" entre 9 y 10 s/n San Quintín B.C. C.P. 22961 | D63: PAQUETE | E63: 5 | F63: S/N | G63: YORK | H63: M3-020455 | I63: W1B1703947 | J63: =IF(D63="minisplit",1,0) -> 0 | K63: =IF(D63="remota",1,0) -> 0 | L63: =IF(D63="paquete",1,0) -> 1 | M63: =IF(D63="ventana",1,0) -> 0
A64: SAN QUINTIN | B64: OFICIALIA MAYOR | C64: Av. "A" entre 9 y 10 s/n San Quintín B.C. C.P. 22963 | D64: PAQUETE | E64: 5 | F64: S/N | G64: YORK | H64: M3-020457 | I64: W1C11844737 | J64: =IF(D64="minisplit",1,0) -> 0 | K64: =IF(D64="remota",1,0) -> 0 | L64: =IF(D64="paquete",1,0) -> 1 | M64: =IF(D64="ventana",1,0) -> 0
A65: SAN QUINTIN | B65: OFICIALIA MAYOR | C65: Av. "A" entre 9 y 10 s/n San Quintín B.C. C.P. 22966 | D65: PAQUETE | E65: 5 | F65: S/N | G65: YORK | H65: M3-020457 | I65: W1C1844737 | J65: =IF(D65="minisplit",1,0) -> 0 | K65: =IF(D65="remota",1,0) -> 0 | L65: =IF(D65="paquete",1,0) -> 1 | M65: =IF(D65="ventana",1,0) -> 0
A66: TIJUANA | B66: OFICIALIA MAYOR | C66: Almacen | D66: PAQUETE | E66: 7.5 | J66: =IF(D66="minisplit",1,0) -> 0 | K66: =IF(D66="remota",1,0) -> 0 | L66: =IF(D66="paquete",1,0) -> 1 | M66: =IF(D66="ventana",1,0) -> 0
A67: TECATE | B67: OFICIALIA MAYOR | C67: CENTRO DE GOBIERNO | D67: MINISPLIT | E67: 2 | F67: S/N | J67: =IF(D67="minisplit",1,0) -> 1 | K67: =IF(D67="remota",1,0) -> 0 | L67: =IF(D67="paquete",1,0) -> 0 | M67: =IF(D67="ventana",1,0) -> 0
A68: TECATE | B68: OFICIALIA MAYOR | C68: CENTRO DE GOBIERNO | D68: MINISPLIT | E68: 2 | F68: S/N | J68: =IF(D68="minisplit",1,0) -> 1 | K68: =IF(D68="remota",1,0) -> 0 | L68: =IF(D68="paquete",1,0) -> 0 | M68: =IF(D68="ventana",1,0) -> 0
A69: TECATE | B69: OFICIALIA MAYOR | C69: CENTRO DE GOBIERNO | D69: MINISPLIT | E69: 2 | F69: S/N | J69: =IF(D69="minisplit",1,0) -> 1 | K69: =IF(D69="remota",1,0) -> 0 | L69: =IF(D69="paquete",1,0) -> 0 | M69: =IF(D69="ventana",1,0) -> 0
E72: =+COUNTA(E5:E69) -> 65 | F72: EQUIPOS | J72: =SUBTOTAL(109,J5:J69) -> 35 | K72: =SUBTOTAL(109,K5:K69) -> 22 | L72: =SUBTOTAL(109,L5:L69) -> 8 | M72: =SUBTOTAL(109,M5:M69) -> 0
E73: =+SUM(E5:E69) -> 180 | F73: TONELADAS
I74: Total | J74: =SUM(J72:M72) -> 65

Sheet Concentrado
A1: OFICIALÍA MAYOR DE GOBIERNO DEL ESTADO DE BAJA CALIFORNIA
A2: LISTADO DE AIRES ACONDICIONADO PARA MANTENIMIENTO PREVENTIVO
A4: Dependencias | B4: Toneladas | C4: Cantidad de Equipos | D4: Tipo de Aire Acondicionado
D5: Minisplit | E5: Remota | F5: Paquete | G5: Ventana | H5: Remota de Precisión
A6: Secretaria de Seguridad Ciudadana (SSC) | B6: =SSC!E62 -> 128.5 | C6: =SUBTOTAL(109,D6:H6) -> 56 | D6: =SSC!J61 -> 54 | E6: =SSC!K61 -> 1 | F6: =SSC!L61 -> 1 | G6: =SSC!M61 -> 0 | H6: 0
A7: Secretaría de Infraestructura, Desarrollo Urbano y Reordenación Territorial (SIDURT) | B7: =SIDURT!E50 -> 175 | C7: =SUBTOTAL(109,D7:H7) -> 44 | D7: =SIDURT!K49 -> 15 | E7: =SIDURT!L49 -> 3 | F7: =SIDURT!M49 -> 26 | G7: =SIDURT!N49 -> 0 | H7: 0
A8: Secretaría de Turismo (SECTUR) | B8: =SECTURE!E16 -> 36 | C8: =SUBTOTAL(109,D8:H8) -> 11 | D8: =SECTURE!K15 -> 6 | E8: =SECTURE!L15 -> 0 | F8: =SECTURE!M15 -> 5 | G8: =SECTURE!N15 -> 0 | H8: 0
A9: Secretario del Campo y Seguridad Alimentaria (SCSA) | B9: ='SECRETARÍA DEL CAMPO'!F71 -> 260.5 | C9: =SUBTOTAL(109,D9:H9) -> 65 | D9: ='SECRETARÍA DEL CAMPO'!K70 -> 26 | E9: ='SECRETARÍA DEL CAMPO'!L70 -> 21 | F9: ='SECRETARÍA DEL CAMPO'!M70 -> 18 | G9: ='SECRETARÍA DEL CAMPO'!N70 -> 0 | H9: 0
A10: Secretaría de la Honestidad y la Función Pública (SHFP) | B10: =SHFP!E20 -> 46 | C10: =SUBTOTAL(109,D10:H10) -> 14 | D10: =SHFP!J19 -> 7 | E10: =SHFP!K19 -> 0 | F10: =SHFP!L19 -> 7 | G10: =SHFP!M19 -> 0 | H10: 0
A11: Secretaria de Hacienda (SHE) | B11: =SHE!E102 -> 375 | C11: =SUBTOTAL(109,D11:H11) -> 96 | D11: =SHE!K101 -> 50 | E11: =SHE!L101 -> 8 | F11: =SHE!M101 -> 31 | G11: =SHE!N101 -> 5 | H11: =SHE!O101 -> 2
A12: Sistema Estatal de Indicadores (SEI) | B12: =SEI!E19 -> 40.5 | C12: =SUBTOTAL(109,D12:H12) -> 14 | D12: =SEI!J18 -> 7 | E12: =SEI!K18 -> 7 | F12: =SEI!L18 -> 0 | G12: =SEI!M18 -> 0 | H12: 0
A13: Secretaria General de Gobierno (SGG) | B13: =SGG!E45 -> 152.5 | C13: =SUBTOTAL(109,D13:H13) -> 39 | D13: =SGG!K44 -> 18 | E13: =SGG!L44 -> 2 | F13: =SGG!M44 -> 18 | G13: =SGG!N44 -> 1 | H13: 0
A14: Consejería Jurídica (CJ) | B14: =CJ!E11 -> 10 | C14: =SUBTOTAL(109,D14:H14) -> 5 | D14: =CJ!J10 -> 4 | E14: =CJ!K10 -> 0 | F14: =CJ!L10 -> 1 | G14: =CJ!M10 -> 0 | H14: 0
A15: Secretaría de Medio Ambiente y Desarrollo Sustentable | B15: =SAM!F73 -> 205.5 | C15: =SUBTOTAL(109,D15:H15) -> 67 | D15: =SAM!L72 -> 45 | E15: =SAM!M72 -> 14 | F15: =SAM!N72 -> 8 | G15: =SAM!O72 -> 0 | H15: 0
A16: Oficialía Mayor de Gobierno (OM) | B16: =OM!E112 -> 333.5 | C16: =SUBTOTAL(109,D16:H16) -> 106 | D16: =OM!J111 -> 49 | E16: =OM!K111 -> 22 | F16: =OM!L111 -> 27 | G16: =OM!M111 -> 8 | H16: 0
A17: Delegaciones | B17: =Delegaciones!E73 -> 180 | C17: =Delegaciones!J74 -> 65 | D17: =Delegaciones!J72 -> 35 | E17: =Delegaciones!K72 -> 22 | F17: =Delegaciones!L72 -> 8 | G17: =Delegaciones!M72 -> 0 | H17: 0
A19: Totales | B19: =SUM(B6:B17) -> 1943 | C19: =SUM(C6:C17) -> 582 | D19: =SUM(D6:D17) -> 316 | E19: =SUM(E6:E17) -> 100 | F19: =SUM(F6:F17) -> 150 | G19: =SUM(G6:G17) -> 14 | H19: =SUM(H6:H17) -> 2
A21: Toneladas promedio por equipo | B21: =B19/C19 -> 3.338488
