Workbook

Sheet SSC
A2: MUNICIPIO | B2: UNIDAD ADMINISTRATIVA | C2: DIRECCIÓN-UBICACIÓN | D2: TIPO DE EQUIPO | E2: CAP.TONELADAS | F2: MODELO | G2: MARCA | H2: INVENTARIO | I2: NO. DE SERIE | J2: Minisplit | K2: Remota | L2: Paquete | M2: Ventana
A3: MEXICALI | B3: ADMINISTRACION SSC | C3: Av. de los Héroes y calle de la Libertad #399, Centro Cívico - comedor planta baja | D3: MINISPLIT | E3: 1 | F3: EMPRCI22-E2 | G3: PRIME | H3: 428124 | J3: =IF(D3="minisplit",1,0) -> 1 | K3: =IF(D3="remota",1,0) -> 0 | L3: =IF(D3="paquete",1,0) -> 0 | M3: =IF(D3="ventana",1,0) -> 0
A4: MEXICALI | B4: ADMINISTRACION SSC | C4: Av. de los Héroes y calle de la Libertad #399, Centro Cívico. - monitoreo sotano | D4: MINISPLIT | E4: 2 | F4: ARU-24A21OF | G4: AURUS | H4: 128121 | J4: =IF(D4="minisplit",1,0) -> 1 | K4: =IF(D4="remota",1,0) -> 0 | L4: =IF(D4="paquete",1,0) -> 0 | M4: =IF(D4="ventana",1,0) -> 0
A5: MEXICALI | B5: ADMINISTRACION SSC | C5: Av. de los Héroes y calle de la Libertad #399, Centro Cívico - sala de escoltas sotano | D5: MINISPLIT | E5: 2 | F5: LM024HI-100P432-1 | G5: LENNOX | H5: 18621 | I5: 52819A36149 | J5: =IF(D5="minisplit",1,0) -> 1 | K5: =IF(D5="remota",1,0) -> 0 | L5: =IF(D5="paquete",1,0) -> 0 | M5: =IF(D5="ventana",1,0) -> 0
A6: MEXICALI | B6: ADMINISTRACION SSC | C6: Av. de los Héroes y calle de la Libertad #399, Centro Cívico - biometria de voz sotano | D6: MINISPLIT | E6: 2 | F6: 4MCW0524HI000AA | G6: TRANE | J6: =IF(D6="minisplit",1,0) -> 1 | K6: =IF(D6="remota",1,0) -> 0 | L6: =IF(D6="paquete",1,0) -> 0 | M6: =IF(D6="ventana",1,0) -> 0
A7: MEXICALI | B7: ADMINISTRACION SSC | C7: Av. de los Héroes y calle de la Libertad #399, Centro Cívico - UPS planta baja | D7: MINISPLIT | E7: 2 | F7: FKESOJ242C | G7: FRIKKO | H7: 428129 | I7: S-2022-72-ID-04-0159 | J7: =IF(D7="minisplit",1,0) -> 1 | K7: =IF(D7="remota",1,0) -> 0 | L7: =IF(D7="paquete",1,0) -> 0 | M7: =IF(D7="ventana",1,0) -> 0
A8: MEXICALI | B8: ADMINISTRACION SSC | C8: Av. de los Héroes y calle de la Libertad #399, Centro Cívico - contraloria interna planta baja | D8: MINISPLIT | E8: 1 | F8: EMPRCI22-E2 | G8: PRIME | H8: 424106 | J8: =IF(D8="minisplit",1,0) -> 1 | K8: =IF(D8="remota",1,0) -> 0 | L8: =IF(D8="paquete",1,0) -> 0 | M8: =IF(D8="ventana",1,0) -> 0
A9: MEXICALI | B9: ADMINISTRACION SSC | C9: Av. de los Héroes y calle de la Libertad #399, Centro Cívico - direccion de asuntos legales 4to piso | D9: MINISPLIT | E9: 2 | F9: KFESOJ242C | G9: FRIKKO | H9: 428119 | I9: S-2021-70-ID-04-0098 | J9: =IF(D9="minisplit",1,0) -> 1 | K9: =IF(D9="remota",1,0) -> 0 | L9: =IF(D9="paquete",1,0) -> 0 | M9: =IF(D9="ventana",1,0) -> 0
A10: MEXICALI | B10: ADMINISTRACION SSC | C10: Av. de los Héroes y calle de la Libertad #399, Centro Cívico - planeacion y desarrollo 4to piso | D10: MINISPLIT | E10: 1 | F10: 40PPRQ123A-E | G10: CARRIER | I10: D202932040716C21170189 | J10: =IF(D10="minisplit",1,0) -> 1 | K10: =IF(D10="remota",1,0) -> 0 | L10: =IF(D10="paquete",1,0) -> 0 | M10: =IF(D10="ventana",1,0) -> 0
A11: MEXICALI | B11: ADMINISTRACION SSC | C11: Av. de los Héroes y calle de la Libertad #399, Centro Cívico - planeacion y desarrollo 4to piso | D11: MINISPLIT | E11: 1 | F11: 40PRQ123A-E | G11: CARRIER | I11: D202932040716C21170399 | J11: =IF(D11="minisplit",1,0) -> 1 | K11: =IF(D11="remota",1,0) -> 0 | L11: =IF(D11="paquete",1,0) -> 0 | M11: =IF(D11="ventana",1,0) -> 0
A12: MEXICALI | B12: ADMINISTRACION SSC | C12: Av. de los Héroes y calle de la Libertad #399, Centro Cívico - oficina titular 4to piso | D12: MINISPLIT | E12: 2 | F12: 2MCW0524E1000AA | G12: TRANE | I12: 1052712172605120085 | J12: =IF(D12="minisplit",1,0) -> 1 | K12: =IF(D12="remota",1,0) -> 0 | L12: =IF(D12="paquete",1,0) -> 0 | M12: =IF(D12="ventana",1,0) -> 0
A13: MEXICALI | B13: ADMINISTRACION SSC | C13: Av. de los Héroes y calle de la Libertad #399, Centro Cívico - sala titular 4to piso | D13: MINISPLIT | E13: 1.5 | F13: A4MCW0518H1000AA | G13: TRANE | H13: 298140 | J13: =IF(D13="minisplit",1,0) -> 1 | K13: =IF(D13="remota",1,0) -> 0 | L13: =IF(D13="paquete",1,0) -> 0 | M13: =IF(D13="ventana",1,0) -> 0
A14: MEXICALI | B14: ADMINISTRACION SSC | C14: Av. de los Héroes y calle de la Libertad #399, Centro Cívico - site 1er piso | D14: MINISPLIT | E14: 2 | F14: FKESOJ242C | G14: FRIKKO | I14: S-2022-72-ID-04-0178 | J14: =IF(D14="minisplit",1,0) -> 1 | K14: =IF(D14="remota",1,0) -> 0 | L14: =IF(D14="paquete",1,0) -> 0 | M14: =IF(D14="ventana",1,0) -> 0
A15: MEXICALI | B15: ADMINISTRACION SSC | C15: Av. de los Héroes y calle de la Libertad #399, Centro Cívico - oficina jefe administrativo 1er piso | D15: MINISPLIT | E15: 2 | F15: FKESOJ242C | G15: FRIKKO | I15: S-2022-72-ID-04-0177 | J15: =IF(D15="minisplit",1,0) -> 1 | K15: =IF(D15="remota",1,0) -> 0 | L15: =IF(D15="paquete",1,0) -> 0 | M15: =IF(D15="ventana",1,0) -> 0
A16: MEXICALI | B16: ADMINISTRACION SSC | C16: Av. de los Héroes y calle de la Libertad #399, Centro Cívico - sala escoltas 4to piso | D16: MINISPLIT | E16: 1 | F16: 73847 | G16: TRANE | H16: 287728 | I16: 3E91470000137 | J16: =IF(D16="minisplit",1,0) -> 1 | K16: =IF(D16="remota",1,0) -> 0 | L16: =IF(D16="paquete",1,0) -> 0 | M16: =IF(D16="ventana",1,0) -> 0
A17: MEXICALI | B17: ADMINISTRACION SSC | C17: Av. de los Héroes y calle de la Libertad #399, Centro Cívico - biometria de voz sotano | D17: MINISPLIT | E17: 2 | F17: 2MCW0524A1AA | G17: TRANE | H17: M3-020487 | J17: =IF(D17="minisplit",1,0) -> 1 | K17: =IF(D17="remota",1,0) -> 0 | L17: =IF(D17="paquete",1,0) -> 0 | M17: =IF(D17="ventana",1,0) -> 0
A18: MEXICALI | B18: ADMINISTRACION SSC | C18: Av. de los Héroes y calle de la Libertad #399, Centro Cívico - biometria de voz sotano | D18: MINISPLIT | E18: 2 | F18: 4MCW0524H1000AA | G18: TRANE | J18: =IF(D18="minisplit",1,0) -> 1 | K18: =IF(D18="remota",1,0) -> 0 | L18: =IF(D18="paquete",1,0) -> 0 | M18: =IF(D18="ventana",1,0) -> 0
A19: MEXICALI | B19: ADMINISTRACION SSC | C19: Av. de los Héroes y calle de la Libertad #399, Centro Cívico - anexo site 1er piso | D19: MINISPLIT | E19: 3 | F19: MCX524GI0RCA | G19: TRANE | I19: 3T1211-215678 | J19: =IF(D19="minisplit",1,0) -> 1 | K19: =IF(D19="remota",1,0) -> 0 | L19: =IF(D19="paquete",1,0) -> 0 | M19: =IF(D19="ventana",1,0) -> 0
A20: MEXICALI | B20: ADMINISTRACION SSC | C20: Av. de los Héroes y calle de la Libertad #399, Centro Cívico - anexo cuarto de UPS planta baja | D20: MINISPLIT | E20: 3 | F20: MCX524GI0RCA | G20: TRANE | I20: 3TI211-215673 | J20: =IF(D20="minisplit",1,0) -> 1 | K20: =IF(D20="remota",1,0) -> 0 | L20: =IF(D20="paquete",1,0) -> 0 | M20: =IF(D20="ventana",1,0) -> 0
A21: MEXICALI | B21: FUERZA ESTATAL DE SEGURIDAD CIUDADANA | C21: ALMACEN GENERAL-CALLE CALFIA # 412 centro civico | D21: MINISPLIT | E21: 2 | F21: W1HXF1(m)-24KW2C | G21: westinghouse | H21: INV-266301 | J21: =IF(D21="minisplit",1,0) -> 1 | K21: =IF(D21="remota",1,0) -> 0 | L21: =IF(D21="paquete",1,0) -> 0 | M21: =IF(D21="ventana",1,0) -> 0
A22: MEXICALI | B22: FUERZA ESTATAL DE SEGURIDAD CIUDADANA | C22: CALLE CALFIA # 412 centro civico | D22: MINISPLIT | E22: 2 | H22: INV-266302 | J22: =IF(D22="minisplit",1,0) -> 1 | K22: =IF(D22="remota",1,0) -> 0 | L22: =IF(D22="paquete",1,0) -> 0 | M22: =IF(D22="ventana",1,0) -> 0
A23: MEXICALI | B23: FUERZA ESTATAL DE SEGURIDAD CIUDADANA | C23: CALLE CALFIA # 412 centro civico | D23: MINISPLIT | E23: 2 | H23: INV-266303 | J23: =IF(D23="minisplit",1,0) -> 1 | K23: =IF(D23="remota",1,0) -> 0 | L23: =IF(D23="paquete",1,0) -> 0 | M23: =IF(D23="ventana",1,0) -> 0
A24: MEXICALI | B24: FUERZA ESTATAL DE SEGURIDAD CIUDADANA | C24: CALLE CALFIA # 412 centro civico | D24: MINISPLIT | E24: 2 | H24: INV-266304 | J24: =IF(D24="minisplit",1,0) -> 1 | K24: =IF(D24="remota",1,0) -> 0 | L24: =IF(D24="paquete",1,0) -> 0 | M24: =IF(D24="ventana",1,0) -> 0
A25: MEXICALI | B25: FUERZA ESTATAL DE SEGURIDAD CIUDADANA | C25: CALLE CALFIA # 412 centro civico | D25: MINISPLIT | E25: 2 | H25: INV-266305 | J25: =IF(D25="minisplit",1,0) -> 1 | K25: =IF(D25="remota",1,0) -> 0 | L25: =IF(D25="paquete",1,0) -> 0 | M25: =IF(D25="ventana",1,0) -> 0
A26: MEXICALI | B26: FUERZA ESTATAL DE SEGURIDAD CIUDADANA | C26: CALLE CALFIA # 412 centro civico | D26: MINISPLIT | E26: 2 | J26: =IF(D26="minisplit",1,0) -> 1 | K26: =IF(D26="remota",1,0) -> 0 | L26: =IF(D26="paquete",1,0) -> 0 | M26: =IF(D26="ventana",1,0) -> 0
A27: MEXICALI | B27: FUERZA ESTATAL DE SEGURIDAD CIUDADANA | C27: CALLE CALFIA # 412 centro civico | D27: MINISPLIT | E27: 2 | J27: =IF(D27="minisplit",1,0) -> 1 | K27: =IF(D27="remota",1,0) -> 0 | L27: =IF(D27="paquete",1,0) -> 0 | M27: =IF(D27="ventana",1,0) -> 0
A28: MEXICALI | B28: FUERZA ESTATAL DE SEGURIDAD CIUDADANA | C28: CALLE CALFIA # 412 centro civico | D28: MINISPLIT | E28: 2 | J28: =IF(D28="minisplit",1,0) -> 1 | K28: =IF(D28="remota",1,0) -> 0 | L28: =IF(D28="paquete",1,0) -> 0 | M28: =IF(D28="ventana",1,0) -> 0
A29: MEXICALI | B29: FUERZA ESTATAL DE SEGURIDAD CIUDADANA | C29: CASETA-CALLE CALFIA # 412 centro civico | D29: MINISPLIT | E29: 2 | H29: INV-266306 | J29: =IF(D29="minisplit",1,0) -> 1 | K29: =IF(D29="remota",1,0) -> 0 | L29: =IF(D29="paquete",1,0) -> 0 | M29: =IF(D29="ventana",1,0) -> 0
A30: MEXICALI | B30: FUERZA ESTATAL DE SEGURIDAD CIUDADANA | C30: ESCUADRON VIOLETA-CALLE CALFIA # 412 centro civico | D30: MINISPLIT | E30: 2 | H30: INV-266307 | J30: =IF(D30="minisplit",1,0) -> 1 | K30: =IF(D30="remota",1,0) -> 0 | L30: =IF(D30="paquete",1,0) -> 0 | M30: =IF(D30="ventana",1,0) -> 0
A31: MEXICALI | B31: FUERZA ESTATAL DE SEGURIDAD CIUDADANA | C31: CALLE CALFIA # 412 centro civico | D31: MINISPLIT | E31: 2 | H31: INV-266308 | J31: =IF(D31="minisplit",1,0) -> 1 | K31: =IF(D31="remota",1,0) -> 0 | L31: =IF(D31="paquete",1,0) -> 0 | M31: =IF(D31="ventana",1,0) -> 0
A32: MEXICALI | B32: FUERZA ESTATAL DE SEGURIDAD CIUDADANA | C32: CALEA-CALLE CALFIA # 412 centro civico | D32: MINISPLIT | E32: 2 | F32: 2M6WO524961000CA | G32: FRANE | H32: INV-266309 | I32: 3B1405000094 | J32: =IF(D32="minisplit",1,0) -> 1 | K32: =IF(D32="remota",1,0) -> 0 | L32: =IF(D32="paquete",1,0) -> 0 | M32: =IF(D32="ventana",1,0) -> 0
A33: MEXICALI | B33: FUERZA ESTATAL DE SEGURIDAD CIUDADANA | C33: CALLE CALFIA # 412 centro civico | D33: MINISPLIT | E33: 2 | H33: INV-266310 | J33: =IF(D33="minisplit",1,0) -> 1 | K33: =IF(D33="remota",1,0) -> 0 | L33: =IF(D33="paquete",1,0) -> 0 | M33: =IF(D33="ventana",1,0) -> 0
A34: MEXICALI | B34: FUERZA ESTATAL DE SEGURIDAD CIUDADANA | C34: CALLE CALFIA # 412 centro civico | D34: MINISPLIT | E34: 2 | H34: INV-266311 | J34: =IF(D34="minisplit",1,0) -> 1 | K34: =IF(D34="remota",1,0) -> 0 | L34: =IF(D34="paquete",1,0) -> 0 | M34: =IF(D34="ventana",1,0) -> 0
A35: MEXICALI | B35: FUERZA ESTATAL DE SEGURIDAD CIUDADANA | C35: CALLE CALFIA # 412 centro civico | D35: MINISPLIT | E35: 2 | H35: INV-266312 | J35: =IF(D35="minisplit",1,0) -> 1 | K35: =IF(D35="remota",1,0) -> 0 | L35: =IF(D35="paquete",1,0) -> 0 | M35: =IF(D35="ventana",1,0) -> 0
A36: MEXICALI | B36: FUERZA ESTATAL DE SEGURIDAD CIUDADANA | C36: CALLE CALFIA # 412 centro civico | D36: MINISPLIT | E36: 2 | H36: INV-266313 | J36: =IF(D36="minisplit",1,0) -> 1 | K36: =IF(D36="remota",1,0) -> 0 | L36: =IF(D36="paquete",1,0) -> 0 | M36: =IF(D36="ventana",1,0) -> 0
A37: MEXICALI | B37: FUERZA ESTATAL DE SEGURIDAD CIUDADANA | C37: CALLE CALFIA # 412 centro civico | D37: MINISPLIT | E37: 2 | H37: INV-286878 | J37: =IF(D37="minisplit",1,0) -> 1 | K37: =IF(D37="remota",1,0) -> 0 | L37: =IF(D37="paquete",1,0) -> 0 | M37: =IF(D37="ventana",1,0) -> 0
A38: MEXICALI | B38: FUERZA ESTATAL DE SEGURIDAD CIUDADANA | C38: CELDAS-CALLE CALFIA # 412 centro civico | D38: MINISPLIT | E38: 2 | G38: JAPANDO | H38: INV-286879 | J38: =IF(D38="minisplit",1,0) -> 1 | K38: =IF(D38="remota",1,0) -> 0 | L38: =IF(D38="paquete",1,0) -> 0 | M38: =IF(D38="ventana",1,0) -> 0
A39: MEXICALI | B39: FUERZA ESTATAL DE SEGURIDAD CIUDADANA | C39: CELDAS-CALLE CALFIA # 412 centro civico | D39: MINISPLIT | E39: 2 | G39: JAPANDO | H39: M1-134543 | J39: =IF(D39="minisplit",1,0) -> 1 | K39: =IF(D39="remota",1,0) -> 0 | L39: =IF(D39="paquete",1,0) -> 0 | M39: =IF(D39="ventana",1,0) -> 0
A40: MEXICALI | B40: FUERZA ESTATAL DE SEGURIDAD CIUDADANA | C40: CALEA-CALLE CALFIA # 412 centro civico | D40: MINISPLIT | E40: 2 | G40: frico | H40: INV-424103 | I40: S-2021-7011d040137 | J40: =IF(D40="minisplit",1,0) -> 1 | K40: =IF(D40="remota",1,0) -> 0 | L40: =IF(D40="paquete",1,0) -> 0 | M40: =IF(D40="ventana",1,0) -> 0
A41: MEXICALI | B41: FUERZA ESTATAL DE SEGURIDAD CIUDADANA | C41: RECEPCION-CALLE CALFIA # 412 centro civico | D41: MINISPLIT | E41: 2 | F41: MAS12C2AGO | G41: MIDEA | H41: INV-428123 | J41: =IF(D41="minisplit",1,0) -> 1 | K41: =IF(D41="remota",1,0) -> 0 | L41: =IF(D41="paquete",1,0) -> 0 | M41: =IF(D41="ventana",1,0) -> 0
...

Sheet SIDURT
A2: MUNICIPIO | B2: UNIDAD ADMINISTRATIVA | C2: DIRECCIÓN-UBICACIÓN | D2: TIPO DE EQUIPO | E2: CAP.TONELADAS | F2: MODELO | G2: MARCA | H2: INVENTARIO | I2: NO. DE SERIE | J2: CAP.TON. REPORTADAS | K2: Minisplit | L2: Remota | M2: Paquete | N2: Ventana
A3: MEXICALI | B3: DELEGACIÓN | C3: CENTRO DE GOBIERNO CARRETERA TRANSPENINSULAR ENSENADA-LA PAZ No. 6500 EX-EJIDO CHAPULTEPEC C.P. 22785, ENSENADA, B.C. | D3: PAQUETE | E3: 5 | F3: MILLER MODELO NORDINE DS5BD-060KA | G3: MILLER | H3: E3-006464 | J3: 5 TONELADAS | K3: =IF(D3="minisplit",1,0) -> 0 | L3: =IF(D3="remota",1,0) -> 0 | M3: =IF(D3="paquete",1,0) -> 1 | N3: =IF(D3="ventana",1,0) -> 0
A4: MEXICALI | B4: DELEGACIÓN | C4: CENTRO DE GOBIERNO CARRETERA TRANSPENINSULAR ENSENADA-LA PAZ No. 6500 EX-EJIDO CHAPULTEPEC C.P. 22785, ENSENADA, B.C. | D4: PAQUETE | E4: 5 | F4: MILLER MODELO NORDINE DS5BD-060KA | G4: MILLER | H4: E3-006465 | J4: 5 TONELADAS | K4: =IF(D4="minisplit",1,0) -> 0 | L4: =IF(D4="remota",1,0) -> 0 | M4: =IF(D4="paquete",1,0) -> 1 | N4: =IF(D4="ventana",1,0) -> 0
A5: MEXICALI | B5: DELEGACIÓN | C5: CALLE PADRE EUSEBIO KINO# 1178,FRACC. EL DESCANSO, C.P 21478, TECATE, B.C. | D5: PAQUETE | E5: 5 | J5: 5 TONELADAS | K5: =IF(D5="minisplit",1,0) -> 0 | L5: =IF(D5="remota",1,0) -> 0 | M5: =IF(D5="paquete",1,0) -> 1 | N5: =IF(D5="ventana",1,0) -> 0
A6: MEXICALI | B6: DELEGACIÓN | C6: CALLE PADRE EUSEBIO KINO# 1178,FRACC. EL DESCANSO, C.P 21478, TECATE, B.C. | D6: PAQUETE | E6: 5 | J6: 5 TONELADAS | K6: =IF(D6="minisplit",1,0) -> 0 | L6: =IF(D6="remota",1,0) -> 0 | M6: =IF(D6="paquete",1,0) -> 1 | N6: =IF(D6="ventana",1,0) -> 0
A7: MEXICALI | B7: DELEGACIÓN | C7: CALLE PADRE EUSEBIO KINO# 1178,FRACC. EL DESCANSO, C.P 21478, TECATE, B.C. | D7: REMOTA | E7: 5 | G7: TRANE | H7: INV-423881 | I7: 21451G7P3V | J7: 5 TONELADAS | K7: =IF(D7="minisplit",1,0) -> 0 | L7: =IF(D7="remota",1,0) -> 1 | M7: =IF(D7="paquete",1,0) -> 0 | N7: =IF(D7="ventana",1,0) -> 0
A8: MEXICALI | B8: DELEGACIÓN | C8: ESQUINA, CARRETERA LIBRE, TIJUANA-TECATE, BLVD. NOGALES KM. 26.5, EL FLORIDO, 22253 TIJUANA, B.C. | D8: PAQUETE | E8: 3 | J8: 2X30A, 220V / 3 TON | K8: =IF(D8="minisplit",1,0) -> 0 | L8: =IF(D8="remota",1,0) -> 0 | M8: =IF(D8="paquete",1,0) -> 1 | N8: =IF(D8="ventana",1,0) -> 0
A9: MEXICALI | B9: DELEGACIÓN | C9: ESQUINA, CARRETERA LIBRE, TIJUANA-TECATE, BLVD. NOGALES KM. 26.5, EL FLORIDO, 22253 TIJUANA, B.C. | D9: PAQUETE | E9: 3 | J9: 2X30A, 220V / 3 TON | K9: =IF(D9="minisplit",1,0) -> 0 | L9: =IF(D9="remota",1,0) -> 0 | M9: =IF(D9="paquete",1,0) -> 1 | N9: =IF(D9="ventana",1,0) -> 0
A10: MEXICALI | B10: DELEGACIÓN | C10: ESQUINA, CARRETERA LIBRE, TIJUANA-TECATE, BLVD. NOGALES KM. 26.5, EL FLORIDO, 22253 TIJUANA, B.C. | D10: PAQUETE | E10: 3 | J10: 2X30A, 220V / 3 TON | K10: =IF(D10="minisplit",1,0) -> 0 | L10: =IF(D10="remota",1,0) -> 0 | M10: =IF(D10="paquete",1,0) -> 1 | N10: =IF(D10="ventana",1,0) -> 0
A11: MEXICALI | B11: DELEGACIÓN | C11: ESQUINA, CARRETERA LIBRE, TIJUANA-TECATE, BLVD. NOGALES KM. 26.5, EL FLORIDO, 22253 TIJUANA, B.C. | D11: PAQUETE | E11: 3 | J11: 2X30A, 220V / 3 TON | K11: =IF(D11="minisplit",1,0) -> 0 | L11: =IF(D11="remota",1,0) -> 0 | M11: =IF(D11="paquete",1,0) -> 1 | N11: =IF(D11="ventana",1,0) -> 0
A12: MEXICALI | B12: DELEGACIÓN | C12: ESQUINA, CARRETERA LIBRE, TIJUANA-TECATE, BLVD. NOGALES KM. 26.5, EL FLORIDO, 22253 TIJUANA, B.C. | D12: PAQUETE | E12: 5 | J12: 2X60A, 220V/ 5TON | K12: =IF(D12="minisplit",1,0) -> 0 | L12: =IF(D12="remota",1,0) -> 0 | M12: =IF(D12="paquete",1,0) -> 1 | N12: =IF(D12="ventana",1,0) -> 0
A13: MEXICALI | B13: DELEGACIÓN | C13: ESQUINA, CARRETERA LIBRE, TIJUANA-TECATE, BLVD. NOGALES KM. 26.5, EL FLORIDO, 22253 TIJUANA, B.C. | D13: PAQUETE | E13: 4 | J13: 2X60A, 220V/ 4TON | K13: =IF(D13="minisplit",1,0) -> 0 | L13: =IF(D13="remota",1,0) -> 0 | M13: =IF(D13="paquete",1,0) -> 1 | N13: =IF(D13="ventana",1,0) -> 0
A14: MEXICALI | B14: DELEGACIÓN | C14: ESQUINA, CARRETERA LIBRE, TIJUANA-TECATE, BLVD. NOGALES KM. 26.5, EL FLORIDO, 22253 TIJUANA, B.C. | D14: PAQUETE | E14: 5 | J14: 2X60A, 220V/ 5TON | K14: =IF(D14="minisplit",1,0) -> 0 | L14: =IF(D14="remota",1,0) -> 0 | M14: =IF(D14="paquete",1,0) -> 1 | N14: =IF(D14="ventana",1,0) -> 0
A15: MEXICALI | B15: DELEGACIÓN | C15: ESQUINA, CARRETERA LIBRE, TIJUANA-TECATE, BLVD. NOGALES KM. 26.5, EL FLORIDO, 22253 TIJUANA, B.C. | D15: PAQUETE | E15: 4 | J15: 2X60A, 220V/ 4TON | K15: =IF(D15="minisplit",1,0) -> 0 | L15: =IF(D15="remota",1,0) -> 0 | M15: =IF(D15="paquete",1,0) -> 1 | N15: =IF(D15="ventana",1,0) -> 0
A16: MEXICALI | B16: DELEGACIÓN | C16: ESQUINA, CARRETERA LIBRE, TIJUANA-TECATE, BLVD. NOGALES KM. 26.5, EL FLORIDO, 22253 TIJUANA, B.C. | D16: MINISPLIT | E16: 2 | J16: 26000 BTU/H, 2000W, 9.6A, 220V | K16: =IF(D16="minisplit",1,0) -> 1 | L16: =IF(D16="remota",1,0) -> 0 | M16: =IF(D16="paquete",1,0) -> 0 | N16: =IF(D16="ventana",1,0) -> 0
A17: MEXICALI | B17: DELEGACIÓN | C17: ESQUINA, CARRETERA LIBRE, TIJUANA-TECATE, BLVD. NOGALES KM. 26.5, EL FLORIDO, 22253 TIJUANA, B.C. | D17: MINISPLIT | E17: 2 | J17: 26001 BTU/H, 2000W, 9.6A, 220V | K17: =IF(D17="minisplit",1,0) -> 1 | L17: =IF(D17="remota",1,0) -> 0 | M17: =IF(D17="paquete",1,0) -> 0 | N17: =IF(D17="ventana",1,0) -> 0
A18: MEXICALI | B18: CONTRATACIÓN Y COSTOS | C18: CALLE G 510 ESQUINA CON CALLEJÓN INGANACIO ZARAGOZA SEGUNDA SECCION | D18: PAQUETE | E18: 5 | G18: CARRIER | J18: 5 TONELADAS | K18: =IF(D18="minisplit",1,0) -> 0 | L18: =IF(D18="remota",1,0) -> 0 | M18: =IF(D18="paquete",1,0) -> 1 | N18: =IF(D18="ventana",1,0) -> 0
A19: MEXICALI | B19: CONTRATACIÓN Y COSTOS | C19: CALLE G 510 ESQUINA CON CALLEJÓN INGANACIO ZARAGOZA SEGUNDA SECCION | D19: PAQUETE | E19: 5 | J19: 5 TONELADAS | K19: =IF(D19="minisplit",1,0) -> 0 | L19: =IF(D19="remota",1,0) -> 0 | M19: =IF(D19="paquete",1,0) -> 1 | N19: =IF(D19="ventana",1,0) -> 0
A20: MEXICALI | B20: DEPARTAMENTO DE OBRAS DE INFRAESTRUCTURA | C20: IGNACIO ZARAGOZA 1599 ESQUINA CON CALLE H | D20: PAQUETE | E20: 5 | F20: BPCH0361BA | G20: M0301105P | I20: 960337936 | J20: 5 TONELADAS | K20: =IF(D20="minisplit",1,0) -> 0 | L20: =IF(D20="remota",1,0) -> 0 | M20: =IF(D20="paquete",1,0) -> 1 | N20: =IF(D20="ventana",1,0) -> 0
A21: MEXICALI | B21: DEPARTAMENTO DE OBRAS DE INFRAESTRUCTURA | C21: IGNACIO ZARAGOZA 1599 ESQUINA CON CALLE H | D21: PAQUETE | E21: 5 | F21: MTZH6013XXB0 | G21: TRANE | H21: INV-423584 | I21: SFFF0WDMALSF036000111 | J21: 5 TONELADAS | K21: =IF(D21="minisplit",1,0) -> 0 | L21: =IF(D21="remota",1,0) -> 0 | M21: =IF(D21="paquete",1,0) -> 1 | N21: =IF(D21="ventana",1,0) -> 0
A22: MEXICALI | B22: DEPARTAMENTO DE OBRAS DE INFRAESTRUCTURA | C22: IGNACIO ZARAGOZA 1599 ESQUINA CON CALLE H | D22: PAQUETE | E22: 5 | G22: TRANE | H22: INV-423750 | I22: 2132CH096X | J22: 5 TONELADAS | K22: =IF(D22="minisplit",1,0) -> 0 | L22: =IF(D22="remota",1,0) -> 0 | M22: =IF(D22="paquete",1,0) -> 1 | N22: =IF(D22="ventana",1,0) -> 0
A23: MEXICALI | B23: DEPARTAMENTO DE OBRAS DE INFRAESTRUCTURA | C23: IGNACIO ZARAGOZA 1599 ESQUINA CON CALLE H | D23: PAQUETE | E23: 5 | J23: 5 TONELADAS | K23: =IF(D23="minisplit",1,0) -> 0 | L23: =IF(D23="remota",1,0) -> 0 | M23: =IF(D23="paquete",1,0) -> 1 | N23: =IF(D23="ventana",1,0) -> 0
A24: MEXICALI | B24: DEPARTAMENTO DE OBRAS DE INFRAESTRUCTURA | C24: IGNACIO ZARAGOZA 1599 ESQUINA CON CALLE H | D24: MINISPLIT | E24: 2 | J24: 2 TONELADAS | K24: =IF(D24="minisplit",1,0) -> 1 | L24: =IF(D24="remota",1,0) -> 0 | M24: =IF(D24="paquete",1,0) -> 0 | N24: =IF(D24="ventana",1,0) -> 0
A25: MEXICALI | B25: DEPARTAMENTO DE OBRAS DE INFRAESTRUCTURA | C25: IGNACIO ZARAGOZA 1599 ESQUINA CON CALLE H | D25: MINISPLIT | E25: 2 | G25: FRIGIDAIRE | J25: 2 TONELADAS | K25: =IF(D25="minisplit",1,0) -> 1 | L25: =IF(D25="remota",1,0) -> 0 | M25: =IF(D25="paquete",1,0) -> 0 | N25: =IF(D25="ventana",1,0) -> 0
A26: MEXICALI | B26: DEPARTAMENTO DE OBRAS DE INFRAESTRUCTURA | C26: IGNACIO ZARAGOZA 1599 ESQUINA CON CALLE H | D26: MINISPLIT | E26: 2 | G26: LENNOX | J26: 2 TONELADAS | K26: =IF(D26="minisplit",1,0) -> 1 | L26: =IF(D26="remota",1,0) -> 0 | M26: =IF(D26="paquete",1,0) -> 0 | N26: =IF(D26="ventana",1,0) -> 0
A27: MEXICALI | B27: DEPARTAMENTO DE OBRAS DE INFRAESTRUCTURA | C27: IGNACIO ZARAGOZA 1599 ESQUINA CON CALLE H | D27: MINISPLIT | E27: 1 | G27: FRIGIDAIRE | J27: 1 TONELADA | K27: =IF(D27="minisplit",1,0) -> 1 | L27: =IF(D27="remota",1,0) -> 0 | M27: =IF(D27="paquete",1,0) -> 0 | N27: =IF(D27="ventana",1,0) -> 0
A28: MEXICALI | B28: DEPARTAMENTO DE OBRAS DE INFRAESTRUCTURA | C28: IGNACIO ZARAGOZA 1599 ESQUINA CON CALLE H | D28: MINISPLIT | E28: 2 | G28: RHEEM | J28: 2 TONELADAS | K28: =IF(D28="minisplit",1,0) -> 1 | L28: =IF(D28="remota",1,0) -> 0 | M28: =IF(D28="paquete",1,0) -> 0 | N28: =IF(D28="ventana",1,0) -> 0
A29: MEXICALI | B29: DEPARTAMENTO DE OBRAS DE INFRAESTRUCTURA | C29: IGNACIO ZARAGOZA 1599 ESQUINA CON CALLE H | D29: MINISPLIT | E29: 2 | G29: TRANE | H29: INV-261700 | I29: 3B14050001122 | J29: 2 TONELADAS | K29: =IF(D29="minisplit",1,0) -> 1 | L29: =IF(D29="remota",1,0) -> 0 | M29: =IF(D29="paquete",1,0) -> 0 | N29: =IF(D29="ventana",1,0) -> 0
A30: MEXICALI | B30: DEPARTAMENTO DE OBRAS DE INFRAESTRUCTURA | C30: IGNACIO ZARAGOZA 1599 ESQUINA CON CALLE H | D30: MINISPLIT | E30: 1 | G30: LENNOX | J30: 1 TONELADA | K30: =IF(D30="minisplit",1,0) -> 1 | L30: =IF(D30="remota",1,0) -> 0 | M30: =IF(D30="paquete",1,0) -> 0 | N30: =IF(D30="ventana",1,0) -> 0
A31: MEXICALI | B31: DEPARTAMENTO DE OBRAS DE INFRAESTRUCTURA | C31: IGNACIO ZARAGOZA 1599 ESQUINA CON CALLE H | D31: MINISPLIT | E31: 2 | G31: LENNOX | J31: 2 TONELADAS | K31: =IF(D31="minisplit",1,0) -> 1 | L31: =IF(D31="remota",1,0) -> 0 | M31: =IF(D31="paquete",1,0) -> 0 | N31: =IF(D31="ventana",1,0) -> 0
A32: MEXICALI | B32: DEPARTAMENTO DE OBRAS DE INFRAESTRUCTURA | C32: IGNACIO ZARAGOZA 1599 ESQUINA CON CALLE H | D32: PAQUETE | E32: 5 | H32: M1-093851 | J32: 5 TONELADAS | K32: =IF(D32="minisplit",1,0) -> 0 | L32: =IF(D32="remota",1,0) -> 0 | M32: =IF(D32="paquete",1,0) -> 1 | N32: =IF(D32="ventana",1,0) -> 0
A33: MEXICALI | B33: SIDURT 4TO PISO | C33: INDEPENDENCIA 994 CENTRO CIVICO | D33: MINISPLIT | E33: 2 | F33: CLF261E | G33: MIRAGE | H33: INV-423650 | I33: CLF261E7012205295 | J33: 2 TONELADAS | K33: =IF(D33="minisplit",1,0) -> 1 | L33: =IF(D33="remota",1,0) -> 0 | M33: =IF(D33="paquete",1,0) -> 0 | N33: =IF(D33="ventana",1,0) -> 0
A34: MEXICALI | B34: SIDURT 4TO PISO | C34: INDEPENDENCIA 994 CENTRO CIVICO | D34: PAQUETE | E34: 10 | G34: TRANE | H34: M3-013887 | J34: 10 TONELADAS | K34: =IF(D34="minisplit",1,0) -> 0 | L34: =IF(D34="remota",1,0) -> 0 | M34: =IF(D34="paquete",1,0) -> 1 | N34: =IF(D34="ventana",1,0) -> 0
A35: MEXICALI | B35: SIDURT 5TO PISO | C35: INDEPENDENCIA 994 CENTRO CIVICO | D35: MINISPLIT | E35: 2 | G35: JAPANDO | J35: 2 TONELADAS | K35: =IF(D35="minisplit",1,0) -> 1 | L35: =IF(D35="remota",1,0) -> 0 | M35: =IF(D35="paquete",1,0) -> 0 | N35: =IF(D35="ventana",1,0) -> 0
A36: MEXICALI | B36: SIDURT 5TO PISO | C36: INDEPENDENCIA 994 CENTRO CIVICO | D36: MINISPLIT | E36: 2 | G36: MIRAGE | H36: INV-249001 | J36: 2 TONELADAS | K36: =IF(D36="minisplit",1,0) -> 1 | L36: =IF(D36="remota",1,0) -> 0 | M36: =IF(D36="paquete",1,0) -> 0 | N36: =IF(D36="ventana",1,0) -> 0
A37: MEXICALI | B37: SIDURT 5TO PISO | C37: INDEPENDENCIA 994 CENTRO CIVICO | D37: MINISPLIT | E37: 2 | G37: MIRAGE | H37: INV-423389 | I37: CLF261E7012204399 | J37: 2 TONELADAS | K37: =IF(D37="minisplit",1,0) -> 1 | L37: =IF(D37="remota",1,0) -> 0 | M37: =IF(D37="paquete",1,0) -> 0 | N37: =IF(D37="ventana",1,0) -> 0
A38: MEXICALI | B38: SIDURT 5TO PISO | C38: INDEPENDENCIA 994 CENTRO CIVICO | D38: REMOTA | E38: 7 | G38: TRANE | J38: 7 TONELADAS | K38: =IF(D38="minisplit",1,0) -> 0 | L38: =IF(D38="remota",1,0) -> 1 | M38: =IF(D38="paquete",1,0) -> 0 | N38: =IF(D38="ventana",1,0) -> 0
A39: MEXICALI | B39: SIDURT 5TO PISO | C39: INDEPENDENCIA 994 CENTRO CIVICO | D39: PAQUETE | E39: 5 | F39: TSC060G4 | G39: TRANE | I39: 212311858L | J39: 5 TONELADAS | K39: =IF(D39="minisplit",1,0) -> 0 | L39: =IF(D39="remota",1,0) -> 0 | M39: =IF(D39="paquete",1,0) -> 1 | N39: =IF(D39="ventana",1,0) -> 0
A40: MEXICALI | B40: SIDURT 5TO PISO | C40: INDEPENDENCIA 994 CENTRO CIVICO | D40: PAQUETE | E40: 5 | F40: PGF354100L00 | H40: INV-288201 | I40: 6082841852 | J40: 5 TONELADAS | K40: =IF(D40="minisplit",1,0) -> 0 | L40: =IF(D40="remota",1,0) -> 0 | M40: =IF(D40="paquete",1,0) -> 1 | N40: =IF(D40="ventana",1,0) -> 0
A41: MEXICALI | B41: SIDURT 5TO PISO | C41: INDEPENDENCIA 994 CENTRO CIVICO | D41: PAQUETE | E41: 3 | F41: RSPM-A036CK | G41: RHEEM | I41: 7602F180807030 | J41: 3 TONELADAS | K41: =IF(D41="minisplit",1,0) -> 0 | L41: =IF(D41="remota",1,0) -> 0 | M41: =IF(D41="paquete",1,0) -> 1 | N41: =IF(D41="ventana",1,0) -> 0
...

Sheet SECTURE
A1: MUNICIPIO | B1: UNIDAD ADMINISTRATIVA | C1: DIRECCIÓN-UBICACIÓN | D1: TIPO DE EQUIPO | E1: CAP.TONELADAS | F1: MODELO | G1: MARCA | H1: INVENTARIO | I1: NO. DE SERIE | J1: CAP.TON. REPORTADAS | K1: Minisplit | L1: Remota | M1: Paquete | N1: Ventana
A2: MEXICALI | B2: DELEGACION MEXICALI | C2: BOULEVARD BÉNITO JUÁREZ Y L. MONTEJANO 1, ESTEBAN CANTÚ. | D2: PAQUETE | E2: 5 | F2: B AIR | G2: AMANA | H2: INV-310786 | I2: APC1460H41 | J2: 5 TONELADAS | K2: =IF(D2="minisplit",1,0) -> 0 | L2: =IF(D2="remota",1,0) -> 0 | M2: =IF(D2="paquete",1,0) -> 1 | N2: =IF(D2="ventana",1,0) -> 0
A3: MEXICALI | B3: DELEGACION MEXICALI | C3: BOULEVARD BÉNITO JUÁREZ Y L. MONTEJANO 1, ESTEBAN CANTÚ. | D3: PAQUETE | E3: 5 | G3: CARRIER | H3: INV-259097 | I3: 2514C95579 | J3: 5 TONELADAS | K3: =IF(D3="minisplit",1,0) -> 0 | L3: =IF(D3="remota",1,0) -> 0 | M3: =IF(D3="paquete",1,0) -> 1 | N3: =IF(D3="ventana",1,0) -> 0
A4: MEXICALI | B4: DELEGACION MEXICALI | C4: BOULEVARD BÉNITO JUÁREZ Y L. MONTEJANO 1, ESTEBAN CANTÚ. | D4: PAQUETE | E4: 4 | G4: CARRIER | H4: INV-259096 | I4: 2414C96741 | J4: 4 TONELADAS | K4: =IF(D4="minisplit",1,0) -> 0 | L4: =IF(D4="remota",1,0) -> 0 | M4: =IF(D4="paquete",1,0) -> 1 | N4: =IF(D4="ventana",1,0) -> 0
A5: MEXICALI | B5: DELEGACION MEXICALI | C5: BOULEVARD BÉNITO JUÁREZ Y L. MONTEJANO 1, ESTEBAN CANTÚ. | D5: MINISPLIT | E5: 3 | G5: YORK | H5: M3-011553 | I5: 0305-19525 | J5: 3 TONELADAS | K5: =IF(D5="minisplit",1,0) -> 1 | L5: =IF(D5="remota",1,0) -> 0 | M5: =IF(D5="paquete",1,0) -> 0 | N5: =IF(D5="ventana",1,0) -> 0
A6: ENSENADA | B6: DELEGACION ENSENADA | C6: LÁZARO CÁRDENAS 1477, CENTRO, BAHIA 22800 | D6: MINISPLIT | E6: 2.5 | H6: INV-348422 | K6: =IF(D6="minisplit",1,0) -> 1 | L6: =IF(D6="remota",1,0) -> 0 | M6: =IF(D6="paquete",1,0) -> 0 | N6: =IF(D6="ventana",1,0) -> 0
A7: ENSENADA | B7: DELEGACION ENSENADA | C7: LÁZARO CÁRDENAS 1477, CENTRO, BAHIA 22800 | D7: MINISPLIT | E7: 2.5 | H7: INV-348423 | K7: =IF(D7="minisplit",1,0) -> 1 | L7: =IF(D7="remota",1,0) -> 0 | M7: =IF(D7="paquete",1,0) -> 0 | N7: =IF(D7="ventana",1,0) -> 0
A8: AEROPUERTO INTERNACIONAL DE SAN FELIPE | B8: COORDINACION ADMINISTRATIVA DEL AEROPUERTO DE SAN FELIPE | C8: CARR. AEROPUERTO KM 13, 21850 | D8: PAQUETE | E8: 5 | G8: YORK | H8: E3-005452 | I8: AOD740509 | J8: 5 TONELADAS | K8: =IF(D8="minisplit",1,0) -> 0 | L8: =IF(D8="remota",1,0) -> 0 | M8: =IF(D8="paquete",1,0) -> 1 | N8: =IF(D8="ventana",1,0) -> 0
A9: AEROPUERTO INTERNACIONAL DE SAN FELIPE | B9: COORDINACION ADMINISTRATIVA DEL AEROPUERTO DE SAN FELIPE | C9: CARR. AEROPUERTO KM 13, 21850 | D9: PAQUETE | E9: 5 | G9: YORK | H9: E3-005453 | I9: AOD740510 | J9: 5 TONELADAS | K9: =IF(D9="minisplit",1,0) -> 0 | L9: =IF(D9="remota",1,0) -> 0 | M9: =IF(D9="paquete",1,0) -> 1 | N9: =IF(D9="ventana",1,0) -> 0
A10: AEROPUERTO INTERNACIONAL DE SAN FELIPE | B10: COORDINACION ADMINISTRATIVA DEL AEROPUERTO DE SAN FELIPE | C10: CARR. AEROPUERTO KM 13, 21850 | D10: MINISPLIT | E10: 2 | H10: E3-005455 | I10: X9964080201311 | K10: =IF(D10="minisplit",1,0) -> 1 | L10: =IF(D10="remota",1,0) -> 0 | M10: =IF(D10="paquete",1,0) -> 0 | N10: =IF(D10="ventana",1,0) -> 0
A11: TECATE | B11: DELEGACION METROPOLITANA | C11: LIBERTAD 1305,PRIMERA, 21400. PARQUE MIGUEL HIDALGO | D11: MINISPLIT | E11: 1 | G11: FRIKKO | H11: INV-265692 | J11: 1 TONELADA | K11: =IF(D11="minisplit",1,0) -> 1 | L11: =IF(D11="remota",1,0) -> 0 | M11: =IF(D11="paquete",1,0) -> 0 | N11: =IF(D11="ventana",1,0) -> 0
A12: TECATE | B12: DELEGACION METROPOLITANA | C12: LIBERTAD 1305,PRIMERA, 21400. PARQUE MIGUEL HIDALGO | D12: MINISPLIT | E12: 1 | G12: FRIKKO | H12: INV-265691 | J12: 1 TONELADA | K12: =IF(D12="minisplit",1,0) -> 1 | L12: =IF(D12="remota",1,0) -> 0 | M12: =IF(D12="paquete",1,0) -> 0 | N12: =IF(D12="ventana",1,0) -> 0
E15: =+COUNTA(A2:A12) -> 11 | F15: EQUIPOS | J15: =SUBTOTAL(109,#REF!) -> #REF! | K15: =SUBTOTAL(109,K2:K12) -> 6 | L15: =SUBTOTAL(109,L2:L12) -> 0 | M15: =SUBTOTAL(109,M2:M12) -> 5 | N15: =SUBTOTAL(109,N2:N12) -> 0
E16: =+SUM(E2:E12) -> 36 | F16: TONELADAS
I17: Total | J17: =SUM(J15:M15) -> #REF! | K17: =SUM(K15:N15) -> 11

Sheet SECRETARÍA DEL CAMPO
A2: DEPENDENCIA | B2: MUNICIPIO | C2: UNIDAD ADMINISTRATIVA | D2: DIRECCIÓN-UBICACIÓN | E2: TIPO DE EQUIPO | F2: CAP.TONELADAS | G2: MODELO | H2: MARCA | I2: INVENTARIO | J2: NO. DE SERIE | K2: Minisplit | L2: Remota | M2: Paquete | N2: Ventana
A3: SECRETARIA DEL CAMPO | B3: MEXICALI | C3: DIRECCION DE ADMINISTRACION | D3: CARRETERA A SAN LUIS, EJIDO SINALOA | E3: MINISPLIT | F3: 1 | G3: BA121CMEA | H3: B.AIR | I3: ING-B280 | J3: D202055440413322151259 | K3: =IF(E3="minisplit",1,0) -> 1 | L3: =IF(E3="remota",1,0) -> 0 | M3: =IF(E3="paquete",1,0) -> 0 | N3: =IF(E3="ventana",1,0) -> 0
A4: SECRETARIA DEL CAMPO | B4: MEXICALI | C4: DIRECCION DE ADMINISTRACION | D4: CARRETERA A SAN LUIS, EJIDO SINALOA | E4: MINISPLIT | F4: 1 | G4: BA121CMEA | H4: B.AIR | I4: ING-B281 | J4: S/S | K4: =IF(E4="minisplit",1,0) -> 1 | L4: =IF(E4="remota",1,0) -> 0 | M4: =IF(E4="paquete",1,0) -> 0 | N4: =IF(E4="ventana",1,0) -> 0
A5: SECRETARIA DEL CAMPO | B5: MEXICALI | C5: DIRECCION DE ADMINISTRACION | D5: CARRETERA A SAN LUIS, EJIDO SINALOA | E5: MINISPLIT | F5: 1 | H5: CARRIER | I5: INV-426827 | J5: 340F681630223210170426 | K5: =IF(E5="minisplit",1,0) -> 1 | L5: =IF(E5="remota",1,0) -> 0 | M5: =IF(E5="paquete",1,0) -> 0 | N5: =IF(E5="ventana",1,0) -> 0
A6: SECRETARIA DEL CAMPO | B6: MEXICALI | C6: DIRECCION DE ADMINISTRACION | D6: CARRETERA A SAN LUIS, EJIDO SINALOA | E6: MINISPLIT | F6: 1 | H6: CARRIER | I6: INV-426826 | J6: 340F6815300223210170257 | K6: =IF(E6="minisplit",1,0) -> 1 | L6: =IF(E6="remota",1,0) -> 0 | M6: =IF(E6="paquete",1,0) -> 0 | N6: =IF(E6="ventana",1,0) -> 0
A7: SECRETARIA DEL CAMPO | B7: MEXICALI | C7: DIRECCION DE ADMINISTRACION | D7: CARRETERA A SAN LUIS, SAN LUIS RIO COLORADO | E7: MINISPLIT | F7: 2 | G7: BA13-24H63R330L6 | H7: B.AIR | I7: ING-B276 | J7: S/S | K7: =IF(E7="minisplit",1,0) -> 1 | L7: =IF(E7="remota",1,0) -> 0 | M7: =IF(E7="paquete",1,0) -> 0 | N7: =IF(E7="ventana",1,0) -> 0
A8: SECRETARIA DEL CAMPO | B8: MEXICALI | C8: DIRECCION DE ADMINISTRACION | D8: CARRETERA A SAN LUIS, KM. 57 | E8: MINISPLIT | F8: 2 | G8: BA13-24H63R330L6 | H8: B.AIR | I8: ING-B277 | J8: 16902008 | K8: =IF(E8="minisplit",1,0) -> 1 | L8: =IF(E8="remota",1,0) -> 0 | M8: =IF(E8="paquete",1,0) -> 0 | N8: =IF(E8="ventana",1,0) -> 0
A9: SECRETARIA DEL CAMPO | B9: MEXICALI | C9: DIRECCION DE ADMINISTRACION | D9: CARRETERA A SAN LUIS, EJIDO SINALOA | E9: MINISPLIT | F9: 2 | G9: 380NC243B-C | H9: CARRIER | I9: XXXXX | J9: P20185452616802170031 | K9: =IF(E9="minisplit",1,0) -> 1 | L9: =IF(E9="remota",1,0) -> 0 | M9: =IF(E9="paquete",1,0) -> 0 | N9: =IF(E9="ventana",1,0) -> 0
A10: SECRETARIA DEL CAMPO | B10: MEXICALI | C10: DIRECCION DE ADMINISTRACION | D10: CARRETERA A SAN LUIS, EJIDO SINALOA | E10: MINISPLIT | F10: 2 | G10: FSC24H6MM | H10: FRIGIDAIRE | I10: ING-F119 | J10: S/S | K10: =IF(E10="minisplit",1,0) -> 1 | L10: =IF(E10="remota",1,0) -> 0 | M10: =IF(E10="paquete",1,0) -> 0 | N10: =IF(E10="ventana",1,0) -> 0
A11: SECRETARIA DEL CAMPO | B11: MEXICALI | C11: DIRECCION DE ADMINISTRACION | D11: CARRETERA A SAN LUIS, EJIDO SINALOA | E11: MINISPLIT | F11: 2 | G11: AV-24C63F230G4(97) | H11: GALANZ | I11: SEDAGRO2 | K11: =IF(E11="minisplit",1,0) -> 1 | L11: =IF(E11="remota",1,0) -> 0 | M11: =IF(E11="paquete",1,0) -> 0 | N11: =IF(E11="ventana",1,0) -> 0
A12: SECRETARIA DEL CAMPO | B12: MEXICALI | C12: DIRECCION DE ADMINISTRACION | D12: CARRETERA A SAN LUIS, EJIDO SINALOA | E12: MINISPLIT | F12: 1 | G12: CMPRC122-L | H12: PRIME | I12: SEDAGRO1 | J12: S/S | K12: =IF(E12="minisplit",1,0) -> 1 | L12: =IF(E12="remota",1,0) -> 0 | M12: =IF(E12="paquete",1,0) -> 0 | N12: =IF(E12="ventana",1,0) -> 0
A13: SECRETARIA DEL CAMPO | B13: MEXICALI | C13: DIRECCION DE ADMINISTRACION | D13: CARRETERA A SAN LUIS, EJIDO SINALOA | E13: MINISPLIT | F13: 1.5 | G13: TTB018C100A2 | H13: TRANE | I13: ING-T109 | J13: 432UJU5F | K13: =IF(E13="minisplit",1,0) -> 1 | L13: =IF(E13="remota",1,0) -> 0 | M13: =IF(E13="paquete",1,0) -> 0 | N13: =IF(E13="ventana",1,0) -> 0
A14: SECRETARIA DEL CAMPO | B14: MEXICALI | C14: DIRECCION DE ADMINISTRACION | D14: CARRETERA A SAN LUIS, EJIDO SINALOA | E14: MINISPLIT | F14: 1 | G14: 2TTK0512A1AA | H14: TRANE | I14: ING-T103 | J14: S/S | K14: =IF(E14="minisplit",1,0) -> 1 | L14: =IF(E14="remota",1,0) -> 0 | M14: =IF(E14="paquete",1,0) -> 0 | N14: =IF(E14="ventana",1,0) -> 0
A15: SECRETARIA DEL CAMPO | B15: MEXICALI | C15: DIRECCION DE ADMINISTRACION | D15: CARRETERA A SAN LUIS, EJIDO SINALOA | E15: MINISPLIT | F15: 2 | G15: 2TTK0524G1P00AA | H15: TRANE | I15: ING-T095 | J15: S/S | K15: =IF(E15="minisplit",1,0) -> 1 | L15: =IF(E15="remota",1,0) -> 0 | M15: =IF(E15="paquete",1,0) -> 0 | N15: =IF(E15="ventana",1,0) -> 0
A16: SECRETARIA DEL CAMPO | B16: MEXICALI | C16: DIRECCION DE ADMINISTRACION | D16: CARRETERA A SAN LUIS, EJIDO SINALOA | E16: MINISPLIT | F16: 1 | G16: 2TTK0512A1AA | H16: TRANE | I16: ING-T114 | J16: S/S | K16: =IF(E16="minisplit",1,0) -> 1 | L16: =IF(E16="remota",1,0) -> 0 | M16: =IF(E16="paquete",1,0) -> 0 | N16: =IF(E16="ventana",1,0) -> 0
A17: SECRETARIA DEL CAMPO | B17: MEXICALI | C17: DIRECCION DE ADMINISTRACION | D17: CARRETERA A SAN LUIS, EJIDO SINALOA | E17: MINISPLIT | F17: 1 | G17: 2TTK0512G1POOAA | H17: TRANE | I17: ING-T094 | J17: S/S | K17: =IF(E17="minisplit",1,0) -> 1 | L17: =IF(E17="remota",1,0) -> 0 | M17: =IF(E17="paquete",1,0) -> 0 | N17: =IF(E17="ventana",1,0) -> 0
A18: SECRETARIA DEL CAMPO | B18: MEXICALI | C18: DIRECCION DE ADMINISTRACION | D18: CARRETERA A SAN LUIS, EJIDO SINALOA | E18: MINISPLIT | F18: 2 | G18: 2TTK0524G1P00AA | H18: TRANE | I18: ING-T087 | J18: S/S | K18: =IF(E18="minisplit",1,0) -> 1 | L18: =IF(E18="remota",1,0) -> 0 | M18: =IF(E18="paquete",1,0) -> 0 | N18: =IF(E18="ventana",1,0) -> 0
A19: SECRETARIA DEL CAMPO | B19: MEXICALI | C19: DIRECCION DE ADMINISTRACION | D19: CARRETERA A SAN LUIS, EJIDO SINALOA | E19: MINISPLIT | F19: 2 | G19: 2TTK0524G1P00AA | H19: TRANE | I19: ING-T101 | J19: S/S | K19: =IF(E19="minisplit",1,0) -> 1 | L19: =IF(E19="remota",1,0) -> 0 | M19: =IF(E19="paquete",1,0) -> 0 | N19: =IF(E19="ventana",1,0) -> 0
A20: SECRETARIA DEL CAMPO | B20: MEXICALI | C20: DIRECCION DE ADMINISTRACION | D20: CARRETERA A SAN LUIS, EJIDO SINALOA | E20: MINISPLIT | F20: 3 | G20: 2TTK0524G1P00AA | H20: TRANE | I20: ING-T102 | J20: S/S | K20: =IF(E20="minisplit",1,0) -> 1 | L20: =IF(E20="remota",1,0) -> 0 | M20: =IF(E20="paquete",1,0) -> 0 | N20: =IF(E20="ventana",1,0) -> 0
A21: SECRETARIA DEL CAMPO | B21: MEXICALI | C21: DIRECCION DE ADMINISTRACION | D21: CARRETERA A SAN LUIS, EJIDO SINALOA | E21: MINISPLIT | F21: 1.5 | G21: TTK518X10EAA | H21: TRANE | I21: ING-T115 | J21: S/S | K21: =IF(E21="minisplit",1,0) -> 1 | L21: =IF(E21="remota",1,0) -> 0 | M21: =IF(E21="paquete",1,0) -> 0 | N21: =IF(E21="ventana",1,0) -> 0
A22: SECRETARIA DEL CAMPO | B22: MEXICALI | C22: DIRECCION DE ADMINISTRACION | D22: CARRETERA A SAN LUIS, EJIDO SINALOA | E22: MINISPLIT | F22: 2 | G22: 2TTK0524A1AA | H22: TRANE | I22: ING-T117 | J22: S/S | K22: =IF(E22="minisplit",1,0) -> 1 | L22: =IF(E22="remota",1,0) -> 0 | M22: =IF(E22="paquete",1,0) -> 0 | N22: =IF(E22="ventana",1,0) -> 0
A23: SECRETARIA DEL CAMPO | B23: MEXICALI | C23: DIRECCION DE ADMINISTRACION | D23: CARRETERA A SAN LUIS, EJIDO SINALOA | E23: MINISPLIT | F23: 1.5 | G23: WCHXL-18KCR1 | H23: WESTINGHOUSE | I23: ING-W096 | J23: 55984-0WW1001076 | K23: =IF(E23="minisplit",1,0) -> 1 | L23: =IF(E23="remota",1,0) -> 0 | M23: =IF(E23="paquete",1,0) -> 0 | N23: =IF(E23="ventana",1,0) -> 0
A24: SECRETARIA DEL CAMPO | B24: MEXICALI | C24: DIRECCION DE ADMINISTRACION | D24: CARRETERA A SAN LUIS, EJIDO SINALOA | E24: MINISPLIT | F24: 1.5 | H24: CARRIER | I24: INV-426825 | J24: 340F337850221240120414 | K24: =IF(E24="minisplit",1,0) -> 1 | L24: =IF(E24="remota",1,0) -> 0 | M24: =IF(E24="paquete",1,0) -> 0 | N24: =IF(E24="ventana",1,0) -> 0
A25: SECRETARIA DEL CAMPO | B25: MEXICALI | C25: DIRECCION DE ADMINISTRACION | D25: CARRETERA A SAN LUIS, EJIDO SINALOA | E25: MINISPLIT | F25: 3 | G25: TTD536A100AG | H25: TRANE | I25: ING-T118 | J25: 3T0507573116 | K25: =IF(E25="minisplit",1,0) -> 1 | L25: =IF(E25="remota",1,0) -> 0 | M25: =IF(E25="paquete",1,0) -> 0 | N25: =IF(E25="ventana",1,0) -> 0
A26: SECRETARIA DEL CAMPO | B26: MEXICALI | C26: DIRECCION DE ADMINISTRACION | D26: CARRETERA A SAN LUIS, EJIDO SINALOA | E26: PAQUETE | F26: 5 | G26: TCX060G300AB | H26: TRANE | I26: ING-T092 | J26: 4291JMK2H | K26: =IF(E26="minisplit",1,0) -> 0 | L26: =IF(E26="remota",1,0) -> 0 | M26: =IF(E26="paquete",1,0) -> 1 | N26: =IF(E26="ventana",1,0) -> 0
A27: SECRETARIA DEL CAMPO | B27: MEXICALI | C27: DIRECCION DE ADMINISTRACION | D27: CARRETERA A SAN LUIS, EJIDO SINALOA | E27: PAQUETE | F27: 5 | G27: TCX060G300AB | H27: TRANE | I27: ING-T098 | J27: 5315K3L2H | K27: =IF(E27="minisplit",1,0) -> 0 | L27: =IF(E27="remota",1,0) -> 0 | M27: =IF(E27="paquete",1,0) -> 1 | N27: =IF(E27="ventana",1,0) -> 0
A28: SECRETARIA DEL CAMPO | B28: MEXICALI | C28: DIRECCION DE ADMINISTRACION | D28: CARRETERA A SAN LUIS, EJIDO SINALOA | E28: REMOTA | F28: 5 | H28: CARRIER | I28: INV-426838 | J28: 1722X83107 | K28: =IF(E28="minisplit",1,0) -> 0 | L28: =IF(E28="remota",1,0) -> 1 | M28: =IF(E28="paquete",1,0) -> 0 | N28: =IF(E28="ventana",1,0) -> 0
A29: SECRETARIA DEL CAMPO | B29: MEXICALI | C29: DIRECCION DE ADMINISTRACION | D29: CARRETERA A SAN LUIS, EJIDO SINALOA | E29: REMOTA | F29: 5 | H29: CARRIER | I29: INV-426834 | J29: 1822X42713 | K29: =IF(E29="minisplit",1,0) -> 0 | L29: =IF(E29="remota",1,0) -> 1 | M29: =IF(E29="paquete",1,0) -> 0 | N29: =IF(E29="ventana",1,0) -> 0
A30: SECRETARIA DEL CAMPO | B30: MEXICALI | C30: DIRECCION DE ADMINISTRACION | D30: CARRETERA A SAN LUIS, EJIDO SINALOA | E30: REMOTA | F30: 5 | H30: CARRIER | I30: INV-426835 | J30: 1822X42700 | K30: =IF(E30="minisplit",1,0) -> 0 | L30: =IF(E30="remota",1,0) -> 1 | M30: =IF(E30="paquete",1,0) -> 0 | N30: =IF(E30="ventana",1,0) -> 0
A31: SECRETARIA DEL CAMPO | B31: MEXICALI | C31: DIRECCION DE ADMINISTRACION | D31: CARRETERA A SAN LUIS, EJIDO SINALOA | E31: PAQUETE | F31: 5 | G31: TCX060G300AB | H31: TRANE | I31: ING-T093 | J31: 4291KEL2H | K31: =IF(E31="minisplit",1,0) -> 0 | L31: =IF(E31="remota",1,0) -> 0 | M31: =IF(E31="paquete",1,0) -> 1 | N31: =IF(E31="ventana",1,0) -> 0
A32: SECRETARIA DEL CAMPO | B32: MEXICALI | C32: DIRECCION DE ADMINISTRACION | D32: CARRETERA A SAN LUIS, EJIDO SINALOA | E32: PAQUETE | F32: 5 | H32: CARRIER | I32: INV-426829 | J32: 1922F48264 | K32: =IF(E32="minisplit",1,0) -> 0 | L32: =IF(E32="remota",1,0) -> 0 | M32: =IF(E32="paquete",1,0) -> 1 | N32: =IF(E32="ventana",1,0) -> 0
A33: SECRETARIA DEL CAMPO | B33: MEXICALI | C33: DIRECCION DE ADMINISTRACION | D33: CARRETERA A SAN LUIS, EJIDO SINALOA | E33: PAQUETE | F33: 5 | G33: TCX060G300AB | H33: TRANE | I33: ING-T085 | J33: 4291M6J2H | K33: =IF(E33="minisplit",1,0) -> 0 | L33: =IF(E33="remota",1,0) -> 0 | M33: =IF(E33="paquete",1,0) -> 1 | N33: =IF(E33="ventana",1,0) -> 0
A34: SECRETARIA DEL CAMPO | B34: MEXICALI | C34: DIRECCION DE ADMINISTRACION | D34: CARRETERA A SAN LUIS, EJIDO SINALOA | E34: REMOTA | F34: 5 | H34: CARRIER | I34: INV-426836 | J34: 1822X42705 | K34: =IF(E34="minisplit",1,0) -> 0 | L34: =IF(E34="remota",1,0) -> 1 | M34: =IF(E34="paquete",1,0) -> 0 | N34: =IF(E34="ventana",1,0) -> 0
A35: SECRETARIA DEL CAMPO | B35: MEXICALI | C35: DIRECCION DE ADMINISTRACION | D35: CARRETERA A SAN LUIS, EJIDO SINALOA | E35: REMOTA | F35: 5 | H35: CARRIER | I35: INV-426837 | J35: 1822X42723 | K35: =IF(E35="minisplit",1,0) -> 0 | L35: =IF(E35="remota",1,0) -> 1 | M35: =IF(E35="paquete",1,0) -> 0 | N35: =IF(E35="ventana",1,0) -> 0
A36: SECRETARIA DEL CAMPO | B36: MEXICALI | C36: DIRECCION DE ADMINISTRACION | D36: CARRETERA A SAN LUIS, EJIDO SINALOA | E36: PAQUETE | F36: 5 | G36: TCC060F300AB | H36: TRANE | I36: ING-T084 | J36: 4291JL62H | K36: =IF(E36="minisplit",1,0) -> 0 | L36: =IF(E36="remota",1,0) -> 0 | M36: =IF(E36="paquete",1,0) -> 1 | N36: =IF(E36="ventana",1,0) -> 0
A37: SECRETARIA DEL CAMPO | B37: MEXICALI | C37: DIRECCION DE ADMINISTRACION | D37: CARRETERA A SAN LUIS, EJIDO SINALOA | E37: REMOTA | F37: 5 | G37: C60BAV1 | H37: EUBANK | I37: ING-E081 | J37: 97C-C50147 | K37: =IF(E37="minisplit",1,0) -> 0 | L37: =IF(E37="remota",1,0) -> 1 | M37: =IF(E37="paquete",1,0) -> 0 | N37: =IF(E37="ventana",1,0) -> 0
A38: SECRETARIA DEL CAMPO | B38: MEXICALI | C38: DIRECCION DE ADMINISTRACION | D38: CARRETERA A SAN LUIS, EJIDO SINALOA | E38: REMOTA | F38: 5 | G38: C60BAV1 | H38: EUBANK | I38: ING-E082 | J38: 97C-C50148 | K38: =IF(E38="minisplit",1,0) -> 0 | L38: =IF(E38="remota",1,0) -> 1 | M38: =IF(E38="paquete",1,0) -> 0 | N38: =IF(E38="ventana",1,0) -> 0
A39: SECRETARIA DEL CAMPO | B39: MEXICALI | C39: DIRECCION DE ADMINISTRACION | D39: CARRETERA A SAN LUIS, EJIDO SINALOA | E39: REMOTA | F39: 5 | G39: C60BAV1 | H39: EUBANK | I39: ING-E089 | J39: 97C-C50145 | K39: =IF(E39="minisplit",1,0) -> 0 | L39: =IF(E39="remota",1,0) -> 1 | M39: =IF(E39="paquete",1,0) -> 0 | N39: =IF(E39="ventana",1,0) -> 0
A40: SECRETARIA DEL CAMPO | B40: MEXICALI | C40: DIRECCION DE ADMINISTRACION | D40: CARRETERA A SAN LUIS, EJIDO SINALOA | E40: REMOTA | F40: 5 | G40: C60BAV1 | H40: EUBANK | I40: ING-E091 | J40: 97C-C50037 | K40: =IF(E40="minisplit",1,0) -> 0 | L40: =IF(E40="remota",1,0) -> 1 | M40: =IF(E40="paquete",1,0) -> 0 | N40: =IF(E40="ventana",1,0) -> 0
A41: SECRETARIA DEL CAMPO | B41: MEXICALI | C41: DIRECCION DE ADMINISTRACION | D41: CARRETERA A SAN LUIS, EJIDO SINALOA | E41: REMOTA | F41: 5 | G41: 13AJN60A01 | H41: RHEEM | I41: ING-R278 | J41: 8395W151317888 | K41: =IF(E41="minisplit",1,0) -> 0 | L41: =IF(E41="remota",1,0) -> 1 | M41: =IF(E41="paquete",1,0) -> 0 | N41: =IF(E41="ventana",1,0) -> 0
...

Sheet SHFP
A2: MUNICIPIO | B2: UNIDAD ADMINISTRATIVA | C2: DIRECCIÓN-UBICACIÓN | D2: TIPO DE EQUIPO | E2: CAP.TONELADAS | F2: MODELO | G2: MARCA | H2: INVENTARIO | I2: NO. DE SERIE | J2: Minisplit | K2: Remota | L2: Paquete | M2: Ventana
A3: MEXICALI | B3: ADMNISTRATIVO | C3: OBREGON Y CALLE MEXICO | D3: PAQUETE | E3: 5 | F3: 2018 | G3: TRANE | H3: 309366 | I3: C7052212804182074097 | J3: =IF(D3="minisplit",1,0) -> 0 | K3: =IF(D3="remota",1,0) -> 0 | L3: =IF(D3="paquete",1,0) -> 1 | M3: =IF(D3="ventana",1,0) -> 0
A4: MEXICALI | B4: ADMINISTRATIVO | C4: OBREGON Y CALLE MEXICO | D4: PAQUETE | E4: 5 | F4: 2017 | G4: WESTINHOUSE | H4: 310275 | I4: P7F170203163 | J4: =IF(D4="minisplit",1,0) -> 0 | K4: =IF(D4="remota",1,0) -> 0 | L4: =IF(D4="paquete",1,0) -> 1 | M4: =IF(D4="ventana",1,0) -> 0
A5: MEXICALI | B5: ADMINISTRATIVO | C5: OBREGON Y CALLE MEXICO | D5: PAQUETE | E5: 5 | F5: 2017 | G5: WESTINHOUSE | H5: 287228 | I5: P7F17203113 | J5: =IF(D5="minisplit",1,0) -> 0 | K5: =IF(D5="remota",1,0) -> 0 | L5: =IF(D5="paquete",1,0) -> 1 | M5: =IF(D5="ventana",1,0) -> 0
A6: MEXICALI | B6: FISCALIZACION | C6: OBREGON Y CALLE MEXICO | D6: PAQUETE | E6: 5 | F6: 2017 | G6: CARRIER | H6: 287725 | I6: 617699201 | J6: =IF(D6="minisplit",1,0) -> 0 | K6: =IF(D6="remota",1,0) -> 0 | L6: =IF(D6="paquete",1,0) -> 1 | M6: =IF(D6="ventana",1,0) -> 0
A7: MEXICALI | B7: FISCALIZACION | C7: OBREGON Y CALLE MEXICO | D7: PAQUETE | E7: 5 | F7: 2017 | G7: CARRIER | H7: 3107 | I7: S/N | J7: =IF(D7="minisplit",1,0) -> 0 | K7: =IF(D7="remota",1,0) -> 0 | L7: =IF(D7="paquete",1,0) -> 1 | M7: =IF(D7="ventana",1,0) -> 0
A8: MEXICALI | B8: ADMINISTRATIVO | C8: OBREGON Y CALLE MEXICO | D8: MINISPLIT | E8: 2 | F8: 2016 | G8: MIDEA | H8: 264067 | I8: 367606632301505 | J8: =IF(D8="minisplit",1,0) -> 1 | K8: =IF(D8="remota",1,0) -> 0 | L8: =IF(D8="paquete",1,0) -> 0 | M8: =IF(D8="ventana",1,0) -> 0
A9: MEXICALI | B9: ADMINISTRATIVO | C9: OBREGON Y CALLE MEXICO | D9: MINISPLIT | E9: 2 | F9: 2017 | G9: TRANE | H9: 295667 | I9: 3A79470000275 | J9: =IF(D9="minisplit",1,0) -> 1 | K9: =IF(D9="remota",1,0) -> 0 | L9: =IF(D9="paquete",1,0) -> 0 | M9: =IF(D9="ventana",1,0) -> 0
A10: MEXICALI | B10: ADMINISTRATIVO | C10: OBREGON Y CALLE MEXICO | D10: MINISPLIT | E10: 2 | F10: 2017 | G10: TRANE | H10: 295666 | I10: 3B14070000457 | J10: =IF(D10="minisplit",1,0) -> 1 | K10: =IF(D10="remota",1,0) -> 0 | L10: =IF(D10="paquete",1,0) -> 0 | M10: =IF(D10="ventana",1,0) -> 0
A11: MEXICALI | B11: ADMINISTRATIVO | C11: OBREGON Y CALLE MEXICO | D11: MINISPLIT | E11: 2 | F11: 2017 | G11: MIRAGE | H11: M16-0121 | I11: S/N | J11: =IF(D11="minisplit",1,0) -> 1 | K11: =IF(D11="remota",1,0) -> 0 | L11: =IF(D11="paquete",1,0) -> 0 | M11: =IF(D11="ventana",1,0) -> 0
A12: MEXICALI | B12: ADMINISTRATIVO | C12: OBREGON Y CALLE MEXICO | D12: MINISPLIT | E12: 2 | F12: 2017 | G12: MIRAGE | H12: M16-0122 | I12: S/N | J12: =IF(D12="minisplit",1,0) -> 1 | K12: =IF(D12="remota",1,0) -> 0 | L12: =IF(D12="paquete",1,0) -> 0 | M12: =IF(D12="ventana",1,0) -> 0
A13: MEXICALI | B13: OFICINA DE LA SECRETARIA | C13: CENTRO DE GOBIERNO MEXICALI | D13: MINISPLIT | E13: 2 | F13: 2014 | G13: TRANE | H13: S/N | I13: 14482MGH5F | J13: =IF(D13="minisplit",1,0) -> 1 | K13: =IF(D13="remota",1,0) -> 0 | L13: =IF(D13="paquete",1,0) -> 0 | M13: =IF(D13="ventana",1,0) -> 0
A14: MEXICALI | B14: FISCALIZACION | C14: CENTRO COMERCIAL PLAZA BAJA CALIFORNIA | D14: MINISPLIT | E14: 1 | F14: 2021 | G14: TRANE | H14: 390795 | I14: X2102T0122IC0980 | J14: =IF(D14="minisplit",1,0) -> 1 | K14: =IF(D14="remota",1,0) -> 0 | L14: =IF(D14="paquete",1,0) -> 0 | M14: =IF(D14="ventana",1,0) -> 0
A15: ENSENADA | B15: ADMINISTRATIVO | C15: CENTRO DE GOBIERNO ENSENADA | D15: PAQUETE | E15: 4 | F15: 2017 | G15: TRANE | H15: M3-145543 | I15: S/N | J15: =IF(D15="minisplit",1,0) -> 0 | K15: =IF(D15="remota",1,0) -> 0 | L15: =IF(D15="paquete",1,0) -> 1 | M15: =IF(D15="ventana",1,0) -> 0
A16: ENSENADA | B16: MINISTRATIVO | C16: CENTRO DE GOBIERNO ENSENADA | D16: PAQUETE | E16: 4 | F16: 2017 | G16: RHEEM | H16: INV-310273 | I16: W231529817 | J16: =IF(D16="minisplit",1,0) -> 0 | K16: =IF(D16="remota",1,0) -> 0 | L16: =IF(D16="paquete",1,0) -> 1 | M16: =IF(D16="ventana",1,0) -> 0
E19: =+COUNTA(A3:A16) -> 14 | F19: EQUIPOS | J19: =SUBTOTAL(109,J3:J16) -> 7 | K19: =SUBTOTAL(109,K3:K16) -> 0 | L19: =SUBTOTAL(109,L3:L16) -> 7 | M19: =SUBTOTAL(109,M3:M16) -> 0
E20: =+SUM(E3:E16) -> 46 | F20: TONELADAS
I21: Total | J21: =SUM(J19:M19) -> 14

Sheet SHE
A2: MUNICIPIO | B2: UNIDAD ADMINISTRATIVA | C2: DIRECCIÓN-UBICACIÓN | D2: TIPO DE EQUIPO | E2: CAP.TONELADAS | F2: MODELO | G2: MARCA | H2: INVENTARIO | I2: NO. DE SERIE | J2: CAP.TON. REPORTADAS | K2: Minisplit | L2: Remota | M2: Paquete | N2: Ventana | O2: Remota de Precisión
A3: MEXICALI | B3: Oficina del titular | C3: Edificio Poder Ejecutivo, sótano, Calzada Independencia 944, Centro Cívico, Mexicali, B.C. ( 4to piso) | D3: minisplit | E3: 2 | F3: manejadora condensadora | G3: Trane | H3: INV-386188 INV-386190 | I3: EJF120T7011902112 200477Z60424YCP0155 | J3: 2 | K3: =IF(D3="minisplit",1,0) -> 1 | L3: =IF(D3="remota",1,0) -> 0 | M3: =IF(D3="paquete",1,0) -> 0 | N3: =IF(D3="ventana",1,0) -> 0 | O3: =IF(D3="remota de precisión",1,0) -> 0
A4: MEXICALI | B4: Oficina del titular | C4: (4to piso) | D4: minisplit | E4: 1.5 | F4: manejadora condensadora | G4: Mirage | H4: INV-250784 INV-250783 | I4: 9011500109 9011500256 | J4: 1.5 | K4: =IF(D4="minisplit",1,0) -> 1 | L4: =IF(D4="remota",1,0) -> 0 | M4: =IF(D4="paquete",1,0) -> 0 | N4: =IF(D4="ventana",1,0) -> 0 | O4: =IF(D4="remota de precisión",1,0) -> 0
A5: MEXICALI | B5: Oficina del titular | C5: (4to piso) | D5: minisplit | E5: 1.5 | F5: manejadora condensadora | G5: Trane | H5: INV-296685 INV-296686 | I5: 3130337000518 3A61070000463 | J5: 1.5 | K5: =IF(D5="minisplit",1,0) -> 1 | L5: =IF(D5="remota",1,0) -> 0 | M5: =IF(D5="paquete",1,0) -> 0 | N5: =IF(D5="ventana",1,0) -> 0 | O5: =IF(D5="remota de precisión",1,0) -> 0
A6: Ensenada | B6: SPF,REPRESENTACION DE LA PROC.FISCAL ENS | C6: CARRETERA TRANSPENINSULAR LA PAZ - ENSENADA #6500 EX. EJIDO CHAPULTEPEC CP. 22785 | D6: minisplit | E6: 2 | G6: Mirage | H6: E3-003817 | J6: 2 | K6: =IF(D6="minisplit",1,0) -> 1 | L6: =IF(D6="remota",1,0) -> 0 | M6: =IF(D6="paquete",1,0) -> 0 | N6: =IF(D6="ventana",1,0) -> 0 | O6: =IF(D6="remota de precisión",1,0) -> 0
A7: Ensenada | B7: COORDINACIÓN DE TESORERÍA ENSENADA | C7: CARRETERA TRANSPENINSULAR LA PAZ - ENSENADA #6500 1er PISO, EX. EJIDO CHAPULTEPEC CP. 22785 | D7: minisplit | E7: 1 | G7: Midea | H7: INV-296676 | I7: 13481090174110200090 | J7: 1 | K7: =IF(D7="minisplit",1,0) -> 1 | L7: =IF(D7="remota",1,0) -> 0 | M7: =IF(D7="paquete",1,0) -> 0 | N7: =IF(D7="ventana",1,0) -> 0 | O7: =IF(D7="remota de precisión",1,0) -> 0
A8: MEXICALI | B8: ARCHIVO GENERAL DE LA SECRETARIA | C8: Calzada independencia y calle J sin numero fracc. Calafia | D8: paquete | E8: 2 | G8: Mirage | H8: INV-250814 | I8: 12056651313405151223 | J8: 2 | K8: =IF(D8="minisplit",1,0) -> 0 | L8: =IF(D8="remota",1,0) -> 0 | M8: =IF(D8="paquete",1,0) -> 1 | N8: =IF(D8="ventana",1,0) -> 0 | O8: =IF(D8="remota de precisión",1,0) -> 0
A9: MEXICALI | B9: ARCHIVO GENERAL DE LA SECRETARIA | C9: Calzada independencia y calle J sin numero fracc. Calafia | D9: minisplit | E9: 1 | F9: condensadora manejadora | G9: Trane | H9: INV-336792 INV-336793 | I9: 3C48380021015 3E91480000249 | J9: 1 | K9: =IF(D9="minisplit",1,0) -> 1 | L9: =IF(D9="remota",1,0) -> 0 | M9: =IF(D9="paquete",1,0) -> 0 | N9: =IF(D9="ventana",1,0) -> 0 | O9: =IF(D9="remota de precisión",1,0) -> 0
A10: MEXICALI | B10: ARCHIVO GENERAL DE LA SECRETARIA | C10: Calzada independencia y calle J sin numero fracc. Calafia | D10: minisplit | E10: 2 | F10: condensadora manrjadora | G10: Trane | H10: INV-369102 INV-369103 | I10: 190877T93424XCP1484 190877T93424XCP1121 | J10: 2 | K10: =IF(D10="minisplit",1,0) -> 1 | L10: =IF(D10="remota",1,0) -> 0 | M10: =IF(D10="paquete",1,0) -> 0 | N10: =IF(D10="ventana",1,0) -> 0 | O10: =IF(D10="remota de precisión",1,0) -> 0
A11: MEXICALI | B11: ARCHIVO GENERAL DE LA SECRETARIA | C11: Calzada independencia y calle J sin numero fracc. Calafia | D11: minisplit | E11: 2 | F11: condensadora manrjadora | G11: Trane | H11: INV-369104 INV-369105 | I11: 19087793424YCP1630 190877239729YCP0100 | J11: 2 | K11: =IF(D11="minisplit",1,0) -> 1 | L11: =IF(D11="remota",1,0) -> 0 | M11: =IF(D11="paquete",1,0) -> 0 | N11: =IF(D11="ventana",1,0) -> 0 | O11: =IF(D11="remota de precisión",1,0) -> 0
A12: MEXICALI | B12: ARCHIVO GENERAL DE LA SECRETARIA | C12: Calzada independencia y calle J sin numero fracc. Calafia | D12: paquete | E12: 3 | H12: INV-412904 | I12: 200402867160100011 | J12: 3 | K12: =IF(D12="minisplit",1,0) -> 0 | L12: =IF(D12="remota",1,0) -> 0 | M12: =IF(D12="paquete",1,0) -> 1 | N12: =IF(D12="ventana",1,0) -> 0 | O12: =IF(D12="remota de precisión",1,0) -> 0
A13: MEXICALI | B13: ARCHIVO GENERAL DE LA SECRETARIA | C13: Calzada independencia y calle J sin numero fracc. Calafia | D13: paquete | E13: 3 | H13: INV-412905 | I13: 200402867160100008 | J13: 3 | K13: =IF(D13="minisplit",1,0) -> 0 | L13: =IF(D13="remota",1,0) -> 0 | M13: =IF(D13="paquete",1,0) -> 1 | N13: =IF(D13="ventana",1,0) -> 0 | O13: =IF(D13="remota de precisión",1,0) -> 0
A14: MEXICALI | B14: ARCHIVO GENERAL DE LA SECRETARIA | C14: Calzada independencia y calle J sin numero fracc. Calafia | D14: minisplit | E14: 1 | G14: York | H14: M3-013166 M3-013167 | I14: 047401505050300264 047401505050300269 | J14: 1 | K14: =IF(D14="minisplit",1,0) -> 1 | L14: =IF(D14="remota",1,0) -> 0 | M14: =IF(D14="paquete",1,0) -> 0 | N14: =IF(D14="ventana",1,0) -> 0 | O14: =IF(D14="remota de precisión",1,0) -> 0
A15: MEXICALI | B15: ARCHIVO GENERAL DE LA SECRETARIA | C15: Calzada independencia y calle J sin numero fracc. Calafia | D15: minisplit | E15: 1 | G15: York | H15: M3-019063 M3-019065 | I15: 197704/580080305696 197704/580080400384 | J15: 1 | K15: =IF(D15="minisplit",1,0) -> 1 | L15: =IF(D15="remota",1,0) -> 0 | M15: =IF(D15="paquete",1,0) -> 0 | N15: =IF(D15="ventana",1,0) -> 0 | O15: =IF(D15="remota de precisión",1,0) -> 0
A16: MEXICALI | B16: ARCHIVO GENERAL DE LA SECRETARIA | C16: Calzada independencia y calle J sin numero fracc. Calafia | D16: minisplit | E16: 1 | G16: Lennox | H16: M3-019066 M3-019067 | I16: 5898F64424 L970925937 | J16: 1 | K16: =IF(D16="minisplit",1,0) -> 1 | L16: =IF(D16="remota",1,0) -> 0 | M16: =IF(D16="paquete",1,0) -> 0 | N16: =IF(D16="ventana",1,0) -> 0 | O16: =IF(D16="remota de precisión",1,0) -> 0
A17: MEXICALI | B17: ARCHIVO GENERAL DE LA SECRETARIA | C17: Calzada independencia y calle J sin numero fracc. Calafia | D17: minisplit | E17: 1 | H17: M3-019068 | J17: 1 | K17: =IF(D17="minisplit",1,0) -> 1 | L17: =IF(D17="remota",1,0) -> 0 | M17: =IF(D17="paquete",1,0) -> 0 | N17: =IF(D17="ventana",1,0) -> 0 | O17: =IF(D17="remota de precisión",1,0) -> 0
A18: MEXICALI | B18: S.P.F. DEPTO. DE CONTROL PRESUPUESTAL | C18: Edificio Poder Ejecutivo, sotano, Calzada Independencia 944, Centro Cívico, Mexicali, B.C. ( 4to piso) | D18: minisplit | E18: 1 | F18: condensadora manrjadora | G18: Trane | H18: INV-426099 INV-426100 | I18: X2129TO242IC0560 X2124TO122ICO499 | J18: 1 | K18: =IF(D18="minisplit",1,0) -> 1 | L18: =IF(D18="remota",1,0) -> 0 | M18: =IF(D18="paquete",1,0) -> 0 | N18: =IF(D18="ventana",1,0) -> 0 | O18: =IF(D18="remota de precisión",1,0) -> 0
A19: Tijuana | B19: Procuraduría Fiscal (Tijuana) | C19: Blvd. Díaz Órdaz y Ave. De las Américas, Fraccionamiento el Paraisto (Plaza Patria) | D19: minisplit | E19: 1 | F19: condensadora manrjadora | G19: Lennox | H19: INV-427547 INV-427548 | I19: 2821K50546 3322D61528 | J19: 1 | K19: =IF(D19="minisplit",1,0) -> 1 | L19: =IF(D19="remota",1,0) -> 0 | M19: =IF(D19="paquete",1,0) -> 0 | N19: =IF(D19="ventana",1,0) -> 0 | O19: =IF(D19="remota de precisión",1,0) -> 0
A20: MEXICALI | B20: Subdireccion de infraestructura y telecomunicaacion | C20: Edificio Poder Ejecutivo, sotano, Calzada Independencia 944, Centro Cívico, Mexicali, B.C. (sotano) | D20: Remota | E20: 7.5 | F20: condensadora manrjadora | G20: Rheem | H20: INV-295690 INV-295691 | I20: F191400002 F211701772 | J20: 7.5 | K20: =IF(D20="minisplit",1,0) -> 0 | L20: =IF(D20="remota",1,0) -> 1 | M20: =IF(D20="paquete",1,0) -> 0 | N20: =IF(D20="ventana",1,0) -> 0 | O20: =IF(D20="remota de precisión",1,0) -> 0
A21: MEXICALI | B21: DPTO. DE ARQUITECTURA TECNOLOGICA | C21: Edificio Poder Ejecutivo, sotano, Calzada Independencia 944, Centro Cívico, Mexicali, B.C. (sotano) | D21: Remota de Precisión | E21: 15 | H21: INV-353616 | I21: 84765Y10105838 | J21: 15 | K21: =IF(D21="minisplit",1,0) -> 0 | L21: =IF(D21="remota",1,0) -> 0 | M21: =IF(D21="paquete",1,0) -> 0 | N21: =IF(D21="ventana",1,0) -> 0 | O21: =IF(D21="remota de precisión",1,0) -> 1
A22: MEXICALI | B22: DOTO. DE ARQUITECTURA TECNOLOGICA | C22: Edificio Poder Ejecutivo, sotano, Calzada Independencia 944, Centro Cívico, Mexicali, B.C. (sotano) | D22: minisplit | E22: 5 | H22: M3-011687 | I22: MDC611080300016 | J22: 5 | K22: =IF(D22="minisplit",1,0) -> 1 | L22: =IF(D22="remota",1,0) -> 0 | M22: =IF(D22="paquete",1,0) -> 0 | N22: =IF(D22="ventana",1,0) -> 0 | O22: =IF(D22="remota de precisión",1,0) -> 0
A23: Tijuana | B23: DIRECCION AUDITORIA COMERCIO EXTERIOR TIJUANA | C23: CENTRO DE GOBIERNO, EDIFICIO SAT BC, PLANTA ALTA, KM 26.5 CARRETERA TIJUANA -TECATE S/N COL. FIDEICOMISO EL FLORIDO CP. 22234 | D23: paquete | E23: 5 | H23: INV-365083 | K23: =IF(D23="minisplit",1,0) -> 0 | L23: =IF(D23="remota",1,0) -> 0 | M23: =IF(D23="paquete",1,0) -> 1 | N23: =IF(D23="ventana",1,0) -> 0 | O23: =IF(D23="remota de precisión",1,0) -> 0
A24: Ensenada | B24: DEPARTAMENTO DE AUDITORÍA FISCAL DE ENSENADA | C24: CARRETERA TRANSPENINSULAR LA PAZ - ENSENADA #6500 2do. PISO, EX. EJIDO CHAPULTEPEC CP. 22785 | D24: Remota | E24: 2 | G24: Trane | H24: INV-283677 | I24: S15065L825F | J24: 2 | K24: =IF(D24="minisplit",1,0) -> 0 | L24: =IF(D24="remota",1,0) -> 1 | M24: =IF(D24="paquete",1,0) -> 0 | N24: =IF(D24="ventana",1,0) -> 0 | O24: =IF(D24="remota de precisión",1,0) -> 0
A25: Ensenada | B25: DEPARTAMENTO DE AUDITORÍA FISCAL DE ENSENADA | C25: CARRETERA TRANSPENINSULAR LA PAZ - ENSENADA #6500 2do. PISO, EX. EJIDO CHAPULTEPEC CP. 22785 | D25: Remota | E25: 3 | G25: Trane | H25: INV-283678 | I25: S16244YXM5F | J25: 3 | K25: =IF(D25="minisplit",1,0) -> 0 | L25: =IF(D25="remota",1,0) -> 1 | M25: =IF(D25="paquete",1,0) -> 0 | N25: =IF(D25="ventana",1,0) -> 0 | O25: =IF(D25="remota de precisión",1,0) -> 0
A26: Ensenada | B26: DEPARTAMENTO DE AUDITORÍA FISCAL DE ENSENADA | C26: CARRETERA TRANSPENINSULAR LA PAZ - ENSENADA #6500 2do. PISO, EX. EJIDO CHAPULTEPEC CP. 22785 | D26: Remota | E26: 5 | G26: Trane | H26: INV-283679 | I26: S111915D52F | J26: 5 | K26: =IF(D26="minisplit",1,0) -> 0 | L26: =IF(D26="remota",1,0) -> 1 | M26: =IF(D26="paquete",1,0) -> 0 | N26: =IF(D26="ventana",1,0) -> 0 | O26: =IF(D26="remota de precisión",1,0) -> 0
A27: MEXICALI | B27: DEPTO. DE SERVICIOS Y OPERACIONES | C27: Edificio Poder Ejecutivo, sotano, Calzada Independencia 944, Centro Cívico, Mexicali, B.C. | D27: minisplit | E27: 5 | G27: Mirage | H27: M3-011686 | I27: MDC611080300006 | J27: 5 | K27: =IF(D27="minisplit",1,0) -> 1 | L27: =IF(D27="remota",1,0) -> 0 | M27: =IF(D27="paquete",1,0) -> 0 | N27: =IF(D27="ventana",1,0) -> 0 | O27: =IF(D27="remota de precisión",1,0) -> 0
A28: MEXICALI | B28: DEPARTAMENTO DE SOPORTE | C28: Edificio Poder Ejecutivo, sotano, Calzada Independencia 944, Centro Cívico, Mexicali, B.C. | D28: paquete | E28: 5 | G28: Trane | H28: INV-295748 | I28: 163015083L | J28: 5 | K28: =IF(D28="minisplit",1,0) -> 0 | L28: =IF(D28="remota",1,0) -> 0 | M28: =IF(D28="paquete",1,0) -> 1 | N28: =IF(D28="ventana",1,0) -> 0 | O28: =IF(D28="remota de precisión",1,0) -> 0
A29: MEXICALI | B29: DEPARTAMENTO DE SOPORTE | C29: Edificio Poder Ejecutivo, sotano, Calzada Independencia 944, Centro Cívico, Mexicali, B.C. | D29: paquete | E29: 5 | G29: Trane | H29: INV-295749 | I29: 172110994L | J29: 5 | K29: =IF(D29="minisplit",1,0) -> 0 | L29: =IF(D29="remota",1,0) -> 0 | M29: =IF(D29="paquete",1,0) -> 1 | N29: =IF(D29="ventana",1,0) -> 0 | O29: =IF(D29="remota de precisión",1,0) -> 0
