Workbook

Sheet Servicio de Vigilancia
A1: GOBIERNO DEL ESTADO DE BAJA CALIFORNIA
A2: OFICIALIA MAYOR
A3: COORDINACION DE SEGURIDAD Y VIGILANCIA
A4: CONTRATO DE PRESTACION DE SERVICIO 01 DE MAYO AL 31 DE DICIEMBRE 2023
A6: OFICINA Y/O DEPENDENCIA DEL GOBIERNO DEL ESTADO | B6: DIRECCIÓN | C6: HORARIO | D6: PERSONAL SOLICITADO | E6: HORAS POR DIA POR PERSONA | F6: HORAS DIARIAS POR TURNO | G6: TOTAL DÍAS 01 DE MAYO A 31 DE DICIEMBRE DE 2023 | H6: TOTAL DE HORAS 01 DE MAYO A 31 DE DICIEMBRE DE 2023 | I6: DEPENDENCIA | J6: LOCALIDAD
A7: MÓDULO SEGURIDAD/SÓTANO | B7: EDIFICIO DEL PODER EJECUTIVO, CALZADA INDEPENDENCIA #944, CENTRO CIVICO, MEXICALI, B.C | C7: Lunes a Domingo 7:00 a 19:00 | D7: 2 | E7: 12 | F7: =D7*E7 -> 24 | G7: =31+30+31+31+30+31+30+31 -> 245 | H7: =F7*G7 -> 5880 | I7: OFICIALÍA MAYOR DE GOBIERNO | J7: MEXICALI
C8: Lunes a Domingo 19:00 a 7:00 | D8: 2 | E8: 12 | F8: =D8*E8 -> 24 | G8: =31+30+31+31+30+31+30+31 -> 245 | H8: =F8*G8 -> 5880 | I8: OFICIALÍA MAYOR DE GOBIERNO | J8: MEXICALI
A9: ENTRADA DE FUNCIONARIOS/TÚNEL | B9: EDIFICIO DEL PODER EJECUTIVO, CALZADA INDEPENDENCIA #944, CENTRO CIVICO, MEXICALI, B.C | C9: Lunes a Domingo 7:00 a 19:00 | D9: 1 | E9: 12 | F9: 12 | G9: =31+30+31+31+30+31+30+31 -> 245 | H9: =F9*G9 -> 2940 | I9: OFICIALÍA MAYOR DE GOBIERNO | J9: MEXICALI
C10: Lunes a Domingo 19:00 a 7:00 | D10: 1 | E10: 12 | F10: =D10*E10 -> 12 | G10: =31+30+31+31+30+31+30+31 -> 245 | H10: =F10*G10 -> 2940 | I10: OFICIALÍA MAYOR DE GOBIERNO | J10: MEXICALI
A11: ESTACIONAMIENTO CASETA 8 | B11: EDIFICIO DEL PODER EJECUTIVO, CALZADA INDEPENDENCIA #944, CENTRO CIVICO, MEXICALI, B.C | C11: Lunes a Viernes 7:00 a 19:00 | D11: 1 | E11: 12 | F11: =D11*E11 -> 12 | G11: =21+22+21+23+20+20+20+19 -> 166 | H11: =F11*G11 -> 1992 | I11: OFICIALÍA MAYOR DE GOBIERNO | J11: MEXICALI
A12: PRIMER PISO LADO NORTE ( FILTRO SANITARIO ) | B12: EDIFICIO DEL PODER EJECUTIVO, CALZADA INDEPENDENCIA #944, CENTRO CIVICO, MEXICALI, B.C | C12: Lunes a Viernes 7:00 a 19:00 | D12: 1 | E12: 12 | F12: =D12*E12 -> 12 | G12: =21+22+21+23+20+20+20+19 -> 166 | H12: =F12*G12 -> 1992 | I12: OFICIALÍA MAYOR DE GOBIERNO | J12: MEXICALI
A13: SÓTANO LADO NORTE ( FILTRO SANITARIO ) | B13: EDIFICIO DEL PODER EJECUTIVO, CALZADA INDEPENDENCIA #944, CENTRO CIVICO, MEXICALI, B.C | C13: Lunes a Viernes 7:00 a 19:00 | D13: 1 | E13: 12 | F13: =D13*E13 -> 12 | G13: =21+22+21+23+20+20+20+19 -> 166 | H13: =F13*G13 -> 1992 | I13: OFICIALÍA MAYOR DE GOBIERNO | J13: MEXICALI
A14: PRIMER PISO LADO SUR ( FILTRO SANITARIO ) | B14: EDIFICIO DEL PODER EJECUTIVO, CALZADA INDEPENDENCIA #944, CENTRO CIVICO, MEXICALI, B.C | C14: Lunes a Viernes 7:00 a 19:00 | D14: 2 | E14: 12 | F14: =D14*E14 -> 24 | G14: =21+22+21+23+20+20+20+19 -> 166 | H14: =F14*G14 -> 3984 | I14: OFICIALÍA MAYOR DE GOBIERNO | J14: MEXICALI
A15: CASETA 1 | B15: EDIFICIO DEL PODER EJECUTIVO, CALZADA INDEPENDENCIA #944, CENTRO CIVICO, MEXICALI, B.C | C15: Lunes a Domingo 7:00 a 19:00 | D15: 1 | E15: 12 | F15: =D15*E15 -> 12 | G15: =31+30+31+31+30+31+30+31 -> 245 | H15: =F15*G15 -> 2940 | I15: OFICIALÍA MAYOR DE GOBIERNO | J15: MEXICALI
A16: CASETA 1 | B16: EDIFICIO DEL PODER EJECUTIVO, CALZADA INDEPENDENCIA #944, CENTRO CIVICO, MEXICALI, B.C | C16: Lunes a Domingo 19:00 a 7:00 | D16: 1 | E16: 12 | F16: =D16*E16 -> 12 | G16: =31+30+31+31+30+31+30+31 -> 245 | H16: =F16*G16 -> 2940 | I16: OFICIALÍA MAYOR DE GOBIERNO | J16: MEXICALI
A17: CASETA 2 | B17: EDIFICIO DEL PODER EJECUTIVO, CALZADA INDEPENDENCIA #944, CENTRO CIVICO, MEXICALI, B.C | C17: Lunes a Viernes 7:00 a 19:00 | D17: 2 | E17: 12 | F17: =D17*E17 -> 24 | G17: =21+22+21+23+20+20+20+19 -> 166 | H17: =F17*G17 -> 3984 | I17: OFICIALÍA MAYOR DE GOBIERNO | J17: MEXICALI
A18: ESTACIONAMIENTO DE SALIDA FUNCIONARIOS/TUNEL CASETA 7 | B18: EDIFICIO DEL PODER EJECUTIVO, CALZADA INDEPENDENCIA #944, CENTRO CIVICO, MEXICALI, B.C | C18: Lunes a Domingo 7:00 a 19:00 | D18: 1 | E18: 12 | F18: =D18*E18 -> 12 | G18: =31+30+31+31+30+31+30+31 -> 245 | H18: =F18*G18 -> 2940 | I18: OFICIALÍA MAYOR DE GOBIERNO | J18: MEXICALI
C19: Lunes a Domingo 19:00 a 7:00 | D19: 1 | E19: 12 | F19: =D19*E19 -> 12 | G19: =31+30+31+31+30+31+30+31 -> 245 | H19: =F19*G19 -> 2940 | I19: OFICIALÍA MAYOR DE GOBIERNO | J19: MEXICALI
A20: ESTACIONAMIENTO CASETA A5 | B20: CALLE DEL HOSPITAL SN CENTRO CIVICO, MEXICALI, B.C. | C20: Lunes a Viernes 7:00 a 19:00 | D20: 1 | E20: 12 | F20: =D20*E20 -> 12 | G20: =21+22+21+23+20+20+20+19 -> 166 | H20: =F20*G20 -> 1992 | I20: OFICIALÍA MAYOR DE GOBIERNO | J20: MEXICALI
A21: ESTACIONAMIENTO CASETA 6 | B21: DR. HUMBERTO TORRES S/N CENTRO CIVICO, MEXICALI,B.C. | C21: Lunes a Viernes 7:00 a 19:00 | D21: 1 | E21: 12 | F21: =D21*E21 -> 12 | G21: =21+22+21+23+20+20+20+19 -> 166 | H21: =F21*G21 -> 1992 | I21: OFICIALÍA MAYOR DE GOBIERNO | J21: MEXICALI
A22: RONDINERO ESTACIONAMIENTO A9-A5 | B22: DR. HUMBERTO TORRES S/N CENTRO CIVICO, MEXICALI,B.C. | C22: Lunes a Viernes 7:00 a 19:00 | D22: 1 | E22: 12 | F22: =D22*E22 -> 12 | G22: =21+22+21+23+20+20+20+19 -> 166 | H22: =F22*G22 -> 1992 | I22: OFICIALÍA MAYOR DE GOBIERNO | J22: MEXICALI
A23: ESTACIONAMIENTO DE VEHICULOS OFICIALES CASETA 3 | B23: CALLE DEL HOSPITAL S/N CENTRO CIVICO, MEXICALI,B.C. | C23: Lunes a Viernes 7:00 a 19:00 | D23: 1 | E23: 12 | F23: =D23*E23 -> 12 | G23: =21+22+21+23+20+20+20+19 -> 166 | H23: =F23*G23 -> 1992 | I23: OFICIALÍA MAYOR DE GOBIERNO | J23: MEXICALI
A24: RONDINERO ESTACIONAMIENTO 5 NIVELES | B24: CALLE DEL HOSPITAL S/N CENTRO CIVICO, MEXICALI,B.C. | C24: Lunes a Domingo 7:00 a 19:00 | D24: 1 | E24: 12 | F24: =D24*E24 -> 12 | G24: =31+30+31+31+30+31+30+31 -> 245 | H24: =F24*G24 -> 2940 | I24: OFICIALÍA MAYOR DE GOBIERNO | J24: MEXICALI
C25: Lunes a Domingo 19:00 a 7:00 | D25: 1 | E25: 12 | F25: =D25*E25 -> 12 | G25: =31+30+31+31+30+31+30+31 -> 245 | H25: =F25*G25 -> 2940 | I25: OFICIALÍA MAYOR DE GOBIERNO | J25: MEXICALI
A26: ESTACIONAMIENTO DE VEHICULOS OFICIALES | B26: DR. HUMBERTO TORRES S/N CENTRO CIVICO, MEXICALI,B.C. | C26: Lunes a Domingo 7:00 a 19:00 | D26: 1 | E26: 12 | F26: =D26*E26 -> 12 | G26: =31+30+31+31+30+31+30+31 -> 245 | H26: =F26*G26 -> 2940 | I26: OFICIALÍA MAYOR DE GOBIERNO | J26: MEXICALI
C27: Lunes a Domingo 19:00 a 7:00 | D27: 1 | E27: 12 | F27: =D27*E27 -> 12 | G27: =31+30+31+31+30+31+30+31 -> 245 | H27: =F27*G27 -> 2940 | I27: OFICIALÍA MAYOR DE GOBIERNO | J27: MEXICALI
A28: ESTACIONAMIENTO H | B28: AVENIDA DE LOS PIONEROS SIN NUMERO | C28: Lunes a Viernes 7:00 a 19:00 | D28: 1 | E28: 12 | F28: =D28*E28 -> 12 | G28: =21+22+21+23+20+20+20+19 -> 166 | H28: =F28*G28 -> 1992 | I28: OFICIALÍA MAYOR DE GOBIERNO | J28: MEXICALI
A29: TALLER DEL ESTADO | B29: IGNACIO COMONFORT Y RIO CULIACAN, CLONIA PROHOGAR MEXICALI,B.C. | C29: Lunes a Domingo 7:00 a 19:00 | D29: 1 | E29: 12 | F29: =D29*E29 -> 12 | G29: =31+30+31+31+30+31+30+31 -> 245 | H29: =F29*G29 -> 2940 | I29: OFICIALÍA MAYOR DE GOBIERNO | J29: MEXICALI
C30: Lunes a Domingo 19:00 a 7:00 | D30: 1 | E30: 12 | F30: =D30*E30 -> 12 | G30: =31+30+31+31+30+31+30+31 -> 245 | H30: =F30*G30 -> 2940 | I30: OFICIALÍA MAYOR DE GOBIERNO | J30: MEXICALI
A31: CORRALÓN DE VEHICULOS ALMACEN OFICILIA MAYOR | B31: AV. YUGOSLAVIAS/N COLONIA SANTA ISABEL MEXICALI,B.C. | C31: Lunes a Domingo 7:00 a 19:00 | D31: 2 | E31: 12 | F31: =D31*E31 -> 24 | G31: =31+30+31+31+30+31+30+31 -> 245 | H31: =F31*G31 -> 5880 | I31: OFICIALÍA MAYOR DE GOBIERNO | J31: MEXICALI
C32: Lunes a Domingo 19:00 a 7:00 | D32: 2 | E32: 12 | F32: =D32*E32 -> 24 | G32: =31+30+31+31+30+31+30+31 -> 245 | H32: =F32*G32 -> 5880 | I32: OFICIALÍA MAYOR DE GOBIERNO | J32: MEXICALI
A33: CASETA 4 | B33: EDIFICIO DEL PODER EJECUTIVO, CALZADA INDEPENDENICA # 994, CENTRO CIVICO, MEXICALI.B.C. | C33: Lunes a Domingo 7:00 a 19:00 | D33: 1 | E33: 12 | F33: =D33*E33 -> 12 | G33: =31+30+31+31+30+31+30+31 -> 245 | H33: =F33*G33 -> 2940 | I33: OFICIALÍA MAYOR DE GOBIERNO | J33: MEXICALI
C34: Lunes a Domingo 19:00 a 7:00 | D34: 1 | E34: 12 | F34: =D34*E34 -> 12 | G34: =31+30+31+31+30+31+30+31 -> 245 | H34: =F34*G34 -> 2940 | I34: OFICIALÍA MAYOR DE GOBIERNO | J34: MEXICALI
A35: CASETA 8 | B35: EDIFICIO DEL PODER EJECUTIVO, CALZADA INDEPENDENICA # 994, CENTRO CIVICO, MEXICALI.B.C. | C35: Lunes a Viernes 7:00 a 19:00 | D35: 1 | E35: 12 | F35: =D35*E35 -> 12 | G35: =21+22+21+23+20+20+20+19 -> 166 | H35: =F35*G35 -> 1992 | I35: OFICIALÍA MAYOR DE GOBIERNO | J35: MEXICALI
A36: ORGANO INTERNO DE CONTROL | B36: PASAJE JANITZIO # 1057, CENTRO CIVICO, MEXICALI.B.C. | C36: Lunes a Domingo 7:00 a 19:00 | D36: 1 | E36: 12 | F36: =D36*E36 -> 12 | G36: =31+30+31+31+30+31+30+31 -> 245 | H36: =F36*G36 -> 2940 | I36: OFICIALÍA MAYOR DE GOBIERNO | J36: MEXICALI
C37: Lunes a Domingo 19:00 a 7:00 | D37: 1 | E37: 12 | F37: =D37*E37 -> 12 | G37: =31+30+31+31+30+31+30+31 -> 245 | H37: =F37*G37 -> 2940 | I37: OFICIALÍA MAYOR DE GOBIERNO | J37: MEXICALI
A38: ALMACÉN DEL ESTADO | B38: VIA RAPIDA S/N COLONIA CORONA DEL ROSAL,TIJUANA B.C. | C38: Lunes a Domingo 7:00 a 19:00 | D38: 1 | E38: 12 | F38: =D38*E38 -> 12 | G38: =31+30+31+31+30+31+30+31 -> 245 | H38: =F38*G38 -> 2940 | I38: OFICIALÍA MAYOR DE GOBIERNO | J38: TIJUANA
C39: Lunes a Domingo 19:00 a 7:00 | D39: 1 | E39: 12 | F39: =D39*E39 -> 12 | G39: =31+30+31+31+30+31+30+31 -> 245 | H39: =F39*G39 -> 2940 | I39: OFICIALÍA MAYOR DE GOBIERNO | J39: TIJUANA
A40: ESTACIONAMIENTO CORRALÓN | B40: VIA RAPIDA # 10252 ZONA DEL RIO TIJUANA, B.C. | C40: Lunes a Domingo 7:00 a 19:00 | D40: 1 | E40: 12 | F40: =D40*E40 -> 12 | G40: =31+30+31+31+30+31+30+31 -> 245 | H40: =F40*G40 -> 2940 | I40: OFICIALÍA MAYOR DE GOBIERNO | J40: TIJUANA
C41: Lunes a Domingo 19:00 a 7:00 | D41: 1 | E41: 12 | F41: =D41*E41 -> 12 | G41: =31+30+31+31+30+31+30+31 -> 245 | H41: =F41*G41 -> 2940 | I41: OFICIALÍA MAYOR DE GOBIERNO | J41: TIJUANA
...

Sheet PARTIDA 1
A1: Partida 1. Oficialía Mayor de Gobierno
A3: UBICACIÓN | B3: DIRECCIÓN | C3: HORARIO | D3: PERSONAL SOLICITADO | E3: TOTAL DE HORAS 01 MAYO AL 31 DIC. 2023
A4: MÓDULO SEGURIDAD/SÓTANO | B4: EDIFICIO DEL PODER EJECUTIVO, CALZADA INDEPENDENCIA #944, CENTRO CIVICO, MEXICALI, B.C | C4: Lunes a Domingo 7:00 a 19:00 | D4: 2 | E4: ='Servicio de Vigilancia'!H7 -> 5880
C5: Lunes a Domingo 19:00 a 7:00 | D5: 2 | E5: ='Servicio de Vigilancia'!H8 -> 5880
A6: ENTRADA DE FUNCIONARIOS/TÚNEL | B6: EDIFICIO DEL PODER EJECUTIVO, CALZADA INDEPENDENCIA #944, CENTRO CIVICO, MEXICALI, B.C | C6: Lunes a Domingo 7:00 a 19:00 | D6: 1 | E6: ='Servicio de Vigilancia'!H9 -> 2940
C7: Lunes a Domingo 19:00 a 7:00 | D7: 1 | E7: ='Servicio de Vigilancia'!H10 -> 2940
A8: ESTACIONAMIENTO CASETA 8 | B8: EDIFICIO DEL PODER EJECUTIVO, CALZADA INDEPENDENCIA #944, CENTRO CIVICO, MEXICALI, B.C | C8: Lunes a Viernes 7:00 a 19:00 | D8: 1 | E8: ='Servicio de Vigilancia'!H11 -> 1992
A9: PRIMER PISO LADO NORTE ( FILTRO SANITARIO ) | B9: EDIFICIO DEL PODER EJECUTIVO, CALZADA INDEPENDENCIA #944, CENTRO CIVICO, MEXICALI, B.C | C9: Lunes a Viernes 7:00 a 19:00 | D9: 1 | E9: ='Servicio de Vigilancia'!H12 -> 1992
A10: SÓTANO LADO NORTE ( FILTRO SANITARIO ) | B10: EDIFICIO DEL PODER EJECUTIVO, CALZADA INDEPENDENCIA #944, CENTRO CIVICO, MEXICALI, B.C | C10: Lunes a Viernes 7:00 a 19:00 | D10: 1 | E10: ='Servicio de Vigilancia'!H13 -> 1992
A11: PRIMER PISO LADO SUR ( FILTRO SANITARIO ) | B11: EDIFICIO DEL PODER EJECUTIVO, CALZADA INDEPENDENCIA #944, CENTRO CIVICO, MEXICALI, B.C | C11: Lunes a Viernes 7:00 a 19:00 | D11: 2 | E11: ='Servicio de Vigilancia'!H14 -> 3984
A12: CASETA 1 | B12: EDIFICIO DEL PODER EJECUTIVO, CALZADA INDEPENDENCIA #944, CENTRO CIVICO, MEXICALI, B.C | C12: Lunes a Domingo 7:00 a 19:00 | D12: 1 | E12: ='Servicio de Vigilancia'!H15 -> 2940
A13: CASETA 1 | B13: EDIFICIO DEL PODER EJECUTIVO, CALZADA INDEPENDENCIA #944, CENTRO CIVICO, MEXICALI, B.C | C13: Lunes a Domingo 19:00 a 7:00 | D13: 1 | E13: ='Servicio de Vigilancia'!H16 -> 2940
A14: CASETA 2 | B14: EDIFICIO DEL PODER EJECUTIVO, CALZADA INDEPENDENCIA #944, CENTRO CIVICO, MEXICALI, B.C | C14: Lunes a Viernes 7:00 a 19:00 | D14: 2 | E14: ='Servicio de Vigilancia'!H17 -> 3984
A15: ESTACIONAMIENTO DE SALIDA FUNCIONARIOS/TUNEL CASETA 7 | B15: EDIFICIO DEL PODER EJECUTIVO, CALZADA INDEPENDENCIA #944, CENTRO CIVICO, MEXICALI, B.C | C15: Lunes a Domingo 7:00 a 19:00 | D15: 1 | E15: ='Servicio de Vigilancia'!H18 -> 2940
C16: Lunes a Domingo 19:00 a 7:00 | D16: 1 | E16: ='Servicio de Vigilancia'!H19 -> 2940
A17: ESTACIONAMIENTO CASETA A5 | B17: CALLE DEL HOSPITAL SN CENTRO CIVICO, MEXICALI, B.C. | C17: Lunes a Viernes 7:00 a 19:00 | D17: 1 | E17: ='Servicio de Vigilancia'!H20 -> 1992
A18: ESTACIONAMIENTO CASETA 6 | B18: DR. HUMBERTO TORRES S/N CENTRO CIVICO, MEXICALI,B.C. | C18: Lunes a Viernes 7:00 a 19:00 | D18: 1 | E18: ='Servicio de Vigilancia'!H21 -> 1992
A19: RONDINERO ESTACIONAMIENTO A9-A5 | B19: DR. HUMBERTO TORRES S/N CENTRO CIVICO, MEXICALI,B.C. | C19: Lunes a Viernes 7:00 a 19:00 | D19: 1 | E19: ='Servicio de Vigilancia'!H22 -> 1992
A20: ESTACIONAMIENTO DE VEHICULOS OFICIALES CASETA 3 | B20: CALLE DEL HOSPITAL S/N CENTRO CIVICO, MEXICALI,B.C. | C20: Lunes a Viernes 7:00 a 19:00 | D20: 1 | E20: ='Servicio de Vigilancia'!H23 -> 1992
A21: RONDINERO ESTACIONAMIENTO 5 NIVELES | B21: CALLE DEL HOSPITAL S/N CENTRO CIVICO, MEXICALI,B.C. | C21: Lunes a Domingo 7:00 a 19:00 | D21: 1 | E21: ='Servicio de Vigilancia'!H24 -> 2940
C22: Lunes a Domingo 19:00 a 7:00 | D22: 1 | E22: ='Servicio de Vigilancia'!H25 -> 2940
A23: ESTACIONAMIENTO DE VEHICULOS OFICIALES | B23: DR. HUMBERTO TORRES S/N CENTRO CIVICO, MEXICALI,B.C. | C23: Lunes a Domingo 7:00 a 19:00 | D23: 1 | E23: ='Servicio de Vigilancia'!H26 -> 2940
C24: Lunes a Domingo 19:00 a 7:00 | D24: 1 | E24: ='Servicio de Vigilancia'!H27 -> 2940
A25: ESTACIONAMIENTO H | B25: AVENIDA DE LOS PIONEROS SIN NUMERO | C25: Lunes a Viernes 7:00 a 19:00 | D25: 1 | E25: ='Servicio de Vigilancia'!H28 -> 1992
A26: TALLER DEL ESTADO | B26: IGNACIO COMONFORT Y RIO CULIACAN, CLONIA PROHOGAR MEXICALI,B.C. | C26: Lunes a Domingo 7:00 a 19:00 | D26: 1 | E26: ='Servicio de Vigilancia'!H29 -> 2940
C27: Lunes a Domingo 19:00 a 7:00 | D27: 1 | E27: ='Servicio de Vigilancia'!H30 -> 2940
A28: CORRALÓN DE VEHICULOS ALMACEN OFICILIA MAYOR | B28: AV. YUGOSLAVIAS/N COLONIA SANTA ISABEL MEXICALI,B.C. | C28: Lunes a Domingo 7:00 a 19:00 | D28: 2 | E28: ='Servicio de Vigilancia'!H31 -> 5880
C29: Lunes a Domingo 19:00 a 7:00 | D29: 2 | E29: ='Servicio de Vigilancia'!H32 -> 5880
A30: CASETA 4 | B30: EDIFICIO DEL PODER EJECUTIVO, CALZADA INDEPENDENICA # 994, CENTRO CIVICO, MEXICALI.B.C. | C30: Lunes a Domingo 7:00 a 19:00 | D30: 1 | E30: ='Servicio de Vigilancia'!H33 -> 2940
C31: Lunes a Domingo 19:00 a 7:00 | D31: 1 | E31: ='Servicio de Vigilancia'!H34 -> 2940
A32: CASETA 8 | B32: EDIFICIO DEL PODER EJECUTIVO, CALZADA INDEPENDENICA # 994, CENTRO CIVICO, MEXICALI.B.C. | C32: Lunes a Viernes 7:00 a 19:00 | D32: 1 | E32: ='Servicio de Vigilancia'!H35 -> 1992
A33: ORGANO INTERNO DE CONTROL | B33: PASAJE JANITZIO # 1057, CENTRO CIVICO, MEXICALI.B.C. | C33: Lunes a Domingo 7:00 a 19:00 | D33: 1 | E33: ='Servicio de Vigilancia'!H36 -> 2940
C34: Lunes a Domingo 19:00 a 7:00 | D34: 1 | E34: ='Servicio de Vigilancia'!H37 -> 2940
A35: CENTRO DE JUSTICIA PENAL DE MEXICALI | B35: CALZADA DE LOS PRESIDENTES # 1185 PROLONGACION AVENIDA DE LOS PIONEROS ZONA RIO NUEVO,MEXICALI,B.C | C35: Lunes a Viernes 7:00 a 19:00 | D35: 8 | E35: ='Servicio de Vigilancia'!H112 -> 16800
C36: Sábado a Domingo 7:00 a 19:00 | D36: 4 | E36: ='Servicio de Vigilancia'!H113 -> 3360
C37: Lunes a Viernes 19:00 a 7:00 | D37: 5 | E37: ='Servicio de Vigilancia'!H114 -> 10500
C38: Sábado y Domingo 19:00 a 7:00 | D38: 4 | E38: ='Servicio de Vigilancia'!H115 -> 3360 | F38: TOTAL | G38: =SUM(D4:D38) -> 58 | H38: =SUM(E4:E38) -> 130476
A39: ALMACÉN DEL ESTADO | B39: VIA RAPIDA S/N COLONIA CORONA DEL ROSAL,TIJUANA B.C. | C39: Lunes a Domingo 7:00 a 19:00 | D39: 1 | E39: ='Servicio de Vigilancia'!H38 -> 2940
C40: Lunes a Domingo 19:00 a 7:00 | D40: 1 | E40: ='Servicio de Vigilancia'!H39 -> 2940
A41: ESTACIONAMIENTO CORRALÓN | B41: VIA RAPIDA # 10252 ZONA DEL RIO TIJUANA, B.C. | C41: Lunes a Domingo 7:00 a 19:00 | D41: 1 | E41: ='Servicio de Vigilancia'!H40 -> 2940
...

Sheet PARTIDA 2
A1: Partida 2. Secretaría de Hacienda
A3: UBICACIÓN | B3: DIRECCIÓN | C3: HORARIO | D3: PERSONAL SOLICITADO | E3: TOTAL DE HORAS 01 MAYO AL 31 MZO 2023
A4: SUBRECAUDACIÓN AUXILIAR DE RENTAS MEXICALI | B4: CALZA. INDEPENDENCIA Y PASEO DE LOS HEROES CENTRO CIVICO MEXICALI,B.C. | C4: Lunes a Domingo 7:00 a 19:00 | D4: 2 | E4: ='Servicio de Vigilancia'!H58 -> 5880
C5: Lunes a Domingo 19:00 a 7:00 | D5: 1 | E5: ='Servicio de Vigilancia'!H59 -> 2940
A6: RECINTO FISCAL MEXICALI | B6: PARADOR LA LAGUNA, CALZ. HECTOR TERAN TERAN # 2382 COL. XOCHIMILCO C.P. 21380 MEXICALI,B.C. | C6: Lunes a Domingo 7:00 a 19:00 | D6: 1 | E6: ='Servicio de Vigilancia'!H60 -> 2940
C7: Lunes a Domingo 19:00 a 7:00 | D7: 1 | E7: ='Servicio de Vigilancia'!H61 -> 2940
A8: SUBRECAUDACIÓN AUXILIAR DE RENTAS GUADALUPE VICTORIA | B8: AV. HIDALGO Y CALLE 8 GUADALUPE VICTORIA, B.C | C8: Lunes a Domingo 7:00 a 19:00 | D8: 1 | E8: ='Servicio de Vigilancia'!H62 -> 2940
C9: Lunes a Domingo 19:00 a 7:00 | D9: 1 | E9: ='Servicio de Vigilancia'!H63 -> 2940
A10: SUBERECAUDACIÓN AUXILIAR DE RENTAS CIUDAD MORELOS | B10: AV. MORELOS Y LEYES DE REFORMA # 512 POB. CD. MORELOS,B.C. | C10: Lunes a Domingo 7:00 a 19:00 | D10: 1 | E10: ='Servicio de Vigilancia'!H64 -> 2940
C11: Lunes a Domingo 19:00 a 7:00 | D11: 1 | E11: ='Servicio de Vigilancia'!H65 -> 2940
A12: * SUBERECAUDACIÓN AUXILIAR DE RENTAS GONZALEZ ORTEGA | B12: CALLE 4TA Y CARRETERA A SAN LUIS RIO COLORADO DELEGACION GONZALEZ ORTEGA MEXICALI, B.C. | C12: Lunes a Domingo 7:00 a 19:00 | D12: 1 | E12: ='Servicio de Vigilancia'!H66 -> 2940
C13: Lunes a Domingo 19:00 a 7:00 | D13: 1 | E13: ='Servicio de Vigilancia'!H67 -> 2940
A14: OFICINA GONZALEZ ORTEGA | B14: Mexicali | C14: Lunes a Domingo 19:00 a 7:00 | D14: 1 | E14: ='Servicio de Vigilancia'!H132 -> 2940
C15: Lunes a Domingo 19:00 a 7:00 | D15: 1 | E15: ='Servicio de Vigilancia'!H133 -> 2940 | F15: Total | G15: =SUM(D4:D15) -> 13 | H15: =SUM(E4:E15) -> 38220
A16: SUBERECAUDACIÓN AUXILIAR DE RENTAS SAN FELIPE | B16: AV. MAR CARIBE # 616 SEGUNDA SECCION SAN FELIPE, B.C. | C16: Lunes a Domingo 7:00 a 19:00 | D16: 1 | E16: ='Servicio de Vigilancia'!H68 -> 2940
C17: Lunes a Domingo 19:00 a 7:00 | D17: 1 | E17: ='Servicio de Vigilancia'!H69 -> 2940 | F17: Total | G17: =SUM(D16:D17) -> 2 | H17: =SUM(E16:E17) -> 5880
A18: SUBRECAUDACION DE RENTAS | B18: CENTRO DE GOBIERNO CARRETERA TRANSPENINSULAR ENSENADA- LA PAZ # 6500 EX EJIDO CHAPULTEPEC ENSENADA, B.C. | C18: Lunes a Domingo 7:00 a 19:00 | D18: 1 | E18: ='Servicio de Vigilancia'!H82 -> 2940
C19: Lunes a Domingo 19:00 a 7:00 | D19: 1 | E19: ='Servicio de Vigilancia'!H84 -> 2940
A20: CASETA MOVIL MANZANA 8 | B20: BLVD. LAS DUNAS Y CALLE RIVERA ENSENADA,B.C. | C20: Lunes a Domingo 7:00 a 19:00 | D20: 1 | E20: ='Servicio de Vigilancia'!H84 -> 2940
C21: Lunes a Domingo 19:00 a 7:00 | D21: 1 | E21: ='Servicio de Vigilancia'!H85 -> 2940 | F21: Total | G21: =SUM(D18:D21) -> 4 | H21: =SUM(E18:E21) -> 11760
A22: RECAUDACION DE RENTAS TECATE | B22: MISION SAN FRANCISCO S/N CENTRO DE GOBIERNO TECATE,B.C. | C22: Lunes a Domingo 7:00 a 19:00 | D22: 1 | E22: ='Servicio de Vigilancia'!H80 -> 2940
C23: Lunes a Domingo 19:00 a 7:00 | D23: 1 | E23: ='Servicio de Vigilancia'!H81 -> 2940 | F23: Total | G23: =SUM(D22:D23) -> 2 | H23: =SUM(E22:E23) -> 5880
A24: SUBRECAUDACION DE RENTAS CERRO COLORADO | B24: BLVD. MANUEL J CLOUTHER # 19724 COL. EL LAGO DEL CERRO COLORADO TIJUANA, B.C. FRENTE A PLAZA MONARCA | C24: Lunes a Domingo 7:00 a 19:00 | D24: 2 | E24: ='Servicio de Vigilancia'!H70 -> 5880
C25: Lunes a Domingo 19:00 a 7:00 | D25: 2 | E25: ='Servicio de Vigilancia'!H71 -> 5880
A26: CASETA MÓVIL PLAYAS DE TIJUANA | B26: CALLE PEDREGAL S/N PLAYAS, JARDINES PLAYAS DE TIJUANA | C26: Lunes a Domingo 7:00 a 19:00 | D26: 1 | E26: ='Servicio de Vigilancia'!H72 -> 2940
C27: Lunes a Domingo 19:00 a 7:00 | D27: 1 | E27: ='Servicio de Vigilancia'!H73 -> 2940
A29: CASETA MÓVIL FEDERICO BENITEZ | B29: BLVD. FEDERICO BENITEZ # 1045 ENTRE ERMITA Y CALLEJON SANCHO PANZA COLONIA LOS ESPAÑOLES DELEGACION LA MESA | C29: Lunes a Domingo 7:00 a 19:00 | D29: 1 | E29: ='Servicio de Vigilancia'!H74 -> 2940
C30: Lunes a Domingo 19:00 a 7:00 | D30: 1 | E30: ='Servicio de Vigilancia'!H75 -> 2940
A31: RECINTO FISCAL | B31: POLIGONO I DE LA MANZANA 22 DE LA COLONIA 20 DE NOVIEMBRE. TIJUANA, BAJA CALIFORNIA. | C31: Lunes a Domingo 7:00 a 19:00 | D31: 1 | E31: ='Servicio de Vigilancia'!H76 -> 2940
C32: Lunes a Domingo 19:00 a 7:00 | D32: 1 | E32: ='Servicio de Vigilancia'!H77 -> 2940
A33: SUBRECAUDACION DE RENTAS VIA RAPIDA | B33: VIA RAPIDA, JOSE FIMBRES MORENO # 12651 COL. 20 DE NOVIEMBRE. TIJUANA, B.C. | C33: Lunes a Domingo 7:00 a 19:00 | D33: 3 | E33: ='Servicio de Vigilancia'!H78 -> 8820
C34: Lunes a Domingo 19:00 a 7:00 | D34: 2 | E34: ='Servicio de Vigilancia'!H79 -> 5880
A35: * PLAZA MONARCAS | B35: BLVD. MANUEL J CLOUTHER # 18561 COL. EL LAGO C.P. 22210 TIJUANA, B.C. | C35: Lunes a Domingo 7:00 a 19:00 | D35: 1 | E35: ='Servicio de Vigilancia'!H128 -> 2568
C36: Lunes a Domingo 19:00 a 7:00 | D36: 1 | E36: ='Servicio de Vigilancia'!H129 -> 2568 | F36: Total | G36: =SUM(D24:D36) -> 17 | H36: =SUM(E24:E36) -> 49236
A37: * DESPACHO COBRANZA | B37: por definir | C37: Lunes a Domingo 7:00 a 19:00 | D37: 4 | E37: ='Servicio de Vigilancia'!H130 -> 10272
C38: Lunes a Domingo 19:00 a 7:00 | D38: 4 | E38: ='Servicio de Vigilancia'!H131 -> 10272 | F38: Total | G38: =SUM(D37:D38) -> 8 | H38: =SUM(E37:E38) -> 20544
A39: CONSORCIO TECNOLÓGICO | B39: CONSORCIO TECNOLOGICO CARRETERA LIBRE TIJUANA-TECATE KM. 26.5, EL FLORIDO TIJUANA, B.C. | C39: Lunes a Domingo 7:00 a 19:00 | D39: 4 | E39: ='Servicio de Vigilancia'!H46 -> 11760
C40: Lunes a Domingo 19:00 a 7:00 | D40: 4 | E40: ='Servicio de Vigilancia'!H47 -> 11760 | G40: =D39+D40 -> 8 | H40: =SUM(E39:E40) -> 23520
C41: Total | D41: =SUM(D4:D40) -> 54 | E41: =SUM(E4:E40) -> 155040
A43: NOTA 2: OFICINA GONZALEZ ORTEGA ( EL SERVICIO ES DE MAYO A DICIEMBRE )
...

Sheet PARTIDA 3-14
A1: Partida 3. Secretaría de Turismo
A3: UBICACIÓN | B3: DIRECCIÓN | C3: HORARIO | D3: PERSONAL SOLICITADO | E3: TOTAL DE HORAS 01 MAYO AL 31 DIC. 2023
A4: SECRETARÍA DE TURISMO ENSENADA | B4: LÁZARO CÁRDENAS 1477, CENTRO. BAHÍA ENSENADA. CP.22800 | C4: Lunes a Domingo 19:00 a 7:00 | D4: 1 | E4: ='Servicio de Vigilancia'!H137 -> 2940
A5: AEROPUERTO INTERNACIONAL DE SAN FELIPE | B5: AEROPUERTO KM 13, 21850 SAN FELÍPE, B.C. | C5: Lunes a Domingo 7:00 a 19:00 | D5: 1 | E5: ='Servicio de Vigilancia'!H138 -> 2940
C6: Lunes a Domingo 19:00 a 7:00 | D6: 1 | E6: ='Servicio de Vigilancia'!H139 -> 2940
C7: Total | D7: =SUM(D4:D6) -> 3 | E7: =SUM(E4:E6) -> 8820
A9: Partida 4. Secretaría General de Gobierno
A11: UBICACIÓN | B11: DIRECCIÓN | C11: HORARIO | D11: PERSONAL SOLICITADO | E11: TOTAL DE HORAS EJERCICIO 2023
A12: DIRECCION DE PROTECCION CIVIL | B12: AVENIDA PANFILO NATERA # 6400 COLONIA VILLA TIJUANA, B.C. | C12: Lunes a Domingo 7:00 a 19:00 | D12: 1 | E12: ='Servicio de Vigilancia'!H86 -> 2940
C13: Lunes a Domingo 19:00 a 7:00 | D13: 1 | E13: ='Servicio de Vigilancia'!H87 -> 2940
A14: MIGRACIÓN,APOSTILLADOS,ARCHIVO NOTARIAL,CARTAS NO ANTECEDENTES PENALES,TRAMITES CIUDADANOS | B14: CALLE CANADA # 7125 TERCERA ETAPA ZONA RIO TIJUANA, B.C. C.P. 22226 | C14: Lunes a Domingo 7:00 a 19:00 | D14: 1 | E14: ='Servicio de Vigilancia'!H88 -> 2940
C15: Lunes a Domingo 19:00 a 7:00 | D15: 1 | E15: ='Servicio de Vigilancia'!H89 -> 2940
C16: Total | D16: =SUM(D12:D15) -> 4 | E16: =SUM(E12:E15) -> 11760
A18: Partida 5. Secretaría de Economía e Innovación
A20: UBICACIÓN | B20: DIRECCIÓN | C20: HORARIO | D20: PERSONAL SOLICITADO | E20: TOTAL DE HORAS EJERCICIO 2023
A21: CENTRO HISTÓRICO | B21: POR DEFINIR | C21: Sábado a Domingo 7:00 a 19:00 | D21: 1 | E21: ='Servicio de Vigilancia'!H126 -> 840
A22: ADMICARGA | B22: BLVD. DEFENSORES DE BAJA CALIFORNIA # 53 VENUSTIANO CARRANZA Y ELIAS CALLES LA VINITA C.P. 21460 TECATE,B.C. | C22: Sabado a Domingo 7:00 a 19:00 | D22: 1 | E22: ='Servicio de Vigilancia'!H127 -> 840 | F22: Total | G22: =SUM(D22) -> 1 | H22: =SUM(E22:E22) -> 840
A23: CONSORCIO | B23: CONSORCIO TECNOLOGICO CARRETERA LIBRE TIJUANA-TECATE KM. 26.5, EL FLORIDO TIJUANA, B.C. | C23: Lunes a Domingo 7:00 a 19:00 | D23: 1 | E23: ='Servicio de Vigilancia'!H134 -> 2940
C24: Lunes a Domingo 19:00 a 7:00 | D24: 1 | E24: ='Servicio de Vigilancia'!H135 -> 2940 | F24: Total | G24: =SUM(D23:D24) -> 2 | H24: =SUM(E23:E24) -> 5880
C25: Total | D25: =SUM(D21:D24) -> 4 | E25: =SUM(E21:E24) -> 7560
A40: Partida 6. Secretaría de Infraestructura y Desarrollo Urbano y Reordenamiento Territorial
A42: UBICACIÓN | B42: DIRECCIÓN | C42: HORARIO | D42: PERSONAL SOLICITADO | E42: TOTAL DE HORAS EJERCICIO 2023
A43: CAMPAMENTO SIDURT | B43: CALLE J S/N CALZADA INDEPENDENCIA FRACC. CALAFIA. MEXICALI,B.C. | C43: Sábado a Domingo 7:00 a 19:00 | D43: 1 | E43: ='Servicio de Vigilancia'!H92 -> 840
C44: Lunes a Domingo 19:00 a 7:00 | D44: 1 | E44: ='Servicio de Vigilancia'!H93 -> 2940
A45: RECICLADORA PERIMETRAL EQUIPO DIVERSO SIDURT | B45: RONDINERO PERIMETRAL A EQUIPO DIVERSO, EL SERVICIO SE REQUIERE EN DONDE LA MAQUINA RECICLADORA SE UBIQUE DENTRO DEL ESTADO | C45: Sábado a Domingo 7:00 a 19:00 | D45: 1 | E45: ='Servicio de Vigilancia'!H92 -> 840
C46: Lunes a Domingo 19:00 a 7:00 | D46: 1 | E46: ='Servicio de Vigilancia'!H95 -> 2940 | F46: Total | G46: =SUM(D43:D46) -> 4 | H46: =SUM(E43:E46) -> 7560
C47: Total | D47: =SUM(D43:D46) -> 4 | E47: =SUM(E43:E46) -> 7560
A49: Partida 7. Secretaría del Trabajo y Prevensión Social
A51: UBICACIÓN | B51: DIRECCIÓN | C51: HORARIO | D51: PERSONAL SOLICITADO | E51: TOTAL DE HORAS EJERCICIO 2023
A52: TRIBUNAL DE ARBITRAJE DEL ESTADO | B52: AV. RIO YAQUI ESQUINA RIO COLORADO # 638 FRACC. LAS FUENTES MEXICALI,B.C. | C52: Lunes a Viernes 8:00 a 16:00 | D52: 1 | E52: ='Servicio de Vigilancia'!H96 -> 1328
A53: STPS | B53: AV. ROMULO O" FARRIL # 938 CENTRO CIVICO MEXICALI,B.C. | C53: Lunes a Domingo 7:00 a 19:00 | D53: 1 | E53: ='Servicio de Vigilancia'!H97 -> 2940
C54: Lunes a Domingo 19:00 a 7:00 | D54: 1 | E54: ='Servicio de Vigilancia'!H98 -> 2940
C55: Total | D55: =SUM(D52:D54) -> 3 | E55: =SUM(E52:E54) -> 7208
A57: Partida 8. Secretaría de Medio Ambiente
A59: UBICACIÓN | B59: DIRECCIÓN | C59: HORARIO | D59: PERSONAL SOLICITADO | E59: TOTAL DE HORAS EJERCICIO 2023
A60: LABORATORIO DEL AIRE | B60: CALLE 9 SUR. ESQUINA 2 ORIENTE EDIFICIO S/N CD. INDUSTRAIL NUEVA TIJUANA | C60: Lunes a Domingo 7:00 a 19:00 | D60: 1 | E60: ='Servicio de Vigilancia'!H99 -> 2940
C61: Lunes a Domingo 19:00 a 7:00 | D61: 1 | E61: ='Servicio de Vigilancia'!H100 -> 2940
C62: Total | D62: =SUM(D60:D61) -> 2 | E62: =SUM(E60:E61) -> 5880
A64: Partida 9. Secretaría de Agricultura y Desarrollo Rural
A66: UBICACIÓN | B66: DIRECCIÓN | C66: HORARIO | D66: PERSONAL SOLICITADO | E66: TOTAL DE HORAS EJERCICIO 2023
...

Sheet concentrado
A1: Total de Personal y horas destinadas para Servicio de Vigilancia en Gobierno del Estado
A3: Partida | B3: Dependencia | C3: Municipio | D3: Personal | E3: Del 01 Mayo Al 31 de Dicembre 2023 | F3: Total de horas
A4: 1 | B4: Oficialía Mayor de Gobierno del Estado | C4: Mexicali | D4: ='PARTIDA 1'!G38+12 -> 70 | E4: 130560 | F4: =SUM(E4:E8) -> 344760
C5: Tecate | D5: ='PARTIDA 1'!G54 -> 25 | E5: ='PARTIDA 1'!H54 -> 45780
C6: Tijuana | D6: ='PARTIDA 1'!G48 -> 28 | E6: ='PARTIDA 1'!H48 -> 82320
C7: Rosarito | D7: ='PARTIDA 1'!G56 -> 3 | E7: ='PARTIDA 1'!H56 -> 8820
C8: Ensenada | D8: ='PARTIDA 1'!G66 -> 38 | E8: ='PARTIDA 1'!H66 -> 77280
A9: 2 | B9: Secretaría de Hacienda | C9: Mexicali | D9: ='PARTIDA 2'!G15 -> 13 | E9: ='PARTIDA 2'!H15 -> 38220 | F9: =SUM(E9:E14) -> 155040
C10: San Felipe | D10: ='PARTIDA 2'!G17 -> 2 | E10: ='PARTIDA 2'!H17 -> 5880
C11: Tecate | D11: ='PARTIDA 2'!G23 -> 2 | E11: ='PARTIDA 2'!H23 -> 5880
C12: Tijuana | D12: ='PARTIDA 2'!G36+'PARTIDA 2'!G40 -> 25 | E12: ='PARTIDA 2'!H36+'PARTIDA 2'!H40 -> 72756
C13: Ensenada | D13: ='PARTIDA 2'!G21 -> 4 | E13: ='PARTIDA 2'!H21 -> 11760
C14: Por Definir | D14: ='PARTIDA 2'!D37+'PARTIDA 2'!D38 -> 8 | E14: ='PARTIDA 2'!E37+'PARTIDA 2'!E38 -> 20544
A15: 3 | B15: Secretaría de Turismo | C15: San Felipe | D15: ='PARTIDA 3-14'!D6 -> 1 | E15: ='PARTIDA 3-14'!E6 -> 2940 | F15: =E15+E16 -> 8820
C16: Ensenada | D16: 2 | E16: ='PARTIDA 3-14'!E5+'PARTIDA 3-14'!E6 -> 5880
A17: 4 | B17: Secretaría General de Gobierno | C17: Tijuana | D17: ='PARTIDA 3-14'!D16 -> 4 | E17: ='PARTIDA 3-14'!E16 -> 11760 | F17: =E17 -> 11760
A18: 5 | B18: Secretaría de Economía e Innovación | C18: Mexicali | D18: 1 | E18: ='PARTIDA 3-14'!E21 -> 840 | F18: =SUM(E18:E20) -> 7560
C19: Tecate | D19: ='PARTIDA 3-14'!G22 -> 1 | E19: ='PARTIDA 3-14'!H22 -> 840
C20: Tijuana | D20: ='PARTIDA 3-14'!G24 -> 2 | E20: ='PARTIDA 3-14'!H24 -> 5880
A21: 6 | B21: Secretaría de Infraestructura y Desarrollo Urbano y Reordenamiento Territorial | C21: Mexicali | D21: ='PARTIDA 3-14'!G46 -> 4 | E21: ='PARTIDA 3-14'!H46 -> 7560 | F21: =SUM(E21:E21) -> 7560
A22: 7 | B22: Secretaría del Trabajo y Prevensión Social | C22: Mexicali | D22: ='PARTIDA 3-14'!D55 -> 3 | E22: ='PARTIDA 3-14'!E55 -> 7208 | F22: =E22 -> 7208
A23: 8 | B23: Secretaría de Medio Ambiente | C23: Tijuana | D23: ='PARTIDA 3-14'!D62 -> 2 | E23: ='PARTIDA 3-14'!E62 -> 5880 | F23: =E23 -> 5880
A24: 9 | B24: Secretaría de Agricultura y Desarrollo Rural | C24: Mexicali | D24: ='PARTIDA 3-14'!D73 -> 9 | E24: ='PARTIDA 3-14'!E73 -> 26460 | F24: =E24 -> 26460
A25: 10 | B25: Secretaría de Inclusión e Igualdad de Género | C25: Mexicali | D25: ='PARTIDA 3-14'!D80 -> 2 | E25: ='PARTIDA 3-14'!E80 -> 5040 | F25: =E25 -> 5040
A26: 11 | B26: Secretaría de la Honestidad y la Función Pública | C26: Mexicali | D26: ='PARTIDA 3-14'!G86 -> 2 | E26: ='PARTIDA 3-14'!H86 -> 3780 | F26: =SUM(E26:E27) -> 9660
C27: Tijuana | D27: ='PARTIDA 3-14'!G88 -> 2 | E27: ='PARTIDA 3-14'!H88 -> 5880
A28: 12 | B28: Registro Público | C28: Tijuana | D28: ='PARTIDA 3-14'!D95 -> 1 | E28: ='PARTIDA 3-14'!E95 -> 1494 | F28: =E28 -> 1494
A29: 13 | B29: Consejería Jurídica | C29: Mexicali | D29: 1 | E29: 1575 | F29: 1575
A30: 14 | B30: Seguridad Ciudadana | C30: Tijuana | D30: 2 | E30: ='PARTIDA 3-14'!E107 -> 5880 | F30: =E30 -> 5880
C31: Total | D31: =SUM(D4:D30) -> 257 | E31: =SUM(E4:E30) -> 598697 | F31: =SUM(F4:F30) -> 598697
