Workbook

Sheet MEXICALI
C1: PROGRAMA DE ENTREGAS
A5: MUNICIPIO MEXICALI | C5: ABRIL | E5: MAYO | G5: JUNIO | I5: JULIO | K5: AGOSTO | M5: SEPTIEMBRE | O5: OCTUBRE | Q5: NOVIEMBRE | S5: DICIEMBRE | U5: TOTAL
A6: UNIDAD / PEDIDO | C6: MINIMO | D6: MAXIMO | E6: MINIMO | F6: MAXIMO | G6: MINIMO | H6: MAXIMO | I6: MINIMO | J6: MAXIMO | K6: MINIMO | L6: MAXIMO | M6: MINIMO | N6: MAXIMO | O6: MINIMO | P6: MAXIMO | Q6: MINIMO | R6: MAXIMO | S6: MINIMO | T6: MAXIMO | U6: MINIMO | V6: MAXIMO
A7: ATAUD METALICO | C7: 12 | D7: 15 | E7: 15 | F7: 20 | G7: 15 | H7: 20 | I7: 15 | J7: 20 | K7: 18 | L7: 25 | M7: 15 | N7: 20 | O7: 15 | P7: 15 | Q7: 20 | R7: 20 | S7: 25 | T7: 30 | U7: =SUM(C7,E7,G7,I7,K7,M7,O7,Q7,S7) -> 150 | V7: =SUM(D7,F7,H7,J7,L7,N7,P7,R7,T7) -> 185 | W7: =C7+E7+G7+I7+K7+M7+O7+Q7+S7 -> 150 | X7: =D7+F7+H7+J7+L7+N7+P7+R7+T7 -> 185
A8: ATAUD MADERA ADULTO | C8: 10 | D8: 13 | E8: 15 | F8: 18 | G8: 10 | H8: 14 | I8: 5 | J8: 10 | K8: 5 | L8: 10 | M8: 6 | N8: 10 | O8: 5 | P8: 10 | Q8: 9 | R8: 15 | S8: 15 | T8: 20 | U8: =SUM(C8,E8,G8,I8,K8,M8,O8,Q8,S8) -> 80 | V8: =SUM(D8,F8,H8,J8,L8,N8,P8,R8,T8) -> 120 | W8: =C8+E8+G8+I8+K8+M8+O8+Q8+S8 -> 80 | X8: =D8+F8+H8+J8+L8+N8+P8+R8+T8 -> 120
A9: ATAUD 1-24 PLANO | C9: 1 | D9: 1 | E9: 1 | F9: 1 | G9: 1 | H9: 1 | I9: 1 | J9: 1 | K9: 1 | L9: 1 | M9: 1 | N9: 1 | O9: 1 | P9: 2 | Q9: 1 | R9: 2 | S9: 1 | T9: 2 | U9: =SUM(C9,E9,G9,I9,K9,M9,O9,Q9,S9) -> 9 | V9: =SUM(D9,F9,H9,J9,L9,N9,P9,R9,T9) -> 12 | W9: =C9+E9+G9+I9+K9+M9+O9+Q9+S9 -> 9 | X9: =D9+F9+H9+J9+L9+N9+P9+R9+T9 -> 12
A10: ATAUD 1-36 PLANO | C10: 0 | D10: 0 | E10: 0 | F10: 0 | G10: 0 | H10: 0 | I10: 2 | J10: 3 | K10: 0 | L10: 0 | M10: 0 | N10: 0 | O10: 0 | P10: 0 | Q10: 0 | R10: 0 | S10: 0 | T10: 0 | U10: 2 | V10: 2 | W10: =C10+E10+G10+I10+K10+M10+O10+Q10+S10 -> 2 | X10: =D10+F10+H10+J10+L10+N10+P10+R10+T10 -> 3
A11: ATAUD 3-24 OCHAVADO | C11: 1 | D11: 2 | E11: 2 | F11: 4 | G11: 1 | H11: 2 | I11: 1 | J11: 2 | K11: 1 | L11: 2 | M11: 1 | N11: 2 | O11: 1 | P11: 2 | Q11: 1 | R11: 2 | S11: 1 | T11: 2 | U11: =SUM(C11,E11,G11,I11,K11,M11,O11,Q11,S11) -> 10 | V11: =SUM(D11,F11,H11,J11,L11,N11,P11,R11,T11) -> 20 | W11: =C11+E11+G11+I11+K11+M11+O11+Q11+S11 -> 10 | X11: =D11+F11+H11+J11+L11+N11+P11+R11+T11 -> 20
A12: ATAUD 3-36 OCHAVADO | C12: 0 | D12: 0 | E12: 0 | F12: 0 | G12: 0 | H12: 0 | I12: 0 | J12: 0 | K12: 3 | L12: 4 | M12: 0 | N12: 0 | O12: 0 | P12: 0 | Q12: 0 | R12: 0 | S12: 0 | T12: 0 | U12: 3 | V12: 4 | W12: =C12+E12+G12+I12+K12+M12+O12+Q12+S12 -> 3 | X12: =D12+F12+H12+J12+L12+N12+P12+R12+T12 -> 4

Sheet TECATE
C1: PROGRAMA DE ENTREGAS
A5: MUNICIPIO TECATE | C5: ABRIL | E5: MAYO | G5: JUNIO | I5: JULIO | K5: AGOSTO | M5: SEPTIEMBRE | O5: OCTUBRE | Q5: NOVIEMBRE | S5: DICIEMBRE | U5: TOTAL
A6: UNIDAD / PEDIDO | C6: MINIMO | D6: MAXIMO | E6: MINIMO | F6: MAXIMO | G6: MINIMO | H6: MAXIMO | I6: MINIMO | J6: MAXIMO | K6: MINIMO | L6: MAXIMO | M6: MINIMO | N6: MAXIMO | O6: MINIMO | P6: MAXIMO | Q6: MINIMO | R6: MAXIMO | S6: MINIMO | T6: MAXIMO | U6: MINIMO | V6: MAXIMO
A7: ATAUD METALICO | C7: 10 | D7: 15 | E7: 15 | F7: 20 | G7: 10 | H7: 15 | I7: 15 | J7: 20 | K7: 15 | L7: 15 | M7: 15 | N7: 20 | O7: 15 | P7: 20 | Q7: 15 | R7: 20 | S7: 20 | T7: 25 | U7: =SUM(C7,E7,G7,I7,K7,M7,O7,Q7,S7) -> 130 | V7: =SUM(D7,F7,H7,J7,L7,N7,P7,R7,T7) -> 170 | W7: =C7+E7+G7+I7+K7+M7+O7+Q7+S7 -> 130 | X7: =D7+F7+H7+J7+L7+N7+P7+R7+T7 -> 170
A8: ATAUD MADERA ADULTO | C8: 6 | D8: 10 | E8: 3 | F8: 6 | G8: 2 | H8: 6 | I8: 4 | J8: 8 | K8: 5 | L8: 10 | M8: 5 | N8: 8 | O8: 6 | P8: 10 | Q8: 5 | R8: 10 | S8: 5 | T8: 10 | U8: =SUM(C8,E8,G8,I8,K8,M8,O8,Q8,S8) -> 41 | V8: =SUM(D8,F8,H8,J8,L8,N8,P8,R8,T8) -> 78 | W8: =C8+E8+G8+I8+K8+M8+O8+Q8+S8 -> 41 | X8: =D8+F8+H8+J8+L8+N8+P8+R8+T8 -> 78
A9: ATAUD 1-24 PLANO | C9: 1 | D9: 2 | E9: 0 | F9: 0 | G9: 0 | H9: 0 | I9: 1 | J9: 2 | K9: 1 | L9: 2 | M9: 1 | N9: 1 | O9: 1 | P9: 2 | Q9: 0 | R9: 0 | S9: 2 | T9: 4 | U9: =SUM(C9,E9,G9,I9,K9,M9,O9,Q9,S9) -> 7 | V9: =SUM(D9,F9,H9,J9,L9,N9,P9,R9,T9) -> 13 | W9: =C9+E9+G9+I9+K9+M9+O9+Q9+S9 -> 7 | X9: =D9+F9+H9+J9+L9+N9+P9+R9+T9 -> 13
A10: ATAUD 1-36 PLANO | C10: 0 | D10: 0 | E10: 0 | F10: 0 | G10: 0 | H10: 0 | I10: 0 | J10: 0 | K10: 0 | L10: 0 | M10: 0 | N10: 0 | O10: 0 | P10: 0 | Q10: 0 | R10: 0 | S10: 0 | T10: 0 | U10: =SUM(C10,E10,G10,I10,K10,M10,O10,Q10,S10) -> 0 | V10: =SUM(D10,F10,H10,J10,L10,N10,P10,R10,T10) -> 0 | W10: =C10+E10+G10+I10+K10+M10+O10+Q10+S10 -> 0 | X10: =D10+F10+H10+J10+L10+N10+P10+R10+T10 -> 0
A11: ATAUD 3-24 OCHAVADO | C11: 1 | D11: 3 | E11: 0 | F11: 0 | G11: 5 | H11: 10 | I11: 0 | J11: 0 | K11: 0 | L11: 0 | M11: 1 | N11: 3 | O11: 0 | P11: 0 | Q11: 0 | R11: 0 | S11: 0 | T11: 0 | U11: =SUM(C11,E11,G11,I11,K11,M11,O11,Q11,S11) -> 7 | V11: =SUM(D11,F11,H11,J11,L11,N11,P11,R11,T11) -> 16 | W11: =C11+E11+G11+I11+K11+M11+O11+Q11+S11 -> 7 | X11: =D11+F11+H11+J11+L11+N11+P11+R11+T11 -> 16
A12: ATAUD 3-36 OCHAVADO | C12: 0 | D12: 0 | E12: 0 | F12: 0 | G12: 0 | H12: 0 | I12: 0 | J12: 0 | K12: 0 | L12: 0 | M12: 0 | N12: 0 | O12: 0 | P12: 0 | Q12: 0 | R12: 0 | S12: 0 | T12: 0 | U12: =SUM(C12,E12,G12,I12,K12,M12,O12,Q12,S12) -> 0 | V12: =SUM(D12,F12,H12,J12,L12,N12,P12,R12,T12) -> 0 | W12: =C12+E12+G12+I12+K12+M12+O12+Q12+S12 -> 0 | X12: =D12+F12+H12+J12+L12+N12+P12+R12+T12 -> 0

Sheet ENSENADA
C1: PROGRAMA DE ENTREGAS
A5: MUNICIPIO ENSENADA | C5: ABRIL | E5: MAYO | G5: JUNIO | I5: JULIO | K5: AGOSTO | M5: SEPTIEMBRE | O5: OCTUBRE | Q5: NOVIEMBRE | S5: DICIEMBRE | U5: TOTAL
A6: UNIDAD / PEDIDO | C6: MINIMO | D6: MAXIMO | E6: MINIMO | F6: MAXIMO | G6: MINIMO | H6: MAXIMO | I6: MINIMO | J6: MAXIMO | K6: MINIMO | L6: MAXIMO | M6: MINIMO | N6: MAXIMO | O6: MINIMO | P6: MAXIMO | Q6: MINIMO | R6: MAXIMO | S6: MINIMO | T6: MAXIMO | U6: MINIMO | V6: MAXIMO
A7: ATAUD METALICO | C7: 25 | D7: 25 | E7: 25 | F7: 25 | G7: 25 | H7: 30 | I7: 25 | J7: 30 | K7: 25 | L7: 30 | M7: 28 | N7: 30 | O7: 28 | P7: 30 | Q7: 24 | R7: 30 | S7: 35 | T7: 35 | U7: =SUM(C7,E7,G7,I7,K7,M7,O7,Q7,S7) -> 240 | V7: =SUM(D7,F7,H7,J7,L7,N7,P7,R7,T7) -> 265 | W7: =C7+E7+G7+I7+K7+M7+O7+Q7+S7 -> 240 | X7: =D7+F7+H7+J7+L7+N7+P7+R7+T7 -> 265
A8: ATAUD MADERA ADULTO | C8: 20 | D8: 25 | E8: 26 | F8: 28 | G8: 19 | H8: 24 | I8: 36 | J8: 40 | K8: 7 | L8: 12 | M8: 13 | N8: 18 | O8: 15 | P8: 20 | Q8: 13 | R8: 18 | S8: 34 | T8: 30 | U8: =SUM(C8,E8,G8,I8,K8,M8,O8,Q8,S8) -> 183 | V8: =SUM(D8,F8,H8,J8,L8,N8,P8,R8,T8) -> 215 | W8: =C8+E8+G8+I8+K8+M8+O8+Q8+S8 -> 183 | X8: =D8+F8+H8+J8+L8+N8+P8+R8+T8 -> 215
A9: ATAUD 1-24 PLANO | C9: 1 | D9: 1 | E9: 1 | F9: 1 | G9: 1 | H9: 2 | I9: 1 | J9: 1 | K9: 1 | L9: 5 | M9: 1 | N9: 1 | O9: 1 | P9: 2 | Q9: 1 | R9: 1 | S9: 1 | T9: 1 | U9: =SUM(C9,E9,G9,I9,K9,M9,O9,Q9,S9) -> 9 | V9: =SUM(D9,F9,H9,J9,L9,N9,P9,R9,T9) -> 15 | W9: =C9+E9+G9+I9+K9+M9+O9+Q9+S9 -> 9 | X9: =D9+F9+H9+J9+L9+N9+P9+R9+T9 -> 15
A10: ATAUD 1-36 PLANO | C10: 0 | D10: 0 | E10: 0 | F10: 0 | G10: 1 | H10: 3 | I10: 0 | J10: 0 | K10: 0 | L10: 0 | M10: 0 | N10: 0 | O10: 0 | P10: 0 | Q10: 0 | R10: 0 | S10: 0 | T10: 0 | U10: =SUM(C10,E10,G10,I10,K10,M10,O10,Q10,S10) -> 1 | V10: =SUM(D10,F10,H10,J10,L10,N10,P10,R10,T10) -> 3 | W10: =C10+E10+G10+I10+K10+M10+O10+Q10+S10 -> 1 | X10: =D10+F10+H10+J10+L10+N10+P10+R10+T10 -> 3
A11: ATAUD 3-24 OCHAVADO | C11: 1 | D11: 1 | E11: 1 | F11: 1 | G11: 1 | H11: 1 | I11: 1 | J11: 4 | K11: 1 | L11: 5 | M11: 1 | N11: 1 | O11: 1 | P11: 1 | Q11: 1 | R11: 1 | S11: 1 | T11: 1 | U11: =SUM(C11,E11,G11,I11,K11,M11,O11,Q11,S11) -> 9 | V11: =SUM(D11,F11,H11,J11,L11,N11,P11,R11,T11) -> 16 | W11: =C11+E11+G11+I11+K11+M11+O11+Q11+S11 -> 9 | X11: =D11+F11+H11+J11+L11+N11+P11+R11+T11 -> 16
A12: ATAUD 3-36 OCHAVADO | C12: 0 | D12: 0 | E12: 0 | F12: 0 | G12: 0 | H12: 0 | I12: 1 | J12: 1 | K12: 0 | L12: 0 | M12: 0 | N12: 0 | O12: 0 | P12: 0 | Q12: 0 | R12: 0 | S12: 0 | T12: 0 | U12: =SUM(C12,E12,G12,I12,K12,M12,O12,Q12,S12) -> 1 | V12: 1 | W12: =C12+E12+G12+I12+K12+M12+O12+Q12+S12 -> 1 | X12: =D12+F12+H12+J12+L12+N12+P12+R12+T12 -> 1

Sheet TIJUANA
C1: PROGRAMA DE ENTREGAS
A5: MUNICIPIO TIJUANA | C5: ABRIL | E5: MAYO | G5: JUNIO | I5: JULIO | K5: AGOSTO | M5: SEPTIEMBRE | O5: OCTUBRE | Q5: NOVIEMBRE | S5: DICIEMBRE | U5: TOTAL
A6: UNIDAD / PEDIDO | C6: MINIMO | D6: MAXIMO | E6: MINIMO | F6: MAXIMO | G6: MINIMO | H6: MAXIMO | I6: MINIMO | J6: MAXIMO | K6: MINIMO | L6: MAXIMO | M6: MINIMO | N6: MAXIMO | O6: MINIMO | P6: MAXIMO | Q6: MINIMO | R6: MAXIMO | S6: MINIMO | T6: MAXIMO | U6: MINIMO | V6: MAXIMO
A7: ATAUD METALICO | C7: 7 | D7: 7 | E7: 3 | F7: 5 | G7: 3 | H7: 5 | I7: 3 | J7: 5 | K7: 6 | L7: 7 | M7: 3 | N7: 5 | O7: 3 | P7: 5 | Q7: 5 | R7: 7 | S7: 7 | T7: 7 | U7: =SUM(C7,E7,G7,I7,K7,M7,O7,Q7,S7) -> 40 | V7: =SUM(D7,F7,H7,J7,L7,N7,P7,R7,T7) -> 53 | W7: =C7+E7+G7+I7+K7+M7+O7+Q7+S7 -> 40 | X7: =D7+F7+H7+J7+L7+N7+P7+R7+T7 -> 53
A8: ATAUD MADERA ADULTO | C8: 4 | D8: 6 | E8: 5 | F8: 7 | G8: 2 | H8: 5 | I8: 3 | J8: 4 | K8: 3 | L8: 7 | M8: 1 | N8: 6 | O8: 4 | P8: 8 | Q8: 2 | R8: 7 | S8: 2 | T8: 6 | U8: =SUM(C8,E8,G8,I8,K8,M8,O8,Q8,S8) -> 26 | V8: =SUM(D8,F8,H8,J8,L8,N8,P8,R8,T8) -> 56 | W8: =C8+E8+G8+I8+K8+M8+O8+Q8+S8 -> 26 | X8: =D8+F8+H8+J8+L8+N8+P8+R8+T8 -> 56
A9: ATAUD 1-24 PLANO | C9: 1 | D9: 1 | E9: 1 | F9: 1 | G9: 1 | H9: 1 | I9: 1 | J9: 1 | K9: 1 | L9: 1 | M9: 1 | N9: 1 | O9: 1 | P9: 1 | Q9: 1 | R9: 1 | S9: 1 | T9: 1 | U9: =SUM(C9,E9,G9,I9,K9,M9,O9,Q9,S9) -> 9 | V9: =SUM(D9,F9,H9,J9,L9,N9,P9,R9,T9) -> 9 | W9: =C9+E9+G9+I9+K9+M9+O9+Q9+S9 -> 9 | X9: =D9+F9+H9+J9+L9+N9+P9+R9+T9 -> 9
A10: ATAUD 1-36 PLANO | C10: 0 | D10: 0 | E10: 0 | F10: 0 | G10: 0 | H10: 0 | I10: 0 | J10: 0 | K10: 0 | L10: 0 | M10: 0 | N10: 0 | O10: 0 | P10: 0 | Q10: 0 | R10: 0 | S10: 0 | T10: 0 | U10: =SUM(C10,E10,G10,I10,K10,M10,O10,Q10,S10) -> 0 | V10: =SUM(D10,F10,H10,J10,L10,N10,P10,R10,T10) -> 0 | W10: =C10+E10+G10+I10+K10+M10+O10+Q10+S10 -> 0 | X10: =D10+F10+H10+J10+L10+N10+P10+R10+T10 -> 0
A11: ATAUD 3-24 OCHAVADO | C11: 1 | D11: 2 | E11: 1 | F11: 1 | G11: 1 | H11: 1 | I11: 1 | J11: 1 | K11: 1 | L11: 1 | M11: 1 | N11: 1 | O11: 1 | P11: 1 | Q11: 1 | R11: 1 | S11: 2 | T11: 4 | U11: =SUM(C11,E11,G11,I11,K11,M11,O11,Q11,S11) -> 10 | V11: =SUM(D11,F11,H11,J11,L11,N11,P11,R11,T11) -> 13 | W11: =C11+E11+G11+I11+K11+M11+O11+Q11+S11 -> 10 | X11: =D11+F11+H11+J11+L11+N11+P11+R11+T11 -> 13
A12: ATAUD 3-36 OCHAVADO | C12: 0 | D12: 0 | E12: 0 | F12: 0 | G12: 0 | H12: 0 | I12: 0 | J12: 0 | K12: 0 | L12: 0 | M12: 0 | N12: 0 | O12: 0 | P12: 0 | Q12: 0 | R12: 0 | S12: 0 | T12: 0 | U12: =SUM(C12,E12,G12,I12,K12,M12,O12,Q12,S12) -> 0 | V12: =SUM(D12,F12,H12,J12,L12,N12,P12,R12,T12) -> 0 | W12: =C12+E12+G12+I12+K12+M12+O12+Q12+S12 -> 0 | X12: =D12+F12+H12+J12+L12+N12+P12+R12+T12 -> 0

Sheet SAN QUINTÍN
C1: PROGRAMA DE ENTREGAS
A5: MUNICIPIO SAN QUINTIN | C5: ABRIL | E5: MAYO | G5: JUNIO | I5: JULIO | K5: AGOSTO | M5: SEPTIEMBRE | O5: OCTUBRE | Q5: NOVIEMBRE | S5: DICIEMBRE | U5: TOTAL
A6: UNIDAD / PEDIDO | C6: MINIMO | D6: MAXIMO | E6: MINIMO | F6: MAXIMO | G6: MINIMO | H6: MAXIMO | I6: MINIMO | J6: MAXIMO | K6: MINIMO | L6: MAXIMO | M6: MINIMO | N6: MAXIMO | O6: MINIMO | P6: MAXIMO | Q6: MINIMO | R6: MAXIMO | S6: MINIMO | T6: MAXIMO | U6: MINIMO | V6: MAXIMO
A7: ATAUD METALICO | C7: 15 | D7: 15 | E7: 10 | F7: 10 | G7: 10 | H7: 12 | I7: 12 | J7: 20 | K7: 12 | L7: 20 | M7: 10 | N7: 15 | O7: 15 | P7: 15 | Q7: 14 | R7: 20 | S7: 12 | T7: 25 | U7: =SUM(C7,E7,G7,I7,K7,M7,O7,Q7,S7) -> 110 | V7: =SUM(D7,F7,H7,J7,L7,N7,P7,R7,T7) -> 152 | W7: =C7+E7+G7+I7+K7+M7+O7+Q7+S7 -> 110 | X7: =D7+F7+H7+J7+L7+N7+P7+R7+T7 -> 152
A8: ATAUD MADERA ADULTO | C8: 10 | D8: 10 | E8: 8 | F8: 8 | G8: 8 | H8: 8 | I8: 10 | J8: 11 | K8: 12 | L8: 13 | M8: 12 | N8: 15 | O8: 8 | P8: 10 | Q8: 5 | R8: 10 | S8: 8 | T8: 10 | U8: =SUM(C8,E8,G8,I8,K8,M8,O8,Q8,S8) -> 81 | V8: =SUM(D8,F8,H8,J8,L8,N8,P8,R8,T8) -> 95 | W8: =C8+E8+G8+I8+K8+M8+O8+Q8+S8 -> 81 | X8: =D8+F8+H8+J8+L8+N8+P8+R8+T8 -> 95
A9: ATAUD 1-24 PLANO | C9: 1 | D9: 1 | E9: 0 | F9: 0 | G9: 1 | H9: 1 | I9: 1 | J9: 1 | K9: 0 | L9: 0 | M9: 0 | N9: 0 | O9: 1 | P9: 1 | Q9: 0 | R9: 0 | S9: 1 | T9: 1 | U9: =SUM(C9,E9,G9,I9,K9,M9,O9,Q9,S9) -> 5 | V9: =SUM(D9,F9,H9,J9,L9,N9,P9,R9,T9) -> 5 | W9: =C9+E9+G9+I9+K9+M9+O9+Q9+S9 -> 5 | X9: =D9+F9+H9+J9+L9+N9+P9+R9+T9 -> 5
A10: ATAUD 1-36 PLANO | C10: 0 | D10: 0 | E10: 0 | F10: 0 | G10: 0 | H10: 0 | I10: 0 | J10: 0 | K10: 0 | L10: 0 | M10: 0 | N10: 0 | O10: 0 | P10: 0 | Q10: 0 | R10: 0 | S10: 0 | T10: 0 | U10: =SUM(C10,E10,G10,I10,K10,M10,O10,Q10,S10) -> 0 | V10: =SUM(D10,F10,H10,J10,L10,N10,P10,R10,T10) -> 0 | W10: =C10+E10+G10+I10+K10+M10+O10+Q10+S10 -> 0 | X10: =D10+F10+H10+J10+L10+N10+P10+R10+T10 -> 0
A11: ATAUD 3-24 OCHAVADO | C11: 1 | D11: 2 | E11: 0 | F11: 0 | G11: 1 | H11: 2 | I11: 0 | J11: 0 | K11: 1 | L11: 2 | M11: 1 | N11: 2 | O11: 0 | P11: 0 | Q11: 1 | R11: 3 | S11: 0 | T11: 0 | U11: =SUM(C11,E11,G11,I11,K11,M11,O11,Q11,S11) -> 5 | V11: =SUM(D11,F11,H11,J11,L11,N11,P11,R11,T11) -> 11 | W11: =C11+E11+G11+I11+K11+M11+O11+Q11+S11 -> 5 | X11: =D11+F11+H11+J11+L11+N11+P11+R11+T11 -> 11
A12: ATAUD 3-36 OCHAVADO | C12: 0 | D12: 0 | E12: 0 | F12: 0 | G12: 0 | H12: 0 | I12: 0 | J12: 0 | K12: 0 | L12: 0 | M12: 0 | N12: 0 | O12: 0 | P12: 0 | Q12: 0 | R12: 0 | S12: 0 | T12: 0 | U12: =SUM(C12,E12,G12,I12,K12,M12,O12,Q12,S12) -> 0 | V12: =SUM(D12,F12,H12,J12,L12,N12,P12,R12,T12) -> 0 | W12: =C12+E12+G12+I12+K12+M12+O12+Q12+S12 -> 0 | X12: =D12+F12+H12+J12+L12+N12+P12+R12+T12 -> 0

Sheet SAN FELIPE 
C1: PROGRAMA DE ENTREGAS
A5: MUNICIPIO SAN FELIPE | C5: ABRIL | E5: MAYO | G5: JUNIO | I5: JULIO | K5: AGOSTO | M5: SEPTIEMBRE | O5: OCTUBRE | Q5: NOVIEMBRE | S5: DICIEMBRE | U5: TOTAL
A6: UNIDAD / PEDIDO | C6: MINIMO | D6: MAXIMO | E6: MINIMO | F6: MAXIMO | G6: MINIMO | H6: MAXIMO | I6: MINIMO | J6: MAXIMO | K6: MINIMO | L6: MAXIMO | M6: MINIMO | N6: MAXIMO | O6: MINIMO | P6: MAXIMO | Q6: MINIMO | R6: MAXIMO | S6: MINIMO | T6: MAXIMO | U6: MINIMO | V6: MAXIMO
A7: ATAUD METALICO | C7: 3 | D7: 5 | E7: 5 | F7: 7 | G7: 0 | H7: 0 | I7: 10 | J7: 10 | K7: 5 | L7: 6 | M7: 5 | N7: 6 | O7: 2 | P7: 5 | Q7: 5 | R7: 5 | S7: 5 | T7: 6 | U7: =SUM(C7,E7,G7,I7,K7,M7,O7,Q7,S7) -> 40 | V7: =SUM(D7,F7,H7,J7,L7,N7,P7,R7,T7) -> 50 | W7: =C7+E7+G7+I7+K7+M7+O7+Q7+S7 -> 40 | X7: =D7+F7+H7+J7+L7+N7+P7+R7+T7 -> 50
A8: ATAUD MADERA ADULTO | C8: 1 | D8: 2 | E8: 1 | F8: 2 | G8: 1 | H8: 2 | I8: 1 | J8: 2 | K8: 2 | L8: 4 | M8: 2 | N8: 4 | O8: 0 | P8: 2 | Q8: 2 | R8: 4 | S8: 1 | T8: 2 | U8: =SUM(C8,E8,G8,I8,K8,M8,O8,Q8,S8) -> 11 | V8: =SUM(D8,F8,H8,J8,L8,N8,P8,R8,T8) -> 24 | W8: =C8+E8+G8+I8+K8+M8+O8+Q8+S8 -> 11 | X8: =D8+F8+H8+J8+L8+N8+P8+R8+T8 -> 24
A9: ATAUD 1-24 PLANO | C9: 0 | D9: 0 | E9: 0 | F9: 0 | G9: 0 | H9: 0 | I9: 0 | J9: 0 | K9: 1 | L9: 5 | M9: 0 | N9: 0 | O9: 0 | P9: 0 | Q9: 0 | R9: 0 | S9: 0 | T9: 0 | U9: =SUM(C9,E9,G9,I9,K9,M9,O9,Q9,S9) -> 1 | V9: =SUM(D9,F9,H9,J9,L9,N9,P9,R9,T9) -> 5 | W9: =C9+E9+G9+I9+K9+M9+O9+Q9+S9 -> 1 | X9: =D9+F9+H9+J9+L9+N9+P9+R9+T9 -> 5
A10: ATAUD 1-36 PLANO | C10: 0 | D10: 0 | E10: 0 | F10: 0 | G10: 0 | H10: 0 | I10: 0 | J10: 0 | K10: 0 | L10: 0 | M10: 0 | N10: 0 | O10: 0 | P10: 0 | Q10: 0 | R10: 0 | S10: 0 | T10: 0 | U10: =SUM(C10,E10,G10,I10,K10,M10,O10,Q10,S10) -> 0 | V10: =SUM(D10,F10,H10,J10,L10,N10,P10,R10,T10) -> 0 | W10: =C10+E10+G10+I10+K10+M10+O10+Q10+S10 -> 0 | X10: =D10+F10+H10+J10+L10+N10+P10+R10+T10 -> 0
A11: ATAUD 3-24 OCHAVADO | C11: 0 | D11: 0 | E11: 0 | F11: 0 | G11: 0 | H11: 0 | I11: 0 | J11: 0 | K11: 1 | L11: 5 | M11: 0 | N11: 0 | O11: 0 | P11: 0 | Q11: 0 | R11: 0 | S11: 0 | T11: 0 | U11: =SUM(C11,E11,G11,I11,K11,M11,O11,Q11,S11) -> 1 | V11: =SUM(D11,F11,H11,J11,L11,N11,P11,R11,T11) -> 5 | W11: =C11+E11+G11+I11+K11+M11+O11+Q11+S11 -> 1 | X11: =D11+F11+H11+J11+L11+N11+P11+R11+T11 -> 5
A12: ATAUD 3-36 OCHAVADO | C12: 0 | D12: 0 | E12: 0 | F12: 0 | G12: 0 | H12: 0 | I12: 0 | J12: 0 | K12: 0 | L12: 0 | M12: 0 | N12: 0 | O12: 0 | P12: 0 | Q12: 0 | R12: 0 | S12: 0 | T12: 0 | U12: =SUM(C12,E12,G12,I12,K12,M12,O12,Q12,S12) -> 0 | V12: =SUM(D12,F12,H12,J12,L12,N12,P12,R12,T12) -> 0 | W12: =C12+E12+G12+I12+K12+M12+O12+Q12+S12 -> 0 | X12: =D12+F12+H12+J12+L12+N12+P12+R12+T12 -> 0
O27: =MEXICALI!U7+TECATE!U7+ENSENADA!U7+TIJUANA!U7+'SAN QUINTÍN'!U7+'SAN FELIPE '!U7 -> 710

Sheet GUADALUPE VICTORIA
C1: PROGRAMA DE ENTREGAS
A5: GUADALUPE VICTORIA | C5: ABRIL | E5: MAYO | G5: JUNIO | I5: JULIO | K5: AGOSTO | M5: SEPTIEMBRE | O5: OCTUBRE | Q5: NOVIEMBRE | S5: DICIEMBRE | U5: TOTAL
A6: UNIDAD / PEDIDO | C6: MINIMO | D6: MAXIMO | E6: MINIMO | F6: MAXIMO | G6: MINIMO | H6: MAXIMO | I6: MINIMO | J6: MAXIMO | K6: MINIMO | L6: MAXIMO | M6: MINIMO | N6: MAXIMO | O6: MINIMO | P6: MAXIMO | Q6: MINIMO | R6: MAXIMO | S6: MINIMO | T6: MAXIMO | U6: MINIMO | V6: MAXIMO
A7: ATAUD METALICO | C7: 10 | D7: 10 | E7: 0 | F7: 0 | G7: 15 | H7: 15 | I7: 0 | J7: 0 | K7: 0 | L7: 0 | M7: 0 | N7: 0 | O7: 0 | P7: 0 | Q7: 0 | R7: 0 | S7: 0 | T7: 0 | U7: =SUM(C7,E7,G7,I7,K7,M7,O7,Q7,S7) -> 25 | V7: =SUM(D7,F7,H7,J7,L7,N7,P7,R7,T7) -> 25 | W7: =C7+E7+G7+I7+K7+M7+O7+Q7+S7 -> 25 | X7: =D7+F7+H7+J7+L7+N7+P7+R7+T7 -> 25
A8: ATAUD MADERA ADULTO | C8: 1 | D8: 2 | E8: 1 | F8: 2 | G8: 1 | H8: 2 | I8: 1 | J8: 2 | K8: 1 | L8: 2 | M8: 1 | N8: 2 | O8: 1 | P8: 2 | Q8: 1 | R8: 2 | S8: 1 | T8: 2 | U8: =SUM(C8,E8,G8,I8,K8,M8,O8,Q8,S8) -> 9 | V8: =SUM(D8,F8,H8,J8,L8,N8,P8,R8,T8) -> 18 | W8: =C8+E8+G8+I8+K8+M8+O8+Q8+S8 -> 9 | X8: =D8+F8+H8+J8+L8+N8+P8+R8+T8 -> 18
A9: ATAUD 1-24 PLANO | C9: 0 | D9: 0 | E9: 0 | F9: 0 | G9: 0 | H9: 0 | I9: 0 | J9: 0 | K9: 1 | L9: 1 | M9: 1 | N9: 1 | O9: 0 | P9: 0 | Q9: 0 | R9: 0 | S9: 0 | T9: 0 | U9: =SUM(C9,E9,G9,I9,K9,M9,O9,Q9,S9) -> 2 | V9: =SUM(D9,F9,H9,J9,L9,N9,P9,R9,T9) -> 2 | W9: =C9+E9+G9+I9+K9+M9+O9+Q9+S9 -> 2 | X9: =D9+F9+H9+J9+L9+N9+P9+R9+T9 -> 2
A10: ATAUD 1-36 PLANO | C10: 0 | D10: 0 | E10: 0 | F10: 0 | G10: 0 | H10: 0 | I10: 0 | J10: 0 | K10: 0 | L10: 0 | M10: 0 | N10: 0 | O10: 0 | P10: 0 | Q10: 0 | R10: 0 | S10: 0 | T10: 0 | U10: =SUM(C10,E10,G10,I10,K10,M10,O10,Q10,S10) -> 0 | V10: =SUM(D10,F10,H10,J10,L10,N10,P10,R10,T10) -> 0 | W10: =C10+E10+G10+I10+K10+M10+O10+Q10+S10 -> 0 | X10: =D10+F10+H10+J10+L10+N10+P10+R10+T10 -> 0
A11: ATAUD 3-24 OCHAVADO | C11: 0 | D11: 0 | E11: 0 | F11: 0 | G11: 0 | H11: 0 | I11: 0 | J11: 0 | K11: 1 | L11: 1 | M11: 1 | N11: 1 | O11: 0 | P11: 0 | Q11: 0 | R11: 0 | S11: 0 | T11: 0 | U11: =SUM(C11,E11,G11,I11,K11,M11,O11,Q11,S11) -> 2 | V11: =SUM(D11,F11,H11,J11,L11,N11,P11,R11,T11) -> 2 | W11: =C11+E11+G11+I11+K11+M11+O11+Q11+S11 -> 2 | X11: =D11+F11+H11+J11+L11+N11+P11+R11+T11 -> 2
A12: ATAUD 3-36 OCHAVADO | C12: 0 | D12: 0 | E12: 0 | F12: 0 | G12: 0 | H12: 0 | I12: 0 | J12: 0 | K12: 0 | L12: 0 | M12: 0 | N12: 0 | O12: 0 | P12: 0 | Q12: 0 | R12: 0 | S12: 0 | T12: 0 | U12: =SUM(C12,E12,G12,I12,K12,M12,O12,Q12,S12) -> 0 | V12: =SUM(D12,F12,H12,J12,L12,N12,P12,R12,T12) -> 0 | W12: =C12+E12+G12+I12+K12+M12+O12+Q12+S12 -> 0 | X12: =D12+F12+H12+J12+L12+N12+P12+R12+T12 -> 0

Sheet PROYECCIÓN 
D2: PROGRAMA DE ENTREGAS
B6: ALMACEN | D6: ABRIL | F6: MAYO | H6: JUNIO | J6: JULIO | L6: AGOSTO | N6: SEPTIEMBRE | P6: OCTUBRE | R6: NOVIEMBRE | T6: DICIEMBRE | V6: TOTAL
B7: UNIDAD / PEDIDO | D7: MINIMO | E7: MAXIMO | F7: MINIMO | G7: MAXIMO | H7: MINIMO | I7: MAXIMO | J7: MINIMO | K7: MAXIMO | L7: MINIMO | M7: MAXIMO | N7: MINIMO | O7: MAXIMO | P7: MINIMO | Q7: MAXIMO | R7: MINIMO | S7: MAXIMO | T7: MINIMO | U7: MAXIMO | V7: MINIMO | W7: MAXIMO
B8: CERA RECONSTRUCTORA | D8: 0 | E8: 0 | F8: 0 | G8: 0 | H8: 0 | I8: 0 | J8: 3 | K8: 10 | L8: 0 | M8: 0 | N8: 0 | O8: 0 | P8: 0 | Q8: 0 | R8: 0 | S8: 0 | T8: 0 | U8: 0 | V8: =SUM(D8,F8,H8,J8,L8,N8,P8,R8,T8) -> 3 | W8: 10
B9: CLORO | D9: 0 | E9: 0 | F9: 0 | G9: 0 | H9: 35 | I9: 50 | J9: 0 | K9: 0 | L9: 0 | M9: 0 | N9: 36 | O9: 50 | P9: 0 | Q9: 0 | R9: 0 | S9: 0 | T9: 0 | U9: 0 | V9: =SUM(D9,F9,H9,J9,L9,N9,P9,R9,T9) -> 71 | W9: 100
B10: GEL PARA EMBALSAMAR | D10: 0 | E10: 0 | F10: 0 | G10: 0 | H10: 0 | I10: 0 | J10: 2 | K10: 15 | L10: 0 | M10: 0 | N10: 0 | O10: 0 | P10: 0 | Q10: 0 | R10: 0 | S10: 0 | T10: 0 | U10: 0 | V10: =SUM(D10,F10,H10,J10,L10,N10,P10,R10,T10) -> 2 | W10: 15
B11: DETERGENTE GERMIKUAT | D11: 0 | E11: 0 | F11: 15 | G11: 15 | H11: 0 | I11: 0 | J11: 0 | K11: 0 | L11: 0 | M11: 15 | N11: 0 | O11: 0 | P11: 0 | Q11: 0 | R11: 0 | S11: 0 | T11: 0 | U11: 0 | V11: =SUM(D11,F11,H11,J11,L11,N11,P11,R11,T11) -> 15 | W11: 30
B12: GOMA SELLADORA SUTURA | D12: 0 | E12: 0 | F12: 5 | G12: 10 | H12: 0 | I12: 0 | J12: 0 | K12: 0 | L12: 0 | M12: 0 | N12: 3 | O12: 10 | P12: 0 | Q12: 0 | R12: 0 | S12: 0 | T12: 0 | U12: 0 | V12: =SUM(D12,F12,H12,J12,L12,N12,P12,R12,T12) -> 8 | W12: 20
B13: KOLA LOKA | D13: 50 | E13: 50 | F13: 0 | G13: 0 | H13: 0 | I13: 0 | J13: 50 | K13: 50 | L13: 0 | M13: 0 | N13: 0 | O13: 0 | P13: 0 | Q13: 0 | R13: 30 | S13: 50 | T13: 0 | U13: 0 | V13: =SUM(D13,F13,H13,J13,L13,N13,P13,R13,T13) -> 130 | W13: 150
B14: LIQUIDO PREINYECTOR | D14: 0 | E14: 0 | F14: 15 | G14: 20 | H14: 0 | I14: 0 | J14: 0 | K14: 0 | L14: 0 | M14: 0 | N14: 0 | O14: 0 | P14: 0 | Q14: 0 | R14: 0 | S14: 0 | T14: 0 | U14: 0 | V14: 15 | W14: 20
B15: LIQUIDO ARTERIAL 35 | D15: 0 | E15: 0 | F15: 0 | G15: 0 | H15: 0 | I15: 0 | J15: 0 | K15: 0 | L15: 0 | M15: 0 | N15: 28 | O15: 45 | P15: 0 | Q15: 0 | R15: 0 | S15: 0 | T15: 0 | U15: 0 | V15: =SUM(D15,F15,H15,J15,L15,N15,P15,R15,T15) -> 28 | W15: 45
B16: LIQUIDO CAVIDAD 36 | D16: 0 | E16: 0 | F16: 0 | G16: 0 | H16: 0 | I16: 0 | J16: 0 | K16: 0 | L16: 0 | M16: 0 | N16: 29 | O16: 50 | P16: 0 | Q16: 0 | R16: 0 | S16: 0 | T16: 0 | U16: 0 | V16: =SUM(D16,F16,H16,J16,L16,N16,P16,R16,T16) -> 29 | W16: 50
B17: PLASTICO EN AEROSOL SELLADOR | D17: 0 | E17: 0 | F17: 0 | G17: 0 | H17: 0 | I17: 0 | J17: 3 | K17: 10 | L17: 0 | M17: 0 | N17: 0 | O17: 0 | P17: 0 | Q17: 0 | R17: 0 | S17: 0 | T17: 0 | U17: 0 | V17: =SUM(D17,F17,H17,J17,L17,N17,P17,R17,T17) -> 3 | W17: 10
B18: POLVO PRESERVADOR AROMATIZANTE | D18: 0 | E18: 0 | F18: 0 | G18: 0 | H18: 5 | I18: 8 | J18: 0 | K18: 0 | L18: 0 | M18: 0 | N18: 0 | O18: 0 | P18: 0 | Q18: 0 | R18: 0 | S18: 0 | T18: 0 | U18: 0 | V18: =SUM(D18,F18,H18,J18,L18,N18,P18,R18,T18) -> 5 | W18: 8
B19: POLVO SELLADOR PARA EMBALSAMAR | D19: 0 | E19: 0 | F19: 0 | G19: 0 | H19: 0 | I19: 0 | J19: 7 | K19: 8 | L19: 0 | M19: 0 | N19: 0 | O19: 0 | P19: 0 | Q19: 0 | R19: 0 | S19: 0 | T19: 0 | U19: 0 | V19: 7 | W19: 8
B20: HIPOLORITO DE SODIO AL 12.5% | D20: 0 | E20: 0 | F20: 0 | G20: 0 | H20: 5 | I20: 5 | J20: 0 | K20: 0 | L20: 0 | M20: 0 | N20: 0 | O20: 0 | P20: 0 | Q20: 0 | R20: 0 | S20: 0 | T20: 0 | U20: 0 | V20: 5 | W20: 5
B21: POLVO PRESERVADOR DE CADAVERES 4-SURE | D21: 0 | E21: 0 | F21: 0 | G21: 0 | H21: 2 | I21: 3 | J21: 0 | K21: 0 | L21: 0 | M21: 0 | N21: 0 | O21: 0 | P21: 0 | Q21: 0 | R21: 0 | S21: 0 | T21: 0 | U21: 0 | V21: 2 | W21: 3
D24: PROGRAMA DE ENTREGAS TOTAL
D28: TOTAL
A29: PARTIDA | B29: CONCEPTO | D29: MINIMO | G29: MAXIMO
B30: PAQUETE 1
A31: 1 | B31: ATAUD METALICO | D31: =(MEXICALI!U7+TECATE!U7+ENSENADA!U7+TIJUANA!U7+'SAN QUINTÍN'!U7+'SAN FELIPE '!U7+'GUADALUPE VICTORIA'!U7) -> 735 | E31: =(MEXICALI!L7+TECATE!L7+ENSENADA!L7+TIJUANA!L7+'SAN QUINTÍN'!L7+'SAN FELIPE '!L7+'GUADALUPE VICTORIA'!L7) -> 103 | F31: =(MEXICALI!M7+TECATE!M7+ENSENADA!M7+TIJUANA!M7+'SAN QUINTÍN'!M7+'SAN FELIPE '!M7+'GUADALUPE VICTORIA'!M7) -> 76 | G31: =(MEXICALI!X7+TECATE!X7+ENSENADA!X7+TIJUANA!X7+'SAN QUINTÍN'!X7+'SAN FELIPE '!X7+'GUADALUPE VICTORIA'!X7) -> 900 | H31: =(MEXICALI!O7+TECATE!O7+ENSENADA!O7+TIJUANA!O7+'SAN QUINTÍN'!O7+'SAN FELIPE '!O7+'GUADALUPE VICTORIA'!O7) -> 78 | I31: =(MEXICALI!P7+TECATE!P7+ENSENADA!P7+TIJUANA!P7+'SAN QUINTÍN'!P7+'SAN FELIPE '!P7+'GUADALUPE VICTORIA'!P7) -> 90
B33: PAQUETE 2
A34: 1 | B34: ATAUD MADERA ADULTO | D34: =(MEXICALI!U8+TECATE!U8+ENSENADA!U8+TIJUANA!U8+'SAN QUINTÍN'!U8+'SAN FELIPE '!U8+'GUADALUPE VICTORIA'!U8) -> 431 | E34: =(MEXICALI!L8+TECATE!L8+ENSENADA!L8+TIJUANA!L8+'SAN QUINTÍN'!L8+'SAN FELIPE '!L8+'GUADALUPE VICTORIA'!L8) -> 58 | F34: =(MEXICALI!M8+TECATE!M8+ENSENADA!M8+TIJUANA!M8+'SAN QUINTÍN'!M8+'SAN FELIPE '!M8+'GUADALUPE VICTORIA'!M8) -> 40 | G34: =(MEXICALI!X8+TECATE!X8+ENSENADA!X8+TIJUANA!X8+'SAN QUINTÍN'!X8+'SAN FELIPE '!X8+'GUADALUPE VICTORIA'!X8) -> 606 | H34: =(MEXICALI!O8+TECATE!O8+ENSENADA!O8+TIJUANA!O8+'SAN QUINTÍN'!O8+'SAN FELIPE '!O8+'GUADALUPE VICTORIA'!O8) -> 39 | I34: =(MEXICALI!P8+TECATE!P8+ENSENADA!P8+TIJUANA!P8+'SAN QUINTÍN'!P8+'SAN FELIPE '!P8+'GUADALUPE VICTORIA'!P8) -> 62
A35: 2 | B35: ATAUD 1-24 PLANO | D35: =(MEXICALI!U9+TECATE!U9+ENSENADA!U9+TIJUANA!U9+'SAN QUINTÍN'!U9+'SAN FELIPE '!U9+'GUADALUPE VICTORIA'!U9) -> 42 | E35: =(MEXICALI!L9+TECATE!L9+ENSENADA!L9+TIJUANA!L9+'SAN QUINTÍN'!L9+'SAN FELIPE '!L9+'GUADALUPE VICTORIA'!L9) -> 15 | F35: =(MEXICALI!M9+TECATE!M9+ENSENADA!M9+TIJUANA!M9+'SAN QUINTÍN'!M9+'SAN FELIPE '!M9+'GUADALUPE VICTORIA'!M9) -> 5 | G35: =(MEXICALI!X9+TECATE!X9+ENSENADA!X9+TIJUANA!X9+'SAN QUINTÍN'!X9+'SAN FELIPE '!X9+'GUADALUPE VICTORIA'!X9) -> 61 | H35: =(MEXICALI!O9+TECATE!O9+ENSENADA!O9+TIJUANA!O9+'SAN QUINTÍN'!O9+'SAN FELIPE '!O9+'GUADALUPE VICTORIA'!O9) -> 5 | I35: =(MEXICALI!P9+TECATE!P9+ENSENADA!P9+TIJUANA!P9+'SAN QUINTÍN'!P9+'SAN FELIPE '!P9+'GUADALUPE VICTORIA'!P9) -> 8
A36: 3 | B36: ATAUD 1-36 PLANO | D36: 3 | E36: =(MEXICALI!L10+TECATE!L10+ENSENADA!L10+TIJUANA!L10+'SAN QUINTÍN'!L10+'SAN FELIPE '!L10+'GUADALUPE VICTORIA'!L10) -> 0 | F36: =(MEXICALI!M10+TECATE!M10+ENSENADA!M10+TIJUANA!M10+'SAN QUINTÍN'!M10+'SAN FELIPE '!M10+'GUADALUPE VICTORIA'!M10) -> 0 | G36: 5 | H36: =(MEXICALI!O10+TECATE!O10+ENSENADA!O10+TIJUANA!O10+'SAN QUINTÍN'!O10+'SAN FELIPE '!O10+'GUADALUPE VICTORIA'!O10) -> 0 | I36: =(MEXICALI!P10+TECATE!P10+ENSENADA!P10+TIJUANA!P10+'SAN QUINTÍN'!P10+'SAN FELIPE '!P10+'GUADALUPE VICTORIA'!P10) -> 0
A37: 4 | B37: ATAUD 3-24 OCHAVADO | D37: =(MEXICALI!U11+TECATE!U11+ENSENADA!U11+TIJUANA!U11+'SAN QUINTÍN'!U11+'SAN FELIPE '!U11+'GUADALUPE VICTORIA'!U11) -> 44 | E37: =(MEXICALI!L11+TECATE!L11+ENSENADA!L11+TIJUANA!L11+'SAN QUINTÍN'!L11+'SAN FELIPE '!L11+'GUADALUPE VICTORIA'!L11) -> 16 | F37: =(MEXICALI!M11+TECATE!M11+ENSENADA!M11+TIJUANA!M11+'SAN QUINTÍN'!M11+'SAN FELIPE '!M11+'GUADALUPE VICTORIA'!M11) -> 6 | G37: =(MEXICALI!X11+TECATE!X11+ENSENADA!X11+TIJUANA!X11+'SAN QUINTÍN'!X11+'SAN FELIPE '!X11+'GUADALUPE VICTORIA'!X11) -> 83 | H37: =(MEXICALI!O11+TECATE!O11+ENSENADA!O11+TIJUANA!O11+'SAN QUINTÍN'!O11+'SAN FELIPE '!O11+'GUADALUPE VICTORIA'!O11) -> 3 | I37: =(MEXICALI!P11+TECATE!P11+ENSENADA!P11+TIJUANA!P11+'SAN QUINTÍN'!P11+'SAN FELIPE '!P11+'GUADALUPE VICTORIA'!P11) -> 4
A38: 5 | B38: ATAUD 3-36 OCHAVADO | D38: 4 | E38: =(MEXICALI!L12+TECATE!L12+ENSENADA!L12+TIJUANA!L12+'SAN QUINTÍN'!L12+'SAN FELIPE '!L12+'GUADALUPE VICTORIA'!L12) -> 4 | F38: =(MEXICALI!M12+TECATE!M12+ENSENADA!M12+TIJUANA!M12+'SAN QUINTÍN'!M12+'SAN FELIPE '!M12+'GUADALUPE VICTORIA'!M12) -> 0 | G38: 5 | H38: =(MEXICALI!O12+TECATE!O12+ENSENADA!O12+TIJUANA!O12+'SAN QUINTÍN'!O12+'SAN FELIPE '!O12+'GUADALUPE VICTORIA'!O12) -> 0 | I38: =(MEXICALI!P12+TECATE!P12+ENSENADA!P12+TIJUANA!P12+'SAN QUINTÍN'!P12+'SAN FELIPE '!P12+'GUADALUPE VICTORIA'!P12) -> 0

Sheet Hoja1
