Workbook

Sheet S.G.G.
B1: OFICIALIA MAYOR DE GOBIERNO
B2: DIRECCION DE SERVICIOS GENERALES
B3: SUBDIRECCION DE SERVICIOS GENERALES
B4: PROCEDIMIENTO DE LICITACIÓN PÚBLICA REGIONAL No. 32065001-004-2023 “SERVICIO DE LIMPIEZA PARA DEPENDENCIAS DE GOBIERNO DEL ESTADO DE BAJA CALIFORNIA”
B5: ANEXO UBICACIONES Y HORARIOS DEL SERVICIO
B6: CALCULO DEL SERVICIO DE LIMPIEZA PARA EL PERIODO DEL 03 DE MARZO AL 31 DE DICIEMBRE DE 2023
B8: SECRETARIA GENERAL DE GOBIERNO DEL ESTADO
G10: DIAS DE SERVICIO | I10: ENE | J10: FEB | K10: MAR | L10: ABR | M10: MAY | N10: JUN | O10: JUL | P10: AGO | Q10: SEP | R10: OCT | S10: NOV | T10: DIC | V10: TOTAL DIAS MAR-DIC
G11: LUNES-VIERNES | I11: 0 | J11: 0 | K11: 20 | L11: 20 | M11: 21 | N11: 22 | O11: 21 | P11: 23 | Q11: 20 | R11: 20 | S11: 20 | T11: 19 | V11: =SUM(J11:T11) -> 206
B13: PARTIDA | C13: UBICACION | D13: DIRECCIÓN | E13: HORARIOS | F13: PERSONAL SOLICITADO | G13: HORAS POR DIA POR PERSONA | H13: HORAS DIARIAS POR TURNO | I13: ENE | J13: FEB | K13: MAR | L13: ABR | M13: MAY | N13: JUN | O13: JUL | P13: AGO | Q13: SEP | R13: OCT | S13: NOV | T13: DIC | V13: TOTAL HORAS
B14: MEXICALI | C14: SUBSECRETARIA DE ESTUDIOS Y ASUNTOS LEGISLATIVOS (DIRECCION DE ADMINISTRACION) | D14: PASAJE SAN MIGUEL # 1090 | E14: Lunes a viernes 8.00 A 14:00 | F14: 1 | G14: 6 | H14: =F14*G14 -> 6 | I14: =+I11*H14 -> 0 | J14: =+J11*H14 -> 0 | K14: =+K11*H14 -> 120 | L14: =+L11*H14 -> 120 | M14: =$H$14*M11 -> 126 | N14: =$H$14*N11 -> 132 | O14: =$H$14*O11 -> 126 | P14: =$H$14*P11 -> 138 | Q14: =$H$14*Q11 -> 120 | R14: =$H$14*R11 -> 120 | S14: =$H$14*S11 -> 120 | T14: =$H$14*T11 -> 114 | V14: =SUM(J14:T14) -> 1236
C15: DIRECCION DE REGISTRO CIVIL | D15: PRIMER PISO EDIFICIO DEL PODER EJECUTIVO | E15: Lunes a viernes 8.00 A 12:00 | F15: 1 | G15: 4 | H15: =F15*G15 -> 4 | I15: =+I11*H15 -> 0 | J15: =+J11*H15 -> 0 | K15: =+K11*H15 -> 80 | L15: =+L11*H15 -> 80 | M15: =$H$15*M11 -> 84 | N15: =$H$15*N11 -> 88 | O15: =$H$15*O11 -> 84 | P15: =$H$15*P11 -> 92 | Q15: =$H$15*Q11 -> 80 | R15: =$H$15*R11 -> 80 | S15: =$H$15*S11 -> 80 | T15: =$H$15*T11 -> 76 | V15: =SUM(J15:T15) -> 824
C16: OFICINA DEL TITULAR | D16: 3ER PISO EDIFICIO DEL PODER EJECUTIVO | E16: Lunes a viernes 8.00 A 14:00 | F16: 1 | G16: 6 | H16: =F16*G16 -> 6 | I16: =+I11*H16 -> 0 | J16: =+J11*H16 -> 0 | K16: =+K11*H16 -> 120 | L16: =+L11*H16 -> 120 | M16: =$H$16*M11 -> 126 | N16: =$H$16*N11 -> 132 | O16: =$H$16*O11 -> 126 | P16: =$H$16*P11 -> 138 | Q16: =$H$16*Q11 -> 120 | R16: =$H$16*R11 -> 120 | S16: =$H$16*S11 -> 120 | T16: =$H$16*T11 -> 114 | V16: =SUM(J16:T16) -> 1236
C17: TALLERES GRÁFICOS DEL ESTADO | D17: AV. MADERO NO. 1981, COLONIA NUEVA | E17: Lunes a viernes 8:00 A 12:00 | F17: 1 | G17: 4 | H17: =F17*G17 -> 4 | I17: =+I11*H17 -> 0 | J17: =+J11*H17 -> 0 | K17: =+K11*H17 -> 80 | L17: =+L11*H17 -> 80 | M17: =$H$17*M11 -> 84 | N17: =$H$17*N11 -> 88 | O17: =$H$17*O11 -> 84 | P17: =$H$17*P11 -> 92 | Q17: =$H$17*Q11 -> 80 | R17: =$H$17*R11 -> 80 | S17: =$H$17*S11 -> 80 | T17: =$H$17*T11 -> 76 | V17: =SUM(J17:T17) -> 824
C18: DIRECCION DEL ARCHIVO GENERAL DE NOTARIAS | D18: AV. VILLA HERMOSA ESQ. NAVOLATO S/N, COL. GUAJARDO | E18: Lunes a viernes 8.00 A 12:00 | F18: 1 | G18: 4 | H18: =F18*G18 -> 4 | I18: =+I11*H18 -> 0 | J18: =+J11*H18 -> 0 | K18: =+K11*H18 -> 80 | L18: =+L11*H18 -> 80 | M18: =$H$18*M11 -> 84 | N18: =$H$18*N11 -> 88 | O18: =$H$18*O11 -> 84 | P18: =$H$18*P11 -> 92 | Q18: =$H$18*Q11 -> 80 | R18: =$H$18*R11 -> 80 | S18: =$H$18*S11 -> 80 | T18: =$H$18*T11 -> 76 | V18: =SUM(J18:T18) -> 824
C19: DIRECCION DE ANALISIS POLITICO | D19: PLAZA BAJA CALIFORNIA LOCAL 5C | E19: Lunes a viernes 8.00 A 12:00 | F19: 1 | G19: 4 | H19: 4 | I19: =H19*I11 -> 0 | J19: =H19*J11 -> 0 | K19: =H19*K11 -> 80 | L19: =H19*L11 -> 80 | M19: =H19*M11 -> 84 | N19: =H19*N11 -> 88 | O19: =H19*O11 -> 84 | P19: =H19*P11 -> 92 | Q19: =H19*Q11 -> 80 | R19: =H19*R11 -> 80 | S19: =H19*S11 -> 80 | T19: =H19*T11 -> 76 | V19: =SUM(J19:T19) -> 824
C20: COMISION EJECTUVIA ESTATAL DE ATENCION A VICTIMAS | D20: AVE. OBREGON #541 COL. CENTRO | E20: Lunes a viernes 8.00 A 14:00 | F20: 1 | G20: 6 | H20: 6 | I20: =H20*I11 -> 0 | J20: =H20*J11 -> 0 | K20: =H20*K11 -> 120 | L20: =H20*L11 -> 120 | M20: =H20*M11 -> 126 | N20: =H20*N11 -> 132 | O20: =H20*O11 -> 126 | P20: =H20*P11 -> 138 | Q20: =H20*Q11 -> 120 | R20: =H20*R11 -> 120 | S20: =H20*S11 -> 120 | T20: =H20*T11 -> 114 | V20: =SUM(J20:T20) -> 1236
B21: TECATE | C21: DELEGACION DE LA SECRETARIA GENERAL DE TECATE | D21: MISION SANTO DOMINGO NO 1016 FRANCCIONAMIENTO EL DESCANSO | E21: Lunes a viernes 7:00 a 11:00 | F21: 1 | G21: 4 | H21: =F21*G21 -> 4 | I21: =+I11*H21 -> 0 | J21: =+J11*H21 -> 0 | K21: =+K11*H21 -> 80 | L21: =+L11*H21 -> 80 | M21: =$H$21*M11 -> 84 | N21: =$H$21*N11 -> 88 | O21: =$H$21*O11 -> 84 | P21: =$H$21*P11 -> 92 | Q21: =$H$21*Q11 -> 80 | R21: =$H$21*R11 -> 80 | S21: =$H$21*S11 -> 80 | T21: =$H$21*T11 -> 76 | V21: =SUM(J21:T21) -> 824
B22: PLAYAS DE ROSARITO | C22: DELEGACION DE LA SECRETARIA GENERAL EN ROSARITO | D22: CALLE JOSE HAROS AGUILAR NO 2004, FRACC. VILLA TURISTICA | E22: Lunes a viernes 7:00 a 11:00 | F22: 1 | G22: 4 | H22: =F22*G22 -> 4 | I22: =+I11*H22 -> 0 | J22: =+J11*H22 -> 0 | K22: =+K11*H22 -> 80 | L22: =+L11*H22 -> 80 | M22: =$H$22*M11 -> 84 | N22: =$H$22*N11 -> 88 | O22: =$H$22*O11 -> 84 | P22: =$H$22*P11 -> 92 | Q22: =$H$22*Q11 -> 80 | R22: =$H$22*R11 -> 80 | S22: =$H$22*S11 -> 80 | T22: =$H$22*T11 -> 76 | V22: =SUM(J22:T22) -> 824
B23: TIJUANA | C23: CENTRO DE LA CULTURA DE LA LEGALIDAD | D23: CALLE PERIMETRAL NO. 7125, ZONA URBANA RIO TIJUANA, 3ERA ETAPA | E23: Lunes a viernes 7.00 A 14:00 | F23: 2 | G23: 7 | H23: =F23*G23 -> 14 | I23: =+I11*H23 -> 0 | J23: =+J11*H23 -> 0 | K23: =+K11*H23 -> 280 | L23: =+L11*H23 -> 280 | M23: =$H$23*M11 -> 294 | N23: =$H$23*N11 -> 308 | O23: =$H$23*O11 -> 294 | P23: =$H$23*P11 -> 322 | Q23: =$H$23*Q11 -> 280 | R23: =$H$23*R11 -> 280 | S23: =$H$23*S11 -> 280 | T23: =$H$23*T11 -> 266 | V23: =SUM(J23:T23) -> 2884
B24: ENSENADA | C24: DELEGACION DE LA SECRETARIA GENERAL DE ENSENADA | D24: CARRETERA TRANSPENINSULAR ENSENADA - LA PAZ #6500, EX EJIDO CHAPULTEPEC, 22785, ENSENADA. | E24: Lunes a viernes 6.00 A 14:00 | F24: 1 | G24: 8 | H24: =F24*G24 -> 8 | I24: =+I11*H24 -> 0 | J24: =+J11*H24 -> 0 | K24: =+K11*H24 -> 160 | L24: =+L11*H24 -> 160 | M24: =$H$24*M11 -> 168 | N24: =$H$24*N11 -> 176 | O24: =$H$24*O11 -> 168 | P24: =$H$24*P11 -> 184 | Q24: =$H$24*Q11 -> 160 | R24: =$H$24*R11 -> 160 | S24: =$H$24*S11 -> 160 | T24: =$H$24*T11 -> 152 | V24: =SUM(J24:T24) -> 1648
V25: =SUM(V14:V24) -> 13184
F26: =SUM(F14:F24) -> 12
I27: =SUM(I14:I24) -> 0 | J27: =SUM(J14:J24) -> 0 | K27: =SUM(K14:K24) -> 1280 | L27: =SUM(L14:L24) -> 1280 | M27: =SUM(M14:M24) -> 1344 | N27: =SUM(N14:N24) -> 1408 | O27: =SUM(O14:O24) -> 1344 | P27: =SUM(P14:P24) -> 1472 | ... T27: =SUM(T14:T24) -> 1216 | V27: =SUM(J27:T27) -> 13184
J30: RESUMEN SECRETARIA GENERAL DE GOBIERNO
H32: PARTIDAS | K32: PERSONAL SOLICITADO | M32: TOTAL HORAS | O32: PRECIO POR HORA | Q32: IMPORTE SIN IVA | S32: IMPORTE CON IVA | V32: ACUMULADO
H33: MEXICALI | K33: 7 | M33: =SUM(V14:V20) -> 7004
H34: TECATE | K34: =F21 -> 1 | M34: =V21 -> 824
H35: ROSARITO | K35: =F22 -> 1 | M35: =V22 -> 824
H36: TIJUANA | K36: =F23 -> 2 | M36: =V23 -> 2884
H37: ENSENADA | K37: =F24 -> 1 | M37: =V24 -> 1648
H38: TOTALES | K38: =SUM(K33:L37) -> 12 | M38: =SUM(M33:N37) -> 13184

Sheet O.M.G.
B1: OFICIALIA MAYOR DE GOBIERNO
B2: DIRECCION DE SERVICIOS GENERALES
B3: SUBDIRECCION DE SERVICIOS GENERALES
B5: CALCULO DEL SERVICIO DE LIMPIEZA PARA EL PERIODO DEL 03 DE MARZO AL 31 DE DICIEMBRE DE 2023
B6: PROCEDIMIENTO DE LICITACIÓN PÚBLICA REGIONAL No. 32065001-004-2023 “SERVICIO DE LIMPIEZA PARA DEPENDENCIAS DE GOBIERNO DEL ESTADO DE BAJA CALIFORNIA”
B7: ANEXO UBICACIONES Y HORARIOS DEL SERVICIO
B8: OFICIALIA MAYOR DE GOBIERNO
G10: DIAS DE SERVICIO | J10: ENE | K10: FEB | L10: MAR | M10: ABR | N10: MAY | O10: JUN | P10: JUL | Q10: AGO | R10: SEP | S10: OCT | T10: NOV | U10: DIC | W10: TOTAL DIAS MAR-DIC
G11: LUNES-VIERNES | J11: 0 | K11: 0 | L11: 20 | M11: 20 | N11: 21 | O11: 22 | P11: 21 | Q11: 23 | R11: 20 | S11: 20 | T11: 20 | U11: 19 | W11: =SUM(K11:U11) -> 206
G12: SABADO | J12: 0 | K12: 0 | L12: 4 | M12: 5 | N12: 4 | O12: 4 | P12: 5 | Q12: 4 | R12: 4 | S12: 4 | T12: 4 | U12: 5 | W12: =SUM(K12:U12) -> 43
G13: MIERCOLES | J13: 0 | K13: 0 | L13: 4 | M13: 4 | N13: 5 | O13: 4 | P13: 4 | Q13: 5 | R13: 4 | S13: 4 | T13: 4 | U13: 4 | W13: =SUM(K13:U13) -> 42
W14: =SUM(W11:W13) -> 291
B15: PARTIDA | C15: UBICACION | D15: DIRECCIÓN | E15: HORARIOS | F15: PERSONAL SOLICITADO | G15: HORAS POR DIA POR PERSONA | H15: HORAS DIARIAS POR TURNO | J15: ENE | K15: FEB | L15: MAR | M15: ABR | N15: MAY | O15: JUN | P15: JUL | Q15: AGO | R15: SEP | S15: OCT | T15: NOV | U15: DIC | W15: TOTAL HORAS
B16: MEXICALI | C16: TALLER MECANICO | D16: IGNACIO COMONFORT Y RIO CULIACAN, CLONIA PROHOGAR MEXICALI,B.C. | E16: Lunes a viernes 7:00 a 11:00 | F16: 1 | G16: 4 | H16: =$F$16*G16 -> 4 | J16: =+J11*H16 -> 0 | K16: =+K11*H16 -> 0 | L16: =+L11*H16 -> 80 | M16: =+M11*H16 -> 80 | N16: =N11*H16 -> 84 | O16: =$H$16*O11 -> 88 | P16: =$H$16*P11 -> 84 | Q16: =$H$16*Q11 -> 92 | R16: =$H$16*R11 -> 80 | S16: =$H$16*S11 -> 80 | T16: =$H$16*T11 -> 80 | U16: =$H$16*U11 -> 76 | W16: =SUM(K16:U16) -> 824
B17: MEXICALI | C17: ARCHIVO HISTÓRICO | D17: CALLE PEDRO F. PÉREZ Y RAMÍREZ #621, PRIMERA SECCIÓN, 21100. | E17: Lunes a viernes 8:00 a 11:00 | F17: 1 | G17: 3 | H17: =F17*G17 -> 3 | J17: =+J11*H17 -> 0 | K17: =+K11*H17 -> 0 | L17: =+L11*H17 -> 60 | M17: =+M11*H17 -> 60 | N17: =N11*H17 -> 63 | O17: =$H$17*O11 -> 66 | P17: =$H$17*P11 -> 63 | Q17: =$H$17*Q11 -> 69 | R17: =$H$17*R11 -> 60 | S17: =$H$17*S11 -> 60 | T17: =$H$17*T11 -> 60 | U17: =$H$17*U11 -> 57 | W17: =SUM(K17:U17) -> 618
B18: MEXICALI | C18: OFICIALIA MAYOR DE GOBIERNO | D18: CALZADA INDEPENDENCIA Y AVENIDA DE LOS HÉROES #994, CENTRO CIVICO, 21000. TERCER PISO DEL EDIFICIO DEL PODER EJECUTIVO. | E18: Lunes a viernes 6:00 a 14:00 | F18: 2 | G18: 8 | H18: =F18*G18 -> 16 | J18: =+J11*H18 -> 0 | K18: =+K11*H18 -> 0 | L18: =+L11*H18 -> 320 | M18: =+M11*H18 -> 320 | N18: =N11*H18 -> 336 | O18: =$H$18*O11 -> 352 | P18: =$H$18*P11 -> 336 | Q18: =$H$18*Q11 -> 368 | R18: =$H$18*R11 -> 320 | S18: =$H$18*S11 -> 320 | T18: =$H$18*T11 -> 320 | U18: =$H$18*U11 -> 304 | W18: =SUM(K18:U18) -> 3296
B19: MEXICALI | C19: OFICIALIA MAYOR DE GOBIERNO | D19: CALZADA INDEPENDENCIA Y AVENIDA DE LOS HÉROES #994, CENTRO CIVICO, 21000. TERCER PISO DEL EDIFICIO DEL PODER EJECUTIVO. | E19: Lunes a viernes 14:00 a 18:00 | F19: 1 | G19: 4 | H19: =F19*G19 -> 4 | J19: =+J11*H19 -> 0 | K19: =+K11*H19 -> 0 | L19: =+L11*H19 -> 80 | M19: =+M11*H19 -> 80 | N19: =N11*H19 -> 84 | O19: =$H$19*O11 -> 88 | P19: =$H$19*P11 -> 84 | Q19: =$H$19*Q11 -> 92 | R19: =$H$19*R11 -> 80 | S19: =$H$19*S11 -> 80 | T19: =$H$19*T11 -> 80 | U19: =$H$19*U11 -> 76 | W19: =SUM(K19:U19) -> 824
B20: MEXICALI | C20: BIENES PATRIMONIALES | D20: CALZADA INDEPENDENCIA Y AVENIDA DE LOS HÉROES #994, CENTRO CIVICO, 21000. CUARTO PISO DEL EDIFICIO DEL PODER EJECUTIVO. | E20: Lunes a viernes 8:00 a 11:00 | F20: 1 | G20: 3 | H20: =F20*G20 -> 3 | J20: =+J11*H20 -> 0 | K20: =+K11*H20 -> 0 | L20: =+L11*H20 -> 60 | M20: =+M11*H20 -> 60 | N20: =N11*H20 -> 63 | O20: =$H$20*O11 -> 66 | P20: =$H$20*P11 -> 63 | Q20: =$H$20*Q11 -> 69 | R20: =$H$20*R11 -> 60 | S20: =$H$20*S11 -> 60 | T20: =$H$20*T11 -> 60 | U20: =$H$20*U11 -> 57 | W20: =SUM(K20:U20) -> 618
B21: MEXICALI | C21: DIRECCIÓN JURÍDICA DE NORMATIVIDAD | D21: CALZADA INDEPENDENCIA Y AVENIDA DE LOS HÉROES #994, CENTRO CIVICO, 21000. SEGUNDO PISO DEL EDIFICIO DEL PODER EJECUTIVO. | E21: Lunes a viernes 11:00 a 13:00 | F21: 1 | G21: 2 | H21: =F21*G21 -> 2 | J21: =+J11*H21 -> 0 | K21: =+K11*H21 -> 0 | L21: =+L11*H21 -> 40 | M21: =+M11*H21 -> 40 | N21: =N11*H21 -> 42 | O21: =+O11*H21 -> 44 | P21: =+P11*H21 -> 42 | Q21: =+Q11*H21 -> 46 | R21: =+R11*H21 -> 40 | S21: =+S11*H21 -> 40 | T21: =+T11*H21 -> 40 | U21: =+U11*H21 -> 38 | W21: =SUM(K21:U21) -> 412
B22: MEXICALI | C22: PRESTACIONES | D22: CALZADA INDEPENDENCIA Y AVENIDA DE LOS HÉROES #994, CENTRO CIVICO, 21000. PRIMER PISO DEL EDIFICIO DEL PODER EJECUTIVO. | E22: Lunes a viernes 9:00 a 10:00 | F22: 1 | G22: 1 | H22: =F22*G22 -> 1 | J22: =+J11*H22 -> 0 | K22: =+K11*H22 -> 0 | L22: =+L11*H22 -> 20 | M22: =+M11*H22 -> 20 | N22: =+N11*H22 -> 21 | O22: =+O11*H22 -> 22 | P22: =+P11*H22 -> 21 | Q22: =+Q11*H22 -> 23 | R22: =+R11*H22 -> 20 | S22: =+S11*H22 -> 20 | T22: =+T11*H22 -> 20 | U22: =+U11*H22 -> 19 | W22: =SUM(K22:U22) -> 206
B23: MEXICALI | C23: CONSULTORIO | D23: CALZADA INDEPENDENCIA Y AVENIDA DE LOS HÉROES #994, CENTRO CIVICO, 21000. SOTANO DEL EDIFICIO DEL PODER EJECUTIVO | E23: Lunes a viernes 7:00 a 8:00 | F23: 1 | G23: 1 | H23: =F23*G23 -> 1 | J23: =+J11*H23 -> 0 | K23: =+K11*H23 -> 0 | L23: =+L11*H23 -> 20 | M23: =+M11*H23 -> 20 | N23: =+N11*H23 -> 21 | O23: =+O11*H23 -> 22 | P23: =+P11*H23 -> 21 | Q23: =+Q11*H23 -> 23 | R23: =+R11*H23 -> 20 | S23: =+S11*H23 -> 20 | T23: =+T11*H23 -> 20 | U23: =+U11*H23 -> 19 | W23: =SUM(K23:U23) -> 206
B24: MEXICALI | C24: CREDENCIALIZACIÓN | D24: CALZADA INDEPENDENCIA Y AVENIDA DE LOS HÉROES #994, CENTRO CIVICO, 21000. SOTANO DEL EDIFICIO DEL PODER EJECUTIVO | E24: Lunes a viernes 8:00 a 9:00 | F24: 1 | G24: 1 | H24: =F24*G24 -> 1 | J24: =+J11*H24 -> 0 | K24: =+K11*H24 -> 0 | L24: =+L11*H24 -> 20 | M24: =+M11*H24 -> 20 | N24: =+N11*H24 -> 21 | O24: =+O11*H24 -> 22 | P24: =+P11*H24 -> 21 | Q24: =+Q11*H24 -> 23 | R24: =+R11*H24 -> 20 | S24: =+S11*H24 -> 20 | T24: =+T11*H24 -> 20 | U24: =+U11*H24 -> 19 | W24: =SUM(K24:U24) -> 206
B25: MEXICALI | C25: SUBDIRECCIÓN DE SERVICIOS GENERALES | D25: CALZADA INDEPENDENCIA Y AVENIDA DE LOS HÉROES #994, CENTRO CIVICO, 21000. SOTANO DEL EDIFICIO DEL PODER EJECUTIVO | E25: Lunes a viernes 9:00 a 11:00 | F25: 1 | G25: 2 | H25: =F25*G25 -> 2 | J25: =+J11*H25 -> 0 | K25: =+K11*H25 -> 0 | L25: =+L11*H25 -> 40 | M25: =+M11*H25 -> 40 | N25: =+N11*H25 -> 42 | O25: =+O11*H25 -> 44 | P25: =+P11*H25 -> 42 | Q25: =+Q11*H25 -> 46 | R25: =+R11*H25 -> 40 | S25: =+S11*H25 -> 40 | T25: =+T11*H25 -> 40 | U25: =+U11*H25 -> 38 | W25: =SUM(K25:U25) -> 412
B26: MEXICALI | C26: DEPARTAMENTO DE MANTENIMIENTO Y CONSERVACIÓN | D26: CALZADA INDEPENDENCIA Y AVENIDA DE LOS HÉROES #994, CENTRO CIVICO, 21000. SOTANO DEL EDIFICIO DEL PODER EJECUTIVO | E26: Lunes a viernes 6:00 a 8:00 | F26: 1 | G26: 2 | H26: =F26*G26 -> 2 | J26: =+J11*H26 -> 0 | K26: =+K11*H26 -> 0 | L26: =+L11*H26 -> 40 | M26: =+M11*H26 -> 40 | N26: =+N11*H26 -> 42 | O26: =+O11*H26 -> 44 | P26: =+P11*H26 -> 42 | Q26: =+Q11*H26 -> 46 | R26: =+R11*H26 -> 40 | S26: =+S11*H26 -> 40 | T26: =+T11*H26 -> 40 | U26: =+U11*H26 -> 38 | W26: =SUM(K26:U26) -> 412
B27: MEXICALI | C27: ARCHIVO GENERAL | D27: CALZADA INDEPENDENCIA Y AVENIDA DE LOS HÉROES #994, CENTRO CIVICO, 21000. SOTANO DEL EDIFICIO DEL PODER EJECUTIVO | E27: Lunes a viernes 10:00 a 12:00 | F27: 1 | G27: 2 | H27: =F27*G27 -> 2 | J27: =+J11*H27 -> 0 | K27: =+K11*H27 -> 0 | L27: =+L11*H27 -> 40 | M27: =+M11*H27 -> 40 | N27: =+N11*H27 -> 42 | O27: =+O11*H27 -> 44 | P27: =+P11*H27 -> 42 | Q27: =+Q11*H27 -> 46 | R27: =+R11*H27 -> 40 | S27: =+S11*H27 -> 40 | T27: =+T11*H27 -> 40 | U27: =+U11*H27 -> 38 | W27: =SUM(K27:U27) -> 412
B28: MEXICALI | C28: MAGISTERIO | D28: CALZADA INDEPENDENCIA Y AVENIDA DE LOS HÉROES #994, CENTRO CIVICO, 21000. RAMPA DE PROVEEDORES - SOTANO DEL EDIFICIO DEL PODER EJECUTIVO | E28: Lunes a viernes 10:00 a 12:00 | F28: 1 | G28: 2 | H28: =F28*G28 -> 2 | J28: =+J11*H28 -> 0 | K28: =+K11*H28 -> 0 | L28: =+L11*H28 -> 40 | M28: =+M11*H28 -> 40 | N28: =+N11*H28 -> 42 | O28: =+O11*H28 -> 44 | P28: =+P11*H28 -> 42 | Q28: =+Q11*H28 -> 46 | R28: =+R11*H28 -> 40 | S28: =+S11*H28 -> 40 | T28: =+T11*H28 -> 40 | U28: =+U11*H28 -> 38 | W28: =SUM(K28:U28) -> 412
B29: MEXICALI | C29: ESTACIONAMIENTO DE 5 NIVELES | D29: CALZADA INDEPENDENCIA Y AVENIDA DE LOS HÉROES #994, CENTRO CIVICO, 21000, EDIFICIO DEL PODER EJECUTIVO | E29: Lunes a viernes 6:00 a 14:00 | F29: 1 | G29: 8 | H29: =F29*G29 -> 8 | J29: =+J11*H29 -> 0 | K29: =+K11*H29 -> 0 | L29: =+L11*H29 -> 160 | M29: =+M11*H29 -> 160 | N29: =+N11*H29 -> 168 | O29: =+O11*H29 -> 176 | P29: =+P11*H29 -> 168 | Q29: =+Q11*H29 -> 184 | R29: =+R11*H29 -> 160 | S29: =+S11*H29 -> 160 | T29: =+T11*H29 -> 160 | U29: =+U11*H29 -> 152 | W29: =SUM(K29:U29) -> 1648
B30: MEXICALI | C30: ALMACENES GENERALES DEL ESTADO | D30: AV. MADERO NO. 1981, COLONIA NUEVA | E30: Lunes a viernes 8:00 a 11:00 | F30: 1 | G30: 3 | H30: =F30*G30 -> 3 | J30: =+J11*H30 -> 0 | K30: =+K11*H30 -> 0 | L30: =+L11*H30 -> 60 | M30: =+M11*H30 -> 60 | N30: =N11*H30 -> 63 | O30: =O11*H30 -> 66 | P30: =P11*H30 -> 63 | Q30: =Q11*H30 -> 69 | R30: =R11*H30 -> 60 | S30: =S11*H30 -> 60 | T30: =T11*H30 -> 60 | U30: =U11*H30 -> 57 | W30: =SUM(K30:U30) -> 618
B31: MEXICALI | C31: ÓRGANO DE CONTROL INTERNO (CENPRODE) | D31: PASAJE JANITZIO # 1057, CENTRO CIVICO, MEXICALI.B.C. | E31: Lunes a viernes 8:00 a 12:00 | F31: 1 | G31: 4 | H31: =F31*G31 -> 4 | J31: =+J11*H31 -> 0 | K31: =+K11*H31 -> 0 | L31: =+L11*H31 -> 80 | M31: =+M11*H31 -> 80 | N31: =N11*H31 -> 84 | O31: =O11*H31 -> 88 | P31: =P11*H31 -> 84 | Q31: =Q11*H31 -> 92 | R31: =R11*H31 -> 80 | S31: =S11*H31 -> 80 | T31: =T11*H31 -> 80 | U31: =U11*H31 -> 76 | W31: =SUM(K31:U31) -> 824
B32: MEXICALI | C32: EDIFICIO DE JUSTICIA PENAL | D32: RÍO NUEVO, 21090, MEXICALI. | E32: Lunes a viernes 6:00 a 14:00 | F32: 4 | G32: 8 | H32: =F32*G32 -> 32 | J32: =+J11*H32 -> 0 | K32: =+K11*H32 -> 0 | L32: =+L11*H32 -> 640 | M32: =+M11*H32 -> 640 | N32: =N11*H32 -> 672 | O32: =O11*H32 -> 704 | P32: =P11*H32 -> 672 | Q32: =Q11*H32 -> 736 | R32: =R11*H32 -> 640 | S32: =S11*H32 -> 640 | T32: =T11*H32 -> 640 | U32: =U11*H32 -> 608 | W32: =SUM(K32:U32) -> 6592
B33: MEXICALI | C33: EDIFICIO DE JUSTICIA PENAL | D33: RÍO NUEVO, 21090, MEXICALI. | E33: Lunes a viernes 14:00 a 18:00 | F33: 2 | G33: 4 | H33: =F33*G33 -> 8 | J33: =+J11*H33 -> 0 | K33: =+K11*H33 -> 0 | L33: =+L11*H33 -> 160 | M33: =+M11*H33 -> 160 | N33: =N11*H33 -> 168 | O33: =O11*H33 -> 176 | P33: =P11*H33 -> 168 | Q33: =Q11*H33 -> 184 | R33: =R11*H33 -> 160 | S33: =S11*H33 -> 160 | T33: =T11*H33 -> 160 | U33: =U11*H33 -> 152 | W33: =SUM(K33:U33) -> 1648
B34: TECATE | C34: EDIFICIO DE JUSTICIA PENAL | D34: CARRETERA LIBRE - TIJUANA KM. 140 COLONIA EL PASO DEL ÁGUILA, TECATE | E34: Lunes a viernes 6:00 a 14:00 | F34: 4 | G34: 8 | H34: =F34*G34 -> 32 | J34: =(J11*H34) -> 0 | K34: =(K11*H34) -> 0 | L34: =(L11*H34) -> 640 | M34: =(M11*H34) -> 640 | N34: =N11*H34 -> 672 | O34: =O11*H34 -> 704 | P34: =P11*H34 -> 672 | Q34: =Q11*H34 -> 736 | R34: =R11*H34 -> 640 | S34: =S11*H34 -> 640 | T34: =T11*H34 -> 640 | U34: =U11*H34 -> 608 | W34: =SUM(K34:U34) -> 6592
B35: TECATE | C35: EDIFICIO DE JUSTICIA PENAL | D35: CARRETERA LIBRE - TIJUANA KM. 140 COLONIA EL PASO DEL ÁGUILA, TECATE | E35: Lunes a viernes 14:00 a 18:00 | F35: 2 | G35: 4 | H35: =F35*G35 -> 8 | J35: =(J11*H35) -> 0 | K35: =(K11*H35) -> 0 | L35: =(L11*H35) -> 160 | M35: =(M11*H35) -> 160 | N35: =N11*H35 -> 168 | O35: =O11*H35 -> 176 | P35: =P11*H35 -> 168 | Q35: =Q11*H35 -> 184 | R35: =R11*H35 -> 160 | S35: =S11*H35 -> 160 | T35: =T11*H35 -> 160 | U35: =U11*H35 -> 152 | W35: =SUM(K35:U35) -> 1648
B36: TIJUANA | C36: OFICIALIA MAYOR DE GOBIERNO | D36: AV. VÍA RÁPIDA PONIENTE DIEGO RIVERA, ZONA URBANA RÍO TIJUANA, 22010. | E36: Lunes a viernes 7:00 a 15:00 | F36: 4 | G36: 8 | H36: =F36*G36 -> 32 | J36: =+J11*H36 -> 0 | K36: =+K11*H36 -> 0 | L36: =+L11*H36 -> 640 | M36: =+M11*H36 -> 640 | N36: =N11*H36 -> 672 | O36: =O11*H36 -> 704 | P36: =P11*H36 -> 672 | Q36: =Q11*H36 -> 736 | R36: =R11*H36 -> 640 | S36: =S11*H36 -> 640 | T36: =T11*H36 -> 640 | U36: =U11*H36 -> 608 | W36: =SUM(K36:U36) -> 6592
B37: TIJUANA | C37: ALMACEN DE OFICIALIA MAYOR DE TIJUANA | D37: AV. VÍA RÁPIDA PONIENTE S/N COLONIA CORONA DEL ROSAL, 22104. | E37: Miercoles 7:00 a 11:00 | F37: 1 | G37: 4 | H37: =F37*G37 -> 4 | J37: =+J13*H37 -> 0 | K37: =+K13*H37 -> 0 | L37: =+L13*H37 -> 16 | M37: =+M13*H37 -> 16 | N37: =N13*H37 -> 20 | O37: =O13*H37 -> 16 | P37: =P13*H37 -> 16 | Q37: =Q13*H37 -> 20 | R37: =R13*H37 -> 16 | S37: =S13*H37 -> 16 | T37: =T13*H37 -> 16 | U37: =U13*H37 -> 16 | W37: =SUM(K37:U37) -> 168
B38: PLAYAS DE ROSARITO | C38: CENTRO DE GOBIERNO | D38: AV. JOSÉ HAROZ AGUILAR 2004, FRACC. VILLA TURÍSTICA, 22710. | E38: Lunes a viernes 7:00 a 15:00 | F38: 3 | G38: 8 | H38: =F38*G38 -> 24 | J38: =+J11*H38 -> 0 | K38: =+K11*H38 -> 0 | L38: =+L11*H38 -> 480 | M38: =+M11*H38 -> 480 | N38: =N11*H38 -> 504 | O38: =O11*H38 -> 528 | P38: =P11*H38 -> 504 | Q38: =Q11*H38 -> 552 | R38: =R11*H38 -> 480 | S38: =S11*H38 -> 480 | T38: =T11*H38 -> 480 | U38: =U11*H38 -> 456 | W38: =SUM(K38:U38) -> 4944
B39: PLAYAS DE ROSARITO | C39: CENTRO DE GOBIERNO | D39: AV. JOSÉ HAROZ AGUILAR 2004, FRACC. VILLA TURÍSTICA, 22710. | E39: Sabado 8:00 a 12:00 | F39: 2 | G39: 4 | H39: =F39*G39 -> 8 | J39: =+J12*H39 -> 0 | K39: =+K12*H39 -> 0 | L39: =+L12*H39 -> 32 | M39: =+M12*H39 -> 40 | N39: =N12*H39 -> 32 | O39: =O12*H39 -> 32 | P39: =P12*H39 -> 40 | Q39: =Q12*H39 -> 32 | R39: =R12*H39 -> 32 | S39: =S12*H39 -> 32 | T39: =T12*H39 -> 32 | U39: =U12*H39 -> 40 | W39: =SUM(K39:U39) -> 344
B40: ENSENADA | C40: CENTRO DE GOBIERNO ENSENADA | D40: CARRETERA TRANSPENINSULAR ENSENADA - LA PAZ #6500, EX EJIDO CHAPULTEPEC, 22785, ENSENADA. | E40: Lunes a viernes 7:00 a 15:00 | F40: 4 | G40: 8 | H40: =F40*G40 -> 32 | J40: =+J11*H40 -> 0 | K40: =+K11*H40 -> 0 | L40: =+L11*H40 -> 640 | M40: =+M11*H40 -> 640 | N40: =N11*H40 -> 672 | O40: =O11*H40 -> 704 | P40: =P11*H40 -> 672 | Q40: =Q11*H40 -> 736 | R40: =R11*H40 -> 640 | S40: =S11*H40 -> 640 | T40: =T11*H40 -> 640 | U40: =U11*H40 -> 608 | W40: =SUM(K40:U40) -> 6592
B41: ENSENADA | C41: CENTRO DE GOBIERNO ENSENADA | D41: CARRETERA TRANSPENINSULAR ENSENADA - LA PAZ #6500, EX EJIDO CHAPULTEPEC, 22785, ENSENADA. | E41: Lunes a viernes 10:00 a 18:00 | F41: 2 | G41: 8 | H41: =F41*G41 -> 16 | J41: =+J11*H41 -> 0 | K41: =+K11*H41 -> 0 | L41: =+L11*H41 -> 320 | M41: =+M11*H41 -> 320 | N41: =N11*H41 -> 336 | O41: =O11*H41 -> 352 | P41: =P11*H41 -> 336 | Q41: =Q11*H41 -> 368 | R41: =R11*H41 -> 320 | S41: =S11*H41 -> 320 | T41: =T11*H41 -> 320 | U41: =U11*H41 -> 304 | W41: =SUM(K41:U41) -> 3296
B42: ENSENADA | C42: CENTRO DE GOBIERNO ENSENADA | D42: CARRETERA TRANSPENINSULAR ENSENADA - LA PAZ #6500, EX EJIDO CHAPULTEPEC, 22785, ENSENADA. | E42: Sabado 8:00 a 12:00 | F42: 2 | G42: 4 | H42: =F42*G42 -> 8 | J42: =+J12*H42 -> 0 | K42: =+K12*H42 -> 0 | L42: =+L12*H42 -> 32 | M42: =+M12*H42 -> 40 | N42: =N12*H42 -> 32 | O42: =O12*H42 -> 32 | P42: =P12*H42 -> 40 | Q42: =Q12*H42 -> 32 | R42: =R12*H42 -> 32 | S42: =S12*H42 -> 32 | T42: =T12*H42 -> 32 | U42: =U12*H42 -> 40 | W42: =SUM(K42:U42) -> 344
...

Sheet S.H.
B1: OFICIALIA MAYOR DE GOBIERNO
B2: DIRECCION DE SERVICIOS GENERALES
B3: SUBDIRECCION DE SERVICIOS GENERALES
B5: CALCULO DEL SERVICIO DE LIMPIEZA PARA EL PERIODO DEL 03 DE MARZO AL 31 DE DICIEMBRE DE 2023
B6: PROCEDIMIENTO DE LICITACIÓN PÚBLICA REGIONAL No. 32065001-004-2023 “SERVICIO DE LIMPIEZA PARA DEPENDENCIAS DE GOBIERNO DEL ESTADO DE BAJA CALIFORNIA”
B7: ANEXO UBICACIONES Y HORARIOS DEL SERVICIO
B8: SECRETARIA DE HACIENDA DEL ESTADO
G10: DIAS DE SERVICIO | J10: ENE | K10: FEB | L10: MAR | M10: ABR | N10: MAY | O10: JUN | P10: JUL | Q10: AGO | R10: SEP | S10: OCT | T10: NOV | U10: DIC | W10: TOTAL DIAS MAR-DIC
G11: LUNES-VIERNES | J11: 0 | K11: 0 | L11: 20 | M11: 20 | N11: 21 | O11: 22 | P11: 21 | Q11: 23 | R11: 20 | S11: 20 | T11: 20 | U11: 19 | W11: =SUM(K11:U11) -> 206
G12: SABADO | J12: 0 | K12: 0 | L12: 4 | M12: 5 | N12: 4 | O12: 4 | P12: 5 | Q12: 4 | R12: 4 | S12: 4 | T12: 4 | U12: 5 | W12: =SUM(K12:U12) -> 43
G13: LUN- MIER - VIER | J13: 0 | K13: 0 | L13: 12 | M13: 11 | N13: 12 | O13: 13 | P13: 13 | Q13: 13 | R13: 13 | S13: 12 | T13: 11 | U13: 12 | W13: =SUM(K13:U13) -> 122
G14: MARTES-VIERNES | J14: 0 | K14: 0 | L14: 9 | M14: 7 | N14: 8 | O14: 9 | P14: 8 | Q14: 9 | R14: 8 | S14: 8 | T14: 8 | U14: 8 | W14: =SUM(K14:U14) -> 82
W15: =SUM(W11:W14) -> 453
B16: PARTIDA | C16: UBICACION | D16: DIRECCIÓN | E16: HORARIOS | F16: PERSONAL SOLICITADO | G16: HORAS POR DIA POR PERSONA | H16: HORAS DIARIAS POR TURNO | J16: ENE | K16: FEB | L16: MAR | M16: ABR | N16: MAY | O16: JUN | P16: JUL | Q16: AGO | R16: SEP | S16: OCT | T16: NOV | U16: DIC | W16: TOTAL HORAS
C17: MEXICALI
B18: 1 | C18: RECAUDACIÓN CENTRAL MEXICALI | D18: CALZADA INDEPENDENCIA Y AVENIDA DE LOS HÉROES #994, CENTRO CIVICO, 21000. PRIMER PISO DEL EDIFICIO DEL PODER EJECUTIVO. | E18: Lunes a viernes 7:00 a 15:00 | F18: 1 | G18: 8 | H18: =F18*G18 -> 8 | J18: 0 | K18: =+K11*H18 -> 0 | L18: =+L11*H18 -> 160 | M18: =+M11*H18 -> 160 | N18: =N11*H18 -> 168 | O18: =O11*H18 -> 176 | P18: =P11*H18 -> 168 | Q18: =Q11*H18 -> 184 | R18: =R11*H18 -> 160 | S18: =S11*H18 -> 160 | T18: =T11*H18 -> 160 | U18: =U11*H18 -> 152 | W18: =SUM(K18:U18) -> 1648
B19: 2 | C19: REGULARIZACIÓN FEX MEXICALI | D19: RÍO NUEVO #955, AGUALEGUAS, 21090 | E19: Lunes a viernes 8:00 a 16:00 | F19: 1 | G19: 8 | H19: =F19*G19 -> 8 | J19: =J11*H19 -> 0 | K19: 0 | L19: 176 | M19: 0 | N19: 0 | O19: 0 | P19: 0 | Q19: 0 | R19: 0 | S19: 0 | T19: 0 | U19: 0 | W19: =SUM(K19:U19) -> 176
E20: sabado 8:00 a 16:00 | F20: 1 | G20: 8 | H20: =F20*G20 -> 8 | J20: 0 | K20: 0 | L20: 32 | M20: 0 | N20: 0 | O20: 0 | P20: 0 | Q20: 0 | R20: 0 | S20: 0 | T20: 0 | U20: 0 | W20: =SUM(K20:U20) -> 32
B21: 3 | C21: REGULARIZACIÓN CEART MEXICALI | D21: RÍO NUEVO, 21120, MEXICALI | E21: Lunes a viernes 8:00 a 16:00 | F21: 1 | G21: 8 | H21: =F21*G21 -> 8 | J21: 0 | K21: 0 | L21: 176 | M21: 0 | N21: 0 | O21: 0 | P21: 0 | Q21: 0 | R21: 0 | S21: 0 | T21: 0 | U21: 0 | W21: =SUM(K21:U21) -> 176
E22: sabado 8:00 a 16:00 | F22: 1 | G22: 8 | H22: =F22*G22 -> 8 | J22: 0 | K22: 0 | L22: 32 | M22: 0 | N22: 0 | O22: 0 | P22: 0 | Q22: 0 | R22: 0 | S22: 0 | T22: 0 | U22: 0 | W22: =SUM(K22:U22) -> 32
B23: 4 | C23: DIRECCIÓN DE ADMINISTRACIÓN | D23: CALZADA INDEPENDENCIA Y AVENIDA DE LOS HÉROES #994, CENTRO CIVICO, 21000. PRIMER PISO DEL EDIFICIO DEL PODER EJECUTIVO. | E23: Lunes a viernes 7:00 a 12:00 | F23: 1 | G23: 5 | H23: =F23*G23 -> 5 | J23: =+J11*H23 -> 0 | K23: 0 | L23: =+L11*H23 -> 100 | M23: =+M11*H23 -> 100 | N23: =N11*H23 -> 105 | O23: =O11*H23 -> 110 | P23: =P11*H23 -> 105 | Q23: =Q11*H23 -> 115 | R23: =R11*H23 -> 100 | S23: =S11*H23 -> 100 | T23: =T11*H23 -> 100 | U23: =U11*H23 -> 95 | W23: =SUM(K23:U23) -> 1030
B24: 5 | C24: CENCAFI | D24: CALZADA MILTÓN CASTELLANOS #1573, CONJUNTO URBANO CALISS, 21010 | E24: Lunes a viernes 8:00 a 11:00 | F24: 1 | G24: 3 | H24: =F24*G24 -> 3 | J24: =+J11*H24 -> 0 | K24: =+K11*H24 -> 0 | L24: =+L11*H24 -> 60 | M24: =+M11*H24 -> 60 | N24: =N11*H24 -> 63 | O24: =O11*H24 -> 66 | P24: =P11*H24 -> 63 | Q24: =Q11*H24 -> 69 | R24: =R11*H24 -> 60 | S24: =S11*H24 -> 60 | T24: =T11*H24 -> 60 | U24: =U11*H24 -> 57 | W24: =SUM(K24:U24) -> 618
B25: 6 | C25: ÁREA OPERATIVA, BAÑOS COMUNES Y DEPARTAMENTO DE NÓMINAS DE LA DIRECCIÓN DE EGRESOS | E25: Lunes a viernes 7:00 a 15:00 | F25: 1 | G25: 8 | H25: =F25*G25 -> 8 | J25: =+J11*H25 -> 0 | K25: =+K11*H25 -> 0 | L25: =+L11*H25 -> 160 | M25: =+M11*H25 -> 160 | N25: =N11*H25 -> 168 | O25: =O11*H25 -> 176 | P25: =P11*H25 -> 168 | Q25: =Q11*H25 -> 184 | R25: =R11*H25 -> 160 | S25: =S11*H25 -> 160 | T25: =T11*H25 -> 160 | U25: =U11*H25 -> 152 | W25: =SUM(K25:U25) -> 1648
B26: 7 | C26: OFICINA DE COBRO GONZÁLEZ ORTEGA (PALACO) | D26: CALLE 4TA Y CARRETERA A SAN LUIS RIO COLORADO #249, DELEGACION GONZALEZ ORTEGA MEXICALI. | E26: Lunes a viernes 8:00 a 16:00 | F26: 1 | G26: 8 | H26: =F26*G26 -> 8 | J26: 0 | K26: 0 | L26: 0 | M26: 0 | N26: 23 | O26: 176 | P26: 168 | Q26: 184 | R26: 168 | S26: 176 | T26: 176 | U26: 168 | W26: =SUM(K26:U26) -> 1239
E27: sabado 8:00 a 16:00 | F27: 1 | G27: 8 | H27: =F27*G27 -> 8 | J27: 0 | K27: 0 | L27: 0 | M27: 0 | N27: 32 | O27: 32 | P27: 40 | Q27: 32 | R27: 40 | S27: 32 | T27: 32 | U27: 32 | W27: =SUM(K27:U27) -> 272
B28: 8 | C28: INVERSIÓN PÚBLICA | E28: Lunes, Miercoles y Viernes 11:00 a 14:00 | F28: 1 | G28: 3 | H28: =F28*G28 -> 3 | J28: =+J13*H28 -> 0 | K28: =+K13*H28 -> 0 | L28: =+L13*H28 -> 36 | M28: =+M13*H28 -> 33 | N28: =+N13*H28 -> 36 | O28: =+O13*H28 -> 39 | P28: =+P13*H28 -> 39 | Q28: =+Q13*H28 -> 39 | R28: =+R13*H28 -> 39 | S28: =+S13*H28 -> 36 | T28: =+T13*H28 -> 33 | U28: =+U13*H28 -> 36 | W28: =SUM(K28:U28) -> 366
B29: 9 | C29: SUBRECAUDACIÓN AUXILIAR DE RENTAS MEXICALI | E29: Lunes a viernes 9:00 a 18:00 | F29: 1 | G29: 9 | H29: =F29*G29 -> 9 | J29: =+J11*H29 -> 0 | K29: =+K11*H29 -> 0 | L29: =+L11*H29 -> 180 | M29: =+M11*H29 -> 180 | N29: =+N11*H29 -> 189 | O29: =O11*H29 -> 198 | P29: =P11*H29 -> 189 | Q29: =Q11*H29 -> 207 | R29: =R11*H29 -> 180 | S29: =S11*H29 -> 180 | T29: =T11*H29 -> 180 | U29: =U11*H29 -> 171 | W29: =SUM(K29:U29) -> 1854
D30: CALZADA INDEPENDENCIA #994, CENTRO CIVICO, 21000 | E30: Lunes a viernes 8:00 a 14:00 | F30: 1 | G30: 6 | H30: =F30*G30 -> 6 | J30: =+J11*H30 -> 0 | K30: =+K11*H30 -> 0 | L30: =+L11*H30 -> 120 | M30: =+M11*H30 -> 120 | N30: =N11*H30 -> 126 | O30: =O11*H30 -> 132 | P30: =P11*H30 -> 126 | Q30: =Q11*H30 -> 138 | R30: =R11*H30 -> 120 | S30: =S11*H30 -> 120 | T30: =T11*H30 -> 120 | U30: =U11*H30 -> 114 | W30: =SUM(K30:U30) -> 1236
E31: sabado 9:00 a 13:00 | F31: 1 | G31: 4 | H31: =F31*G31 -> 4 | J31: =+J12*H31 -> 0 | K31: =+K12*H31 -> 0 | L31: =+L12*H31 -> 16 | M31: =+M12*H31 -> 20 | N31: =+N12*H31 -> 16 | O31: =O12*H31 -> 16 | P31: =P12*H31 -> 20 | Q31: =Q12*H31 -> 16 | R31: =R12*H31 -> 16 | S31: =S12*H31 -> 16 | T31: =T12*H31 -> 16 | U31: =U12*H31 -> 20 | W31: =SUM(K31:U31) -> 172
B32: 10 | C32: SUBRECAUDACIÓN AUXILIAR DE RENTAS CD. MORELOS | D32: AV. MORELOS Y LEYES DE REFORMA # 512, CD. MORELOS, 21960. | E32: Lunes a viernes 8:00 a 11:00 | F32: 1 | G32: 3 | H32: =F32*G32 -> 3 | J32: =+J11*H32 -> 0 | K32: =+K11*H32 -> 0 | L32: =+L11*H32 -> 60 | M32: =+M11*H32 -> 60 | N32: =+N11*H32 -> 63 | O32: =O11*H32 -> 66 | P32: =P11*H32 -> 63 | Q32: =Q11*H32 -> 69 | R32: =R11*H32 -> 60 | S32: =S11*H32 -> 60 | T32: =T11*H32 -> 60 | U32: =U11*H32 -> 57 | W32: =SUM(K32:U32) -> 618
B33: 11 | C33: SUBRECAUDACIÓN AUXILIAR DE RENTAS GUADALUPE VICTORIA | D33: CALLE 8 CON MIGUEL HIDALGO, DEL SOL, 21720, GUADALUPE VICTORIA | E33: Lunes a viernes 8:00 a 10:00 | F33: 1 | G33: 2 | H33: =F33*G33 -> 2 | J33: =+J11*H33 -> 0 | K33: =+K11*H33 -> 0 | L33: =+L11*H33 -> 40 | M33: =+M11*H33 -> 40 | N33: =N11*H33 -> 42 | O33: =O11*H33 -> 44 | P33: =P11*H33 -> 42 | Q33: =Q11*H33 -> 46 | R33: =R11*H33 -> 40 | S33: =S11*H33 -> 40 | T33: =T11*H33 -> 40 | U33: =U11*H33 -> 38 | W33: =SUM(K33:U33) -> 412
B34: 12 | C34: SUBRECAUDACIÓN AUXILIAR DE RENTAS SAN FELIPE | D34: AV. MAR CARIBE NORTE #182, AMPLIACIÓN SEGUNDA SECCIÓN, 21850. SAN FELIPE | E34: Lunes a viernes 8:00 a 10:00 | F34: 1 | G34: 2 | H34: =F34*G34 -> 2 | J34: =+J11*H34 -> 0 | K34: =+K11*H34 -> 0 | L34: =+L11*H34 -> 40 | M34: =+M11*H34 -> 40 | N34: =N11*H34 -> 42 | O34: =O11*H34 -> 44 | P34: =P11*H34 -> 42 | Q34: =Q11*H34 -> 46 | R34: =R11*H34 -> 40 | S34: =S11*H34 -> 40 | T34: =T11*H34 -> 40 | U34: =U11*H34 -> 38 | W34: =SUM(K34:U34) -> 412
B35: 13 | C35: ARCHIVO GENERAL (CAIPE) | D35: MIMIAHUAPAN #1684, CALAFIA, 21040 | E35: Lunes a viernes 8:00 a 11:00 | F35: 1 | G35: 3 | H35: =F35*G35 -> 3 | J35: =+J11*H35 -> 0 | K35: =+K11*H35 -> 0 | L35: =+L11*H35 -> 60 | M35: =+M11*H35 -> 60 | N35: =N11*H35 -> 63 | O35: =O11*H35 -> 66 | P35: =P11*H35 -> 63 | Q35: =Q11*H35 -> 69 | R35: =R11*H35 -> 60 | S35: =S11*H35 -> 60 | T35: =T11*H35 -> 60 | U35: =U11*H35 -> 57 | W35: =SUM(K35:U35) -> 618
B36: 14 | C36: SUBSECRETARÍA DE TECNOLOGÍAS DE INFORMACIÓN Y COMUNICACIONES | E36: Lunes a viernes 7:00 a 14:00 | F36: 1 | G36: 7 | H36: =F36*G36 -> 7 | J36: =+J11*H36 -> 0 | K36: =+K11*H36 -> 0 | L36: =+L11*H36 -> 140 | M36: =+M11*H36 -> 140 | N36: =N11*H36 -> 147 | O36: =O11*H36 -> 154 | P36: =P11*H36 -> 147 | Q36: =Q11*H36 -> 161 | R36: =R11*H36 -> 140 | S36: =S11*H36 -> 140 | T36: =T11*H36 -> 140 | U36: =U11*H36 -> 133 | W36: =SUM(K36:U36) -> 1442
B37: 15 | C37: OFICINAS DE LA SECRETARÍA DE HACIENDA | D37: CUARTO PISO EDIFICIO DEL PODER EJECUTIVO | E37: Lunes a viernes 7:00 a 14:00 | F37: 1 | G37: 7 | H37: =F37*G37 -> 7 | J37: =+J11*H37 -> 0 | K37: =+K11*H37 -> 0 | L37: =+L11*H37 -> 140 | M37: =+M11*H37 -> 140 | N37: =N11*H37 -> 147 | O37: =O11*H37 -> 154 | P37: =P11*H37 -> 147 | Q37: =Q11*H37 -> 161 | R37: =R11*H37 -> 140 | S37: =S11*H37 -> 140 | T37: =T11*H37 -> 140 | U37: =U11*H37 -> 133 | W37: =SUM(K37:U37) -> 1442
B38: 16 | C38: PROCURADURÍA FISCAL | D38: CALZADA INDEPENDENCIA Y AVENIDA DE LOS HÉROES #994, CENTRO CIVICO, 21000. PRIMER PISO DEL EDIFICIO DEL PODER EJECUTIVO. | E38: Lunes a viernes 13:00 a 14:00 | F38: 1 | G38: 1 | H38: =F38*G38 -> 1 | J38: =+J11*H38 -> 0 | K38: =+K11*H38 -> 0 | L38: =+L11*H38 -> 20 | M38: =+M11*H38 -> 20 | N38: =N11*H38 -> 21 | O38: =O11*H38 -> 22 | P38: =P11*H38 -> 21 | Q38: =Q11*H38 -> 23 | R38: =R11*H38 -> 20 | S38: =S11*H38 -> 20 | T38: =T11*H38 -> 20 | U38: =U11*H38 -> 19 | W38: =SUM(K38:U38) -> 206
B39: 17 | C39: DIRECCIÓN DE SEGUIMIENTO A PARAESTATALES | E39: Lunes a viernes 13:00 a 14:00 | F39: 1 | G39: 1 | H39: =F39*G39 -> 1 | J39: =+J11*H39 -> 0 | K39: =+K11*H39 -> 0 | L39: =+L11*H39 -> 20 | M39: =+M11*H39 -> 20 | N39: =N11*H39 -> 21 | O39: =O11*H39 -> 22 | P39: =P11*H39 -> 21 | Q39: =Q11*H39 -> 23 | R39: =R11*H39 -> 20 | S39: =S11*H39 -> 20 | T39: =T11*H39 -> 20 | U39: =U11*H39 -> 19 | W39: =SUM(K39:U39) -> 206
B40: 18 | C40: CONTABILIDAD, BAÑOS COMUNES Y SERVICIO ADMINISTRATIVO | E40: Lunes a viernes 12:00 a 14:00 | F40: 1 | G40: 2 | H40: =F40*G40 -> 2 | J40: =+J11*H40 -> 0 | K40: =+K11*H40 -> 0 | L40: =+L11*H40 -> 40 | M40: =+M11*H40 -> 40 | N40: =N11*H40 -> 42 | O40: =O11*H40 -> 44 | P40: =P11*H40 -> 42 | Q40: =Q11*H40 -> 46 | R40: =R11*H40 -> 40 | S40: =S11*H40 -> 40 | T40: =T11*H40 -> 40 | U40: =U11*H40 -> 38 | W40: =SUM(K40:U40) -> 412
B41: 19 | C41: DIRECCIÓN DE GESTIÓN FINANCIERA | E41: Lunes a viernes 7:00 a 12:00 | F41: 1 | G41: 5 | H41: =F41*G41 -> 5 | J41: =+J11*H41 -> 0 | K41: =+K11*H41 -> 0 | L41: =+L11*H41 -> 100 | M41: =+M11*H41 -> 100 | N41: =N11*H41 -> 105 | O41: =O11*H41 -> 110 | P41: =P11*H41 -> 105 | Q41: =Q11*H41 -> 115 | R41: =R11*H41 -> 100 | S41: =S11*H41 -> 100 | T41: =T11*H41 -> 100 | U41: =U11*H41 -> 95 | W41: =SUM(K41:U41) -> 1030
B42: 20 | C42: DIRECCIÓN DE AUDITORIA FISCAL | D42: PRIMER PISO EDIFICIO DEL PODER EJECUTIVO | E42: Lunes a viernes 8:00 a 12:00 | F42: 1 | G42: 4 | H42: =F42*G42 -> 4 | J42: =+J11*H42 -> 0 | K42: =+K11*H42 -> 0 | L42: =+L11*H42 -> 80 | M42: =+M11*H42 -> 80 | N42: =+N11*H42 -> 84 | O42: =O11*H42 -> 88 | P42: =P11*H42 -> 84 | Q42: =Q11*H42 -> 92 | R42: =R11*H42 -> 80 | S42: =S11*H42 -> 80 | T42: =T11*H42 -> 80 | U42: =U11*H42 -> 76 | W42: =SUM(K42:U42) -> 824
...

Sheet S.H.F.P.
A1: OFICIALIA MAYOR DE GOBIERNO
A2: DIRECCION DE SERVICIOS GENERALES
A3: SUBDIRECCION DE SERVICIOS GENERALES
A5: CALCULO DEL SERVICIO DE LIMPIEZA PARA EL PERIODO DEL 03 DE MARZO AL 31 DE DICIEMBRE DE 2023
A6: PROCEDIMIENTO DE LICITACIÓN PÚBLICA REGIONAL No. 32065001-004-2023 “SERVICIO DE LIMPIEZA PARA DEPENDENCIAS DE GOBIERNO DEL ESTADO DE BAJA CALIFORNIA”
A7: ANEXO UBICACIONES Y HORARIOS DEL SERVICIO
A8: SECRETARIA DE LA HONESTIDAD Y FUNCION PUBLICA
F10: DIAS DE SERVICIO | I10: ENE | J10: FEB | K10: MAR | L10: ABR | M10: MAY | N10: JUN | O10: JUL | P10: AGO | Q10: SEP | R10: OCT | S10: NOV | T10: DIC | V10: TOTAL DIAS MAR-DIC
F11: LUNES A VIERNES | I11: 0 | J11: 0 | K11: 20 | L11: 20 | M11: 21 | N11: 22 | O11: 21 | P11: 23 | Q11: 20 | R11: 20 | S11: 20 | T11: 19 | V11: =SUM(J11:T11) -> 206
V12: =SUM(V11:V11) -> 206
A14: PARTIDA | B14: UBICACION | C14: DIRECCIÓN | D14: HORARIOS | E14: PERSONAL SOLICITADO | F14: HORAS POR DIA POR PERSONA | G14: HORAS DIARIAS POR TURNO | I14: ENE | J14: FEB | K14: MAR | L14: ABR | M14: MAY | N14: JUN | O14: JUL | P14: AGO | Q14: SEP | R14: OCT | S14: NOV | T14: DIC | V14: TOTAL HORAS
A15: MEXICALI | B15: PLAZA MEXICO EN EL CENTRO HISTÓRICO DE MEXICALI | C15: AVENIDA SEBASTIAN LERDO DE TEJADA Y CALLE " E " # 1276 COL. NUEVA MEXICALI,B.C. | D15: Lunes a Viernes 6:00 a 13:00 | E15: 1 | F15: 7 | G15: 7 | I15: =+I11*G15 -> 0 | J15: =+J11*G15 -> 0 | K15: =+K11*G15 -> 140 | L15: =+L11*G15 -> 140 | M15: =+M11*G15 -> 147 | N15: =+N11*G15 -> 154 | O15: =+O11*G15 -> 147 | P15: =+P11*G15 -> 161 | Q15: =+Q11*G15 -> 140 | R15: =+R11*G15 -> 140 | S15: =+S11*G15 -> 140 | T15: =+T11*G15 -> 133 | V15: =SUM(J15:T15) -> 1442
A16: MEXICALI | B16: PLAZA MÉXICO EN EL CENTRO HISTÓRICO DE MEXICALI | C16: AVENIDA SEBASTIAN LERDO DE TEJADA Y CALLE " E " # 1276 COL. NUEVA MEXICALI,B.C. | D16: Lunes a Viernes 6:00 a 10:00 | E16: 1 | F16: 4 | G16: 4 | I16: =+I11*G16 -> 0 | J16: =+J11*G16 -> 0 | K16: =+K11*G16 -> 80 | L16: =+L11*G16 -> 80 | M16: =+M11*G16 -> 84 | N16: =+N11*G16 -> 88 | O16: =+O11*G16 -> 84 | P16: =+P11*G16 -> 92 | Q16: =+Q11*G16 -> 80 | R16: =+R11*G16 -> 80 | S16: =+S11*G16 -> 80 | T16: =+T11*G16 -> 76 | V16: =SUM(J16:T16) -> 824
A17: MEXICALI | B17: SECRETARIA DE LA HONESTIDAD | C17: CUARTO PISO EDIFICIO DEL EJECUTIVO, CENTRO CIVICO. | D17: Lunes a viernes 07:00 a 10:00 | E17: 1 | F17: 3 | G17: 3 | I17: =+I11*G17 -> 0 | J17: =+J11*G17 -> 0 | K17: =+K11*G17 -> 60 | L17: =+L11*G17 -> 60 | M17: =+M11*G17 -> 63 | N17: =+N11*G17 -> 66 | O17: =+O11*G17 -> 63 | P17: =+P11*G17 -> 69 | Q17: =+Q11*G17 -> 60 | R17: =+R11*G17 -> 60 | S17: =+S11*G17 -> 60 | T17: =+T11*G17 -> 57 | V17: =SUM(J17:T17) -> 618
A18: MEXICALI | B18: DIRECCIÓN DE FISCALIZACIÓN Y COMISIÓN ESTATAL DE AVALÚOS | C18: CALZADA INDEPENDENCIA Y CALLE CALAFIA. | D18: Lunes a viernes 07:00 a 10:00 | E18: 1 | F18: 3 | G18: 3 | I18: =+I11*G18 -> 0 | J18: =+J11*G18 -> 0 | K18: =+K11*G18 -> 60 | L18: =+L11*G18 -> 60 | M18: =+M11*G18 -> 63 | N18: =+N11*G18 -> 66 | O18: =+O11*G18 -> 63 | P18: =+P11*G18 -> 69 | Q18: =+Q11*G18 -> 60 | R18: =+R11*G18 -> 60 | S18: =+S11*G18 -> 60 | T18: =+T11*G18 -> 57 | V18: =SUM(J18:T18) -> 618
A19: TIJUANA | B19: OFICINA DE TIJUANA | C19: BLVD. AGUA CALIENTE TIJUANA. | D19: Lunes a Viernes 6:00 a 10:00 | E19: 1 | F19: 4 | G19: =E19*F19 -> 4 | I19: =+I11*G19 -> 0 | J19: =+J11*G19 -> 0 | K19: =+K11*G19 -> 80 | L19: =+L11*G19 -> 80 | M19: =$G$19*M11 -> 84 | N19: =$G$19*N11 -> 88 | O19: =$G$19*O11 -> 84 | P19: =$G$19*P11 -> 92 | Q19: =$G$19*Q11 -> 80 | R19: =$G$19*R11 -> 80 | S19: =$G$19*S11 -> 80 | T19: =$G$19*T11 -> 76 | V19: =SUM(J19:T19) -> 824
A20: ENSENADA | B20: CENTRO DE GOBIERNO ENSENADA | C20: CARRETERA TRANSPENINSULAR ENSENADA - LA PAZ #6500, EX EJIDO CHAPULTEPEC, 22785, ENSENADA. | D20: Lunes a Viernes 10:00 a 12:00 | E20: 1 | F20: 2 | G20: =E20*F20 -> 2 | I20: =+I11*G20 -> 0 | J20: =+J11*G20 -> 0 | K20: =+K11*G20 -> 40 | L20: =+L11*G20 -> 40 | M20: =+M11*G20 -> 42 | N20: =+N11*G20 -> 44 | O20: =+O11*G20 -> 42 | P20: =+P11*G20 -> 46 | Q20: =+Q11*G20 -> 40 | R20: =+R11*G20 -> 40 | S20: =+S11*G20 -> 40 | T20: =+T11*G20 -> 38 | V20: =SUM(J20:T20) -> 412
E21: =SUM(E15:E20) -> 6 | S21: TOTAL | V21: =SUM(V15:V20) -> 4738
I24: =SUM(I15:I20) -> 0 | J24: =SUM(J15:J20) -> 0 | K24: =SUM(K15:K20) -> 460 | L24: =SUM(L15:L20) -> 460 | M24: =SUM(M15:M20) -> 483 | N24: =SUM(N15:N20) -> 506 | O24: =SUM(O15:O20) -> 483 | P24: =SUM(P15:P20) -> 529 | ... T24: =SUM(T15:T20) -> 437 | V24: =SUM(J24:U24) -> 4738
J27: RESUMEN SECRETARIA DE LA HONESTIDAD
J29: PARTIDAS | L29: PERSONAL SOLICITADO | N29: TOTAL HORAS | P29: PRECIO /HORA | Q29: IMPORTE SIN IVA | S29: IMPORTE CON IVA | V29: ACUMULADO
J30: MEXICALI | L30: =E15+E16+E17+E18 -> 4 | N30: =SUM(V15:V18) -> 3502
J31: TIJUANA | L31: =+E19 -> 1 | N31: =V19 -> 824
J32: ENSENADA | L32: =E20 -> 1 | N32: =V20 -> 412
J33: TOTALES | L33: =SUM(L30:L32) -> 6 | N33: =SUM(N30:O32) -> 4738

Sheet S.P.A. 
A1: OFICIALIA MAYOR DE GOBIERNO
A2: DIRECCION DE SERVICIOS GENERALES
A3: SUBDIRECCION DE SERVICIOS GENERALES
A5: CALCULO DEL SERVICIO DE LIMPIEZA PARA EL PERIODO DEL 03 DE MARZO AL 31 DE DICIEMBRE DE 2023
A6: PROCEDIMIENTO DE LICITACIÓN PÚBLICA REGIONAL No. 32065001-004-2023 “SERVICIO DE LIMPIEZA PARA DEPENDENCIAS DE GOBIERNO DEL ESTADO DE BAJA CALIFORNIA”
A7: ANEXO UBICACIONES Y HORARIOS DEL SERVICIO
A8: SECRETARIA DE PESCA Y ACUACULTURA
F10: DIAS DE SERVICIO | I10: ENE | J10: FEB | K10: MAR | L10: ABR | M10: MAY | N10: JUN | O10: JUL | P10: AGO | Q10: SEP | R10: OCT | S10: NOV | T10: DIC | V10: TOTAL DIAS MAR-DIC
F11: LUNES-VIERNES | I11: 0 | J11: 0 | K11: 20 | L11: 20 | M11: 21 | N11: 22 | O11: 21 | P11: 23 | Q11: 20 | R11: 20 | S11: 20 | T11: 19 | V11: =SUM(J11:T11) -> 206
A14: PARTIDA | B14: UBICACION | C14: DIRECCIÓN | D14: HORARIOS | E14: PERSONAL SOLICITADO | F14: HORAS POR DIA POR PERSONA | G14: HORAS DIARIAS POR TURNO | I14: ENE | J14: FEB | K14: MAR | L14: ABR | M14: MAY | N14: JUN | O14: JUL | P14: AGO | Q14: SEP | R14: OCT | S14: NOV | T14: DIC | V14: TOTAL HORAS
A15: ENSENADA | B15: EDIFICIO DEL PODER EJECUTIVO DE ENSENADA Y SUB SECRETARIA DE PESCA | C15: CARRETERA TRANSPENINSULAR ENSENADA - LA PAZ #6500, EX EJIDO CHAPULTEPEC, 22785, ENSENADA. | D15: Lunes a viernes 6:00 A 14:00 | E15: 1 | F15: 8 | G15: =E15*F15 -> 8 | I15: =+I11*G15 -> 0 | J15: =+J11*G15 -> 0 | K15: =+K11*G15 -> 160 | L15: =+L11*G15 -> 160 | M15: =$G$15*M11 -> 168 | N15: =$G$15*N11 -> 176 | O15: =$G$15*O11 -> 168 | P15: =$G$15*P11 -> 184 | Q15: =$G$15*Q11 -> 160 | R15: =$G$15*R11 -> 160 | S15: =$G$15*S11 -> 160 | T15: =$G$15*T11 -> 152 | V15: =SUM(J15:T15) -> 1648
E16: =SUM(E15:E15) -> 1 | S16: ENSENADA | V16: =SUM(V15:V15) -> 1648
I18: =I15 -> 0 | J18: =J15 -> 0 | K18: =K15 -> 160 | L18: =L15 -> 160 | M18: =M15 -> 168 | N18: =N15 -> 176 | O18: =O15 -> 168 | P18: =P15 -> 184 | ... T18: =T15 -> 152 | V18: =SUM(J18:T18) -> 1648
M21: RESUMEN SECRETARIA DE PESCA Y ACUACULTURA
J23: PARTIDAS | M23: PERSONAL SOLICITADO | O23: TOTAL HORAS | Q23: PRECIO POR HORA | S23: IMPORTE SIN IVA | V23: IMPORTE CON IVA
J24: ENSENADA | M24: 1 | O24: =V16 -> 1648
J25: TOTALES | M25: =SUM(M24) -> 1 | O25: =SUM(O24:O24) -> 1648

Sheet S.E.I.
A1: OFICIALIA MAYOR DE GOBIERNO
A2: DIRECCION DE SERVICIOS GENERALES
A3: SUBDIRECCION DE SERVICIOS GENERALES
A5: CALCULO DEL SERVICIO DE LIMPIEZA PARA EL PERIODO DEL 03 DE MARZO AL 31 DE DICIEMBRE DE 2023
A6: PROCEDIMIENTO DE LICITACIÓN PÚBLICA REGIONAL No. 32065001-004-2023 “SERVICIO DE LIMPIEZA PARA DEPENDENCIAS DE GOBIERNO DEL ESTADO DE BAJA CALIFORNIA”
A7: ANEXO UBICACIONES Y HORARIOS DEL SERVICIO
A8: CALCULO DEL SERVICIO DE LIMPIEZA PARA EL EJERCICIO FISCAL 2023
F10: DIAS DE SERVICIO | I10: ENE | J10: FEB | K10: MAR | L10: ABR | M10: MAY | N10: JUN | O10: JUL | P10: AGO | Q10: SEP | R10: OCT | S10: NOV | T10: DIC | V10: TOTAL DIAS MAR-DIC
F11: LUNES A VIERNES | I11: 0 | J11: 0 | K11: 20 | L11: 20 | M11: 21 | N11: 22 | O11: 21 | P11: 23 | Q11: 20 | R11: 20 | S11: 20 | T11: 19 | V11: =SUM(J11:T11) -> 206
V12: =SUM(V11:V11) -> 206
A14: PARTIDA | B14: UBICACION | C14: DIRECCIÓN | D14: HORARIOS | E14: PERSONAL SOLICITADO | F14: HORAS POR DIA POR PERSONA | G14: HORAS DIARIAS POR TURNO | I14: ENE | J14: FEB | K14: MAR | L14: ABR | M14: MAY | N14: JUN | O14: JUL | P14: AGO | Q14: SEP | R14: OCT | S14: NOV | T14: DIC | V14: TOTAL HORAS
A15: MEXICALI | B15: SECRETARIA DE ECONOMIA | C15: CUARTO Y SEGUNDO PISO EDIFICIO DEL PODER EJECUTIVO | D15: Lunes a viernes 6:00 a 14:00 | E15: 1 | F15: 8 | G15: =E15*F15 -> 8 | I15: =+I11*G15 -> 0 | J15: =+J11*G15 -> 0 | K15: =+K11*G15 -> 160 | L15: =+L11*G15 -> 160 | M15: =$G$15*M11 -> 168 | N15: =$G$15*N11 -> 176 | O15: =$G$15*O11 -> 168 | P15: =$G$15*P11 -> 184 | Q15: =$G$15*Q11 -> 160 | R15: =$G$15*R11 -> 160 | S15: =$G$15*S11 -> 160 | T15: =$G$15*T11 -> 152 | V15: =SUM(J15:T15) -> 1648
A16: MEXICALI | B16: SECRETARIA DE ECONOMIA | C16: CUARTO Y SEGUNDO PISO DEL PODER EJECUTIVO | D16: Lunes a viernes 6:00 a 10:00 | E16: 1 | F16: 4 | G16: =E16*F16 -> 4 | I16: =+I11*G16 -> 0 | J16: =+J11*G16 -> 0 | K16: =+K11*G16 -> 80 | L16: =+L11*G16 -> 80 | M16: =$G$16*M11 -> 84 | N16: =$G$16*N11 -> 88 | O16: =$G$16*O11 -> 84 | P16: =$G$16*P11 -> 92 | Q16: =$G$16*Q11 -> 80 | R16: =$G$16*R11 -> 80 | S16: =$G$16*S11 -> 80 | T16: =$G$16*T11 -> 76 | V16: =SUM(J16:T16) -> 824
A17: MEXICALI | B17: OFICINAS "LA PLAZITA" | C17: BLVD. JUSTO SIERRA #377 LOCAL 35 COLONIA CUAUHTEMOC SUR. | D17: Lunes a viernes 8:00 a 12:00 | E17: 1 | F17: 4 | G17: =E17*F17 -> 4 | I17: =+I11*G17 -> 0 | J17: =+J11*G17 -> 0 | K17: =+K11*G17 -> 80 | L17: =+L11*G17 -> 80 | M17: =+M11*G17 -> 84 | N17: =+N11*G17 -> 88 | O17: =+O11*G17 -> 84 | P17: =+P11*G17 -> 92 | Q17: =+Q11*G17 -> 80 | R17: =+R11*G17 -> 80 | S17: =+S11*G17 -> 80 | T17: =+T11*G17 -> 76 | V17: =SUM(J17:T17) -> 824
A18: MEXICALI | B18: DIRECCIÓN DE INDUSTRIAS CREATIVAS CEART | C18: RÍO NUEVO, 21120. | D18: Lunes a viernes 8:00 a 12:00 | E18: 1 | F18: 4 | G18: =E18*F18 -> 4 | I18: =+I11*G18 -> 0 | J18: =+J11*G18 -> 0 | K18: =+K11*G18 -> 80 | L18: =+L11*G18 -> 80 | M18: =$G$18*M11 -> 84 | N18: =$G$18*N11 -> 88 | O18: =$G$18*O11 -> 84 | P18: =$G$18*P11 -> 92 | Q18: =$G$18*Q11 -> 80 | R18: =$G$18*R11 -> 80 | S18: =$G$18*S11 -> 80 | T18: =$G$18*T11 -> 76 | V18: =SUM(J18:T18) -> 824
A19: MEXICALI | B19: OFICINAS CENTRO HISTÓRICO | D19: Lunes a viernes 8:00 a 12:00 | E19: 1 | F19: 4 | G19: =E19*F19 -> 4 | I19: =(I11*G19) -> 0 | J19: =(J11*G19) -> 0 | K19: =(K11*G19) -> 80 | L19: =(L11*G19) -> 80 | M19: =(M11*G19) -> 84 | N19: =(N11*G19) -> 88 | O19: =(O11*G19) -> 84 | P19: =(P11*G19) -> 92 | Q19: =(Q11*G19) -> 80 | R19: =(R11*G19) -> 80 | S19: =(S11*G19) -> 80 | T19: =(T11*G19) -> 76 | V19: =SUM(J19:T19) -> 824
A20: SAN FELIPE | B20: OFICINA DE ECONOMÍA | C20: LOCAL 107 AVENIDA MAR DE CORTEZ #614, CENTRO COMERCIAL LA PLAZITA | D20: Lunes a viernes 8:00 a 12:00 | E20: 1 | F20: 4 | G20: =E20*F20 -> 4 | I20: =(I11*G20) -> 0 | J20: =(J11*G20) -> 0 | K20: =(K11*G20) -> 80 | L20: =(L11*G20) -> 80 | M20: =(M11*G20) -> 84 | N20: =(N11*G20) -> 88 | O20: =(O11*G20) -> 84 | P20: =(P11*G20) -> 92 | Q20: =(Q11*G20) -> 80 | R20: =(R11*G20) -> 80 | S20: =(S11*G20) -> 80 | T20: =(T11*G20) -> 76 | V20: =SUM(J20:T20) -> 824
A21: PLAYAS DE ROSARITO | B21: OFICINA DE ECONOMÍA | C21: CALLE JOSÉ HAROS AGUILAR #2003 LOCAL 7 FRACCIONAMIENTO VILLA TURÍSTICA | D21: Lunes a viernes 8:00 a 12:00 | E21: 1 | F21: 4 | G21: =E21*F21 -> 4 | I21: =(I11*G21) -> 0 | J21: =(J11*G21) -> 0 | K21: =(K11*G21) -> 80 | L21: =(L11*G21) -> 80 | M21: =(M11*G21) -> 84 | N21: =(N11*G21) -> 88 | O21: =(O11*G21) -> 84 | P21: =(P11*G21) -> 92 | Q21: =(Q11*G21) -> 80 | R21: =(R11*G21) -> 80 | S21: =(S11*G21) -> 80 | T21: =(T11*G21) -> 76 | V21: =SUM(J21:T21) -> 824
A22: TIJUANA | B22: CONSORCIO | D22: Lunes a viernes 8:00 a 16:00 | E22: 1 | F22: 8 | G22: =E22*F22 -> 8 | I22: =+I11*G22 -> 0 | J22: =+J11*G22 -> 0 | K22: =+K11*G22 -> 160 | L22: =+L11*G22 -> 160 | M22: =+M11*G22 -> 168 | N22: =+N11*G22 -> 176 | O22: =$G$22*O11 -> 168 | P22: =$G$22*P11 -> 184 | Q22: =$G$22*Q11 -> 160 | R22: =$G$22*R11 -> 160 | S22: =$G$22*S11 -> 160 | T22: =$G$22*T11 -> 152 | V22: =SUM(J22:T22) -> 1648
A23: TECATE | B23: OFICINAS DE ECONOMÍA UBICADAS EN ADMICARGA | D23: Lunes a viernes 8:00 a 12:00 | E23: 1 | F23: 4 | G23: =E23*F23 -> 4 | I23: =(I11*G23) -> 0 | J23: =(J11*G23) -> 0 | K23: =(K11*G23) -> 80 | L23: =(L11*G23) -> 80 | M23: =(M11*G23) -> 84 | N23: =(N11*G23) -> 88 | O23: =(O11*G23) -> 84 | P23: =(P11*G23) -> 92 | Q23: =(Q11*G23) -> 80 | R23: =(R11*G23) -> 80 | S23: =(S11*G23) -> 80 | T23: =(T11*G23) -> 76 | V23: =SUM(J23:T23) -> 824
A24: ENSENADA | B24: SECRETARIA DE ECONOMIA CENTRO DE GOBIERNO | C24: CARRETERA TRANSPENINSULAR ENSENADA - LA PAZ #6500, EX EJIDO CHAPULTEC, 22185. | D24: Lunes a viernes 8:00 a 12:00 | E24: 1 | F24: 4 | G24: =E24*F24 -> 4 | I24: =(I11*G24) -> 0 | J24: =(J11*G24) -> 0 | K24: =(K11*G24) -> 80 | L24: =(L11*G24) -> 80 | M24: =(M11*G24) -> 84 | N24: =(N11*G24) -> 88 | O24: =(O11*G24) -> 84 | P24: =(P11*G24) -> 92 | Q24: =(Q11*G24) -> 80 | R24: =(R11*G24) -> 80 | S24: =(S11*G24) -> 80 | T24: =(T11*G24) -> 76 | V24: =SUM(J24:T24) -> 824
E25: =SUM(E15:E24) -> 10
S26: TOTAL ESTATAL | V26: =SUM(V15:V24) -> 9888
I28: =SUM(I15:I24) -> 0 | J28: =SUM(J15:J24) -> 0 | K28: =SUM(K15:K24) -> 960 | L28: =SUM(L15:L24) -> 960 | M28: =SUM(M15:M24) -> 1008 | N28: =SUM(N15:N24) -> 1056 | O28: =SUM(O15:O24) -> 1008 | P28: =SUM(P15:P24) -> 1104 | ... T28: =SUM(T15:T24) -> 912 | V28: =SUM(J28:U28) -> 9888
N31: RESUMEN SECRETARIA DE ECONOMIA
J33: PARTIDAS | L33: PERSONAL SOLICITADO | N33: TOTAL HORAS | P33: PRECIO /HORA | Q33: IMPORTE SIN IVA | S33: IMPORTE CON IVA | V33: ACUMULADO
J34: MEXICALI | L34: 5 | N34: =SUM(V15:V19) -> 4944
J35: SAN FELIPE | L35: 1 | N35: =V20 -> 824
J36: ROSARITO | L36: 1 | N36: =V21 -> 824
J37: TIJUANA | L37: 1 | N37: =V22 -> 1648
J38: TECATE | L38: 1 | N38: =V23 -> 824
J39: ENSENADA | L39: 1 | N39: =V24 -> 824
J40: TOTALES | L40: =SUM(L34:M39) -> 10 | N40: =SUM(N34:N39) -> 9888

Sheet S.A.D.E.R.
A1: OFICIALIA MAYOR DE GOBIERNO
A2: DIRECCION DE SERVICIOS GENERALES
A3: SUBDIRECCION DE SERVICIOS GENERALES
A5: CALCULO DEL SERVICIO DE LIMPIEZA PARA EL PERIODO DEL 03 DE MARZO AL 31 DE DICIEMBRE DE 2023
A6: PROCEDIMIENTO DE LICITACIÓN PÚBLICA REGIONAL No. 32065001-004-2023 “SERVICIO DE LIMPIEZA PARA DEPENDENCIAS DE GOBIERNO DEL ESTADO DE BAJA CALIFORNIA”
A7: ANEXO UBICACIONES Y HORARIOS DEL SERVICIO
A8: SECRETARIA DE AGRICULTURA Y DESARROLLO RURAL
G10: DIAS DE SERVICIO | I10: ENE | J10: FEB | K10: MAR | L10: ABR | M10: MAY | N10: JUN | O10: JUL | P10: AGO | Q10: SEP | R10: OCT | S10: NOV | T10: DIC | V10: TOTAL DIAS MAR-DIC
G11: LUNES-VIERNES | I11: 0 | J11: 0 | K11: 20 | L11: 20 | M11: 21 | N11: 22 | O11: 21 | P11: 23 | Q11: 20 | R11: 20 | S11: 20 | T11: 19 | V11: =SUM(J11:T11) -> 206
A14: PARTIDA | B14: UBICACION | C14: DIRECCIÓN | D14: HORARIOS | E14: PERSONAL SOLICITADO | F14: HORAS POR DIA POR PERSONA | G14: HORAS DIARIAS POR TURNO | I14: ENE | J14: FEB | K14: MAR | L14: ABR | M14: MAY | N14: JUN | O14: JUL | P14: AGO | Q14: SEP | R14: OCT | S14: NOV | T14: DIC | V14: TOTAL HORAS
B15: MEXICALI
A16: MEXICALI | B16: OFICINA DE LA SECRETARIA DEL CAMPO Y SEGURIDAD ALIMENTARIA | C16: CARRETERA MEXICALI - SAN LUIS R.C. KM. 22.5 EJIDO SINALOA, 21620. | D16: Lunes a viernes 6:00 a 14:00 | E16: 2 | F16: 8 | G16: =E16*F16 -> 16 | I16: =+I11*G16 -> 0 | J16: =+J11*G16 -> 0 | K16: =+K11*G16 -> 320 | L16: =+L11*G16 -> 320 | M16: =$G$16*M11 -> 336 | N16: =$G$16*N11 -> 352 | O16: =$G$16*O11 -> 336 | P16: =$G$16*P11 -> 368 | Q16: =$G$16*Q11 -> 320 | R16: =$G$16*R11 -> 320 | S16: =$G$16*S11 -> 320 | T16: =$G$16*T11 -> 304 | V16: =SUM(J16:T16) -> 3296
A17: MEXICALI | B17: SECRETARIA DEL CAMPO Y SEGURIDAD ALIMENTARIA (CCIIAA MEXICALI) | C17: CARRETERA MEXICALI - SAN LUIS R.C. KM. 22.5 EJIDO SINALOA, 21620. | D17: Lunes a viernes 6:00 a 14:00 | E17: 1 | F17: 8 | G17: =E17*F17 -> 8 | I17: =+I11*G17 -> 0 | J17: =+J11*G17 -> 0 | K17: =+K11*G17 -> 160 | L17: =+L11*G17 -> 160 | M17: =+M11*G17 -> 168 | N17: =$G$17*N11 -> 176 | O17: =$G$17*O11 -> 168 | P17: =$G$17*P11 -> 184 | Q17: =$G$17*Q11 -> 160 | R17: =$G$17*R11 -> 160 | S17: =$G$17*S11 -> 160 | T17: =$G$17*T11 -> 152 | V17: =SUM(J17:T17) -> 1648
S18: SUMA MEXICALI | V18: =SUM(V16:V17) -> 4944
A20: PARTIDA | B20: UBICACION | C20: DIRECCIÓN | D20: HORARIOS | E20: PERSONAL SOLICITADO | F20: HORAS POR DIA POR PERSONA | G20: HORAS DIARIAS POR TURNO | I20: ENE | J20: FEB | K20: MAR | L20: ABR | M20: MAY | N20: JUN | O20: JUL | P20: AGO | Q20: SEP | R20: OCT | S20: NOV | T20: DIC | V20: TOTAL HORAS
B21: TIJUANA
A22: TIJUANA | B22: SCSA CENTRO DE OBIERNO TIJUANA | C22: CARRETERA LIBRE TIJUANA - TECATE KM 26.5 ESQUINA BLVD. NOGALES, EL FLORIDO, 22253. | D22: Lunes a viernes 9:00 a 11:00 | E22: 1 | F22: 2 | G22: =E22*F22 -> 2 | I22: =+I11*G22 -> 0 | J22: =+J11*G22 -> 0 | K22: =+K11*G22 -> 40 | L22: =+L11*G22 -> 40 | M22: =+M11*G22 -> 42 | N22: =$G$22*N11 -> 44 | O22: =$G$22*O11 -> 42 | P22: =$G$22*P11 -> 46 | Q22: =$G$22*Q11 -> 40 | R22: =$G$22*R11 -> 40 | S22: =$G$22*S11 -> 40 | T22: =$G$22*T11 -> 38 | V22: =SUM(J22:T22) -> 412
S23: SUMA TIJUANA | V23: =SUM(V22) -> 412
A25: PARTIDA | B25: UBICACION | C25: DIRECCIÓN | D25: HORARIOS | E25: PERSONAL SOLICITADO | F25: HORAS POR DIA POR PERSONA | G25: HORAS DIARIAS POR TURNO | I25: ENE | J25: FEB | K25: MAR | L25: ABR | M25: MAY | N25: JUN | O25: JUL | P25: AGO | Q25: SEP | R25: OCT | S25: NOV | T25: DIC | V25: TOTAL HORAS
B26: TECATE
A27: 4 | B27: SCSA TECATE | C27: MISION SANTO DOMINGO #1016 | D27: Lunes a viernes 9:00 a 11:00 | E27: 1 | F27: 2 | G27: =E27*F27 -> 2 | I27: =+I11*G27 -> 0 | J27: =+J11*G27 -> 0 | K27: =+K11*G27 -> 40 | L27: =+L11*G27 -> 40 | M27: =$G$27*M11 -> 42 | N27: =$G$27*N11 -> 44 | O27: =$G$27*O11 -> 42 | P27: =$G$27*P11 -> 46 | Q27: =$G$27*Q11 -> 40 | R27: =$G$27*R11 -> 40 | S27: =$G$27*S11 -> 40 | T27: =$G$27*T11 -> 38 | V27: =SUM(J27:T27) -> 412
S28: SUMA TECATE | V28: =SUM(V27) -> 412
A30: PARTIDA | B30: UBICACION | D30: HORARIOS | E30: PERSONAL SOLICITADO | F30: HORAS POR DIA POR PERSONA | G30: HORAS DIARIAS POR TURNO | I30: ENE | J30: FEB | K30: MAR | L30: ABR | M30: MAY | N30: JUN | O30: JUL | P30: AGO | Q30: SEP | R30: OCT | S30: NOV | T30: DIC | V30: TOTAL HORAS
B31: ENSENADA
A32: 5 | B32: SCSA CENTRO DE GOBIERNO ENSENADA | C32: CARRETERA TRANSPENINSULAR ENSENADA - LA PAZ #6500, EX EJIDO CHAPULTEPEC, 22785, ENSENADA. | D32: Lunes a viernes 7:00 a 10:00 | E32: 1 | F32: 3 | G32: =E32*F32 -> 3 | I32: =+I11*G32 -> 0 | J32: =+J11*G32 -> 0 | K32: =+K11*G32 -> 60 | L32: =+L11*G32 -> 60 | M32: =$G$32*M11 -> 63 | N32: =$G$32*N11 -> 66 | O32: =$G$32*O11 -> 63 | P32: =$G$32*P11 -> 69 | Q32: =$G$32*Q11 -> 60 | R32: =$G$32*R11 -> 60 | S32: =$G$32*S11 -> 60 | T32: =$G$32*T11 -> 57 | V32: =SUM(J32:T32) -> 618
A33: 6 | B33: SCSA CENTRO DE GOBIERNO SAN QUINTIN | C33: AVENIDA "A" S/N, FRACCIONAMIENTO CIUDAD DE SAN QUINTÍN, 22930. | D33: Lunes a viernes 7:00 a 9:00 | E33: 1 | F33: 2 | G33: =E33*F33 -> 2 | I33: =+I11*G33 -> 0 | J33: =+J11*G33 -> 0 | K33: =+K11*G33 -> 40 | L33: =+L11*G33 -> 40 | M33: =$G$33*M11 -> 42 | N33: =$G$33*N11 -> 44 | O33: =$G$33*O11 -> 42 | P33: =$G$33*P11 -> 46 | Q33: =$G$33*Q11 -> 40 | R33: =$G$33*R11 -> 40 | S33: =$G$33*S11 -> 40 | T33: =$G$33*T11 -> 38 | V33: =SUM(J33:T33) -> 412
E34: =E16+E17+E22+E27+E32+E33 -> 7 | S34: SUMA ENSENADA | V34: =SUM(V32:V33) -> 1030
S36: SUMA ESTATAL | V36: =V18+V23+V28+V34 -> 6798
I38: =I16+I17+I22+I27+I32+I33 -> 0 | J38: =J16+J17+J22+J27+J32+J33 -> 0 | K38: =K16+K17+K22+K27+K32+K33 -> 660 | L38: =L16+L17+L22+L27+L32+L33 -> 660 | M38: =M16+M17+M22+M27+M32+M33 -> 693 | N38: =N16+N17+N22+N27+N32+N33 -> 726 | O38: =O16+O17+O22+O27+O32+O33 -> 693 | P38: =P16+P17+P22+P27+P32+P33 -> 759 | ... T38: =T16+T17+T22+T27+T32+T33 -> 627 | V38: =SUM(J38:T38) -> 6798
M40: RESUMEN SECRETARIA DE AGRICULTURA
J42: PARTIDAS | M42: PERSONAL SOLICITADO | O42: TOTAL HORAS | Q42: PRECIO POR HORA | S42: IMPORTE SIN IVA | V42: IMPORTE CON IVA
J43: MEXICALI | M43: =E16+E17 -> 3 | O43: =V18 -> 4944
J44: TIJUANA | M44: =E22 -> 1 | O44: =V23 -> 412
J45: TECATE | M45: =E27 -> 1 | O45: =V28 -> 412
J46: ENSENADA | M46: =E32+E33 -> 2 | O46: =V34 -> 1030
J47: TOTALES | M47: =SUM(M43:M46) -> 7 | O47: =SUM(O43:O46) -> 6798

Sheet S.T.
A1: OFICIALIA MAYOR DE GOBIERNO
A2: DIRECCION DE SERVICIOS GENERALES
A3: SUBDIRECCION DE SERVICIOS GENERALES
A5: CALCULO DEL SERVICIO DE LIMPIEZA PARA EL PERIODO DEL 03 DE MARZO AL 31 DE DICIEMBRE DE 2023
A6: PROCEDIMIENTO DE LICITACIÓN PÚBLICA REGIONAL No. 32065001-004-2023 “SERVICIO DE LIMPIEZA PARA DEPENDENCIAS DE GOBIERNO DEL ESTADO DE BAJA CALIFORNIA”
A7: ANEXO UBICACIONES Y HORARIOS DEL SERVICIO
A8: SECRETARIA DE TURISMO
G10: DIAS DE SERVICIO | I10: ENE | J10: FEB | K10: MAR | L10: ABR | M10: MAY | N10: JUN | O10: JUL | P10: AGO | Q10: SEP | R10: OCT | S10: NOV | T10: DIC | V10: TOTAL DIAS MAR-DIC
G11: LUNES-VIERNES | I11: 0 | J11: 0 | K11: 20 | L11: 20 | M11: 21 | N11: 22 | O11: 21 | P11: 23 | Q11: 20 | R11: 20 | S11: 20 | T11: 19 | V11: =SUM(J11:T11) -> 206
A14: PARTIDA | B14: UBICACION | C14: DIRECCIÓN | D14: HORARIOS | E14: PERSONAL SOLICITADO | F14: HORAS POR DIA POR PERSONA | G14: HORAS DIARIAS POR TURNO | I14: ENE | J14: FEB | K14: MAR | L14: ABR | M14: MAY | N14: JUN | O14: JUL | P14: AGO | Q14: SEP | R14: OCT | S14: NOV | T14: DIC | V14: TOTAL HORAS
B15: MEXICALI
A16: 1 | B16: OFICINA CENTRAL | C16: BLVD. BENITO JUAREZ Y L. MONTEJANO | D16: Lunes a viernes 8:00 a 13:00 | E16: 1 | F16: 5 | G16: 5 | I16: =+I11*G16 -> 0 | J16: =+J11*G16 -> 0 | K16: =+K11*G16 -> 100 | L16: =+L11*G16 -> 100 | M16: =$G$16*M11 -> 105 | N16: =$G$16*N11 -> 110 | O16: =$G$16*O11 -> 105 | P16: =$G$16*P11 -> 115 | Q16: =$G$16*Q11 -> 100 | R16: =$G$16*R11 -> 100 | S16: =$G$16*S11 -> 100 | T16: =$G$16*T11 -> 95 | V16: =SUM(J16:T16) -> 1030
S17: SUIMA MEXICALI | V17: =SUM(V16:V16) -> 1030
A19: PARTIDA | B19: UBICACION | C19: DIRECCIÓN | D19: HORARIOS | E19: PERSONAL SOLICITADO | F19: HORAS POR DIA POR PERSONA | G19: HORAS DIARIAS POR TURNO | I19: ENE | J19: FEB | K19: MAR | L19: ABR | M19: MAY | N19: JUN | O19: JUL | P19: AGO | Q19: SEP | R19: OCT | S19: NOV | T19: DIC | V19: TOTAL HORAS
B20: ENSENADA
A21: 2 | B21: OFICINAS ADMINISTRATIVAS DE ENSENADA | C21: LÁZARO CÁRDENAS #1477, CENTRO, FRACCIONAMIENTO BAHÍA ENSENADA | D21: Lunes a viernes 8:00 a 13:00 | E21: 1 | F21: 5 | G21: =E21*F21 -> 5 | I21: =+I11*G21 -> 0 | J21: =+J11*G21 -> 0 | K21: =+K11*G21 -> 100 | L21: =+L11*G21 -> 100 | M21: =+M11*G21 -> 105 | N21: =$G$21*N11 -> 110 | O21: =$G$21*O11 -> 105 | P21: =$G$21*P11 -> 115 | Q21: =$G$21*Q11 -> 100 | R21: =$G$21*R11 -> 100 | S21: =$G$21*S11 -> 100 | T21: =$G$21*T11 -> 95 | V21: =SUM(J21:T21) -> 1030
S22: SUMA ENSENADA | V22: =SUM(V21) -> 1030
A24: PARTIDA | B24: UBICACION | D24: HORARIOS | E24: PERSONAL SOLICITADO | F24: HORAS POR DIA POR PERSONA | G24: HORAS DIARIAS POR TURNO | I24: ENE | J24: FEB | K24: MAR | L24: ABR | M24: MAY | N24: JUN | O24: JUL | P24: AGO | Q24: SEP | R24: OCT | S24: NOV | T24: DIC | V24: TOTAL HORAS
B25: ROSARITO
A26: 3 | B26: CENTRO DE CONVENCIONES | C26: AUTOPISTA TIJUANA -ENSENADA ESCENICA ·1029, EJIDO MAZATLAN, PLAYAS DE ROSARITO | D26: Lunes a viernes 8:00 a 13:00 | E26: 1 | F26: 5 | G26: 5 | I26: =+I11*G26 -> 0 | J26: =+J11*G26 -> 0 | K26: =+K11*G26 -> 100 | L26: =+L11*G26 -> 100 | M26: =$G$26*M11 -> 105 | N26: =$G$26*N11 -> 110 | O26: =$G$26*O11 -> 105 | P26: =$G$26*P11 -> 115 | Q26: =$G$26*Q11 -> 100 | R26: =$G$26*R11 -> 100 | S26: =$G$26*S11 -> 100 | T26: =$G$26*T11 -> 95 | V26: =SUM(J26:T26) -> 1030
S27: SUMA ROSARITO | V27: =SUM(V26) -> 1030
A29: PARTIDA | B29: UBICACION | D29: HORARIOS | E29: PERSONAL SOLICITADO | F29: HORAS POR DIA POR PERSONA | G29: HORAS DIARIAS POR TURNO | I29: ENE | J29: FEB | K29: MAR | L29: ABR | M29: MAY | N29: JUN | O29: JUL | P29: AGO | Q29: SEP | R29: OCT | S29: NOV | T29: DIC | V29: TOTAL HORAS
B30: SAN QUINTIN
A31: 6 | B31: OFICINAS ADMINISTRATIVAS SAN QUINTIN | C31: EJIDO PADRE KINO | D31: Lunes a viernes 8:00 a 13:00 | E31: 1 | F31: 5 | G31: =E31*F31 -> 5 | I31: =+I11*G31 -> 0 | J31: =+J11*G31 -> 0 | K31: =+K11*G31 -> 100 | L31: =+L11*G31 -> 100 | M31: =+M11*G31 -> 105 | N31: =+N11*G31 -> 110 | O31: =+O11*G31 -> 105 | P31: =+P11*G31 -> 115 | Q31: =+Q11*G31 -> 100 | R31: =+R11*G31 -> 100 | S31: =+S11*G31 -> 100 | T31: =+T11*G31 -> 95 | V31: =SUM(J31:T31) -> 1030
S32: SUMA SAN QUINTIN | V32: =SUM(V31:V31) -> 1030
I35: =(I16+I21+I26+I31) -> 0 | J35: =(J16+J21+J26+J31) -> 0 | K35: =(K16+K21+K26+K31) -> 400 | L35: =(L16+L21+L26+L31) -> 400 | M35: =(M16+M21+M26+M31) -> 420 | N35: =(N16+N21+N26+N31) -> 440 | O35: =(O16+O21+O26+O31) -> 420 | P35: =(P16+P21+P26+P31) -> 460 | ... T35: =(T16+T21+T26+T31) -> 380 | V35: =SUM(J35:T35) -> 4120
M37: RESUMEN SECRETARIA DE TURISMO
J39: PARTIDAS | M39: PERSONAL SOLICITADO | O39: TOTAL HORAS | Q39: PRECIO POR HORA | S39: IMPORTE SIN IVA | V39: IMPORTE CON IVA
J40: MEXICALI | M40: =E16 -> 1 | O40: =V17 -> 1030
J41: ENSENADA | M41: =E21 -> 1 | O41: =V22 -> 1030
J42: ROSARITO | M42: =E26 -> 1 | O42: =V27 -> 1030
J43: SAN QUINTIN | M43: =E31 -> 1 | O43: =V32 -> 1030
