Workbook

Sheet ejercicio
C1: PROGRAMA DE ENTREGAS
A5: MUNICIPIO MEXICALI | C5: ABRIL | E5: MAYO | G5: JUNIO | I5: JULIO | K5: AGOSTO | M5: SEPTIEMBRE | O5: OCTUBRE | Q5: NOVIEMBRE | S5: DICIEMBRE | U5: TOTAL
A6: UNIDAD / PEDIDO | C6: MINIMO | D6: MAXIMO | E6: MINIMO | F6: MAXIMO | G6: MINIMO | H6: MAXIMO | I6: MINIMO | J6: MAXIMO | K6: MINIMO | L6: MAXIMO | M6: MINIMO | N6: MAXIMO | O6: MINIMO | P6: MAXIMO | Q6: MINIMO | R6: MAXIMO | S6: MINIMO | T6: MAXIMO | U6: MINIMO | V6: MAXIMO | W6: REV.
A7: ATAUD METALICO | D7: 124 | U7: =SUM(C7,E7,G7,I7,K7,M7,O7,Q7,S7) -> 0 | V7: =SUM(D7,F7,H7,J7,L7,N7,P7,R7,T7) -> 124 | W7: =C7+E7+G7+I7+K7+M7+O7+Q7+S7-U7 -> 0 | X7: =D7+F7+H7+J7+L7+N7+P7+R7+T7-V7 -> 0
A8: ATAUD MADERA ADULTO | D8: 120 | U8: =SUM(C8,E8,G8,I8,K8,M8,O8,Q8,S8) -> 0 | V8: =SUM(D8,F8,H8,J8,L8,N8,P8,R8,T8) -> 120 | W8: =C8+E8+G8+I8+K8+M8+O8+Q8+S8-U8 -> 0 | X8: =D8+F8+H8+J8+L8+N8+P8+R8+T8-V8 -> 0
A9: ATAUD 1-24 PLANO | D9: 10 | U9: =SUM(C9,E9,G9,I9,K9,M9,O9,Q9,S9) -> 0 | V9: =SUM(D9,F9,H9,J9,L9,N9,P9,R9,T9) -> 10 | W9: =C9+E9+G9+I9+K9+M9+O9+Q9+S9-U9 -> 0 | X9: =D9+F9+H9+J9+L9+N9+P9+R9+T9-V9 -> 0
A10: ATAUD 1-36 PLANO | D10: 20 | U10: =SUM(C10,E10,G10,I10,K10,M10,O10,Q10,S10) -> 0 | V10: =SUM(D10,F10,H10,J10,L10,N10,P10,R10,T10) -> 20 | W10: =C10+E10+G10+I10+K10+M10+O10+Q10+S10-U10 -> 0 | X10: =D10+F10+H10+J10+L10+N10+P10+R10+T10-V10 -> 0
A11: ATAUD 3-24 OCHAVADO | D11: 10 | U11: =SUM(C11,E11,G11,I11,K11,M11,O11,Q11,S11) -> 0 | V11: =SUM(D11,F11,H11,J11,L11,N11,P11,R11,T11) -> 10 | W11: =C11+E11+G11+I11+K11+M11+O11+Q11+S11-U11 -> 0 | X11: =D11+F11+H11+J11+L11+N11+P11+R11+T11-V11 -> 0
A12: ATAUD 3-36 OCHAVADO | D12: 20 | U12: =SUM(C12,E12,G12,I12,K12,M12,O12,Q12,S12) -> 0 | V12: =SUM(D12,F12,H12,J12,L12,N12,P12,R12,T12) -> 20 | W12: =C12+E12+G12+I12+K12+M12+O12+Q12+S12-U12 -> 0 | X12: =D12+F12+H12+J12+L12+N12+P12+R12+T12-V12 -> 0

Sheet MEXICALI
C1: PROGRAMA DE ENTREGAS
A5: MUNICIPIO MEXICALI | C5: ABRIL | E5: MAYO | G5: JUNIO | I5: JULIO | K5: AGOSTO | M5: SEPTIEMBRE | O5: OCTUBRE | Q5: NOVIEMBRE | S5: DICIEMBRE | U5: TOTAL
A6: UNIDAD / PEDIDO | C6: MINIMO | D6: MAXIMO | E6: MINIMO | F6: MAXIMO | G6: MINIMO | H6: MAXIMO | I6: MINIMO | J6: MAXIMO | K6: MINIMO | L6: MAXIMO | M6: MINIMO | N6: MAXIMO | O6: MINIMO | P6: MAXIMO | Q6: MINIMO | R6: MAXIMO | S6: MINIMO | T6: MAXIMO | U6: MINIMO | V6: MAXIMO | W6: REV.
A7: ATAUD METALICO | C7: 17 | D7: 20 | E7: 13 | F7: 15 | G7: 18 | H7: 20 | I7: 20 | J7: 25 | K7: 16 | L7: 15 | M7: 10 | N7: 11 | O7: 10 | P7: 12 | Q7: 10 | R7: 12 | S7: 14 | T7: 15 | U7: =SUM(C7,E7,G7,I7,K7,M7,O7,Q7,S7) -> 128 | V7: =SUM(D7,F7,H7,J7,L7,N7,P7,R7,T7) -> 145 | W7: =C7+E7+G7+I7+K7+M7+O7+Q7+S7-U7 -> 0 | X7: =D7+F7+H7+J7+L7+N7+P7+R7+T7-V7 -> 0
A8: ATAUD MADERA ADULTO | C8: 10 | D8: 13 | E8: 5 | F8: 8 | G8: 10 | H8: 13 | I8: 7 | J8: 10 | K8: 10 | L8: 13 | M8: 7 | N8: 10 | O8: 7 | P8: 10 | Q8: 7 | R8: 14 | S8: 15 | T8: 20 | U8: =SUM(C8,E8,G8,I8,K8,M8,O8,Q8,S8) -> 78 | V8: =SUM(D8,F8,H8,J8,L8,N8,P8,R8,T8) -> 111 | W8: =C8+E8+G8+I8+K8+M8+O8+Q8+S8-U8 -> 0 | X8: =D8+F8+H8+J8+L8+N8+P8+R8+T8-V8 -> 0
A9: ATAUD 1-24 PLANO | C9: 1 | D9: 2 | E9: 1 | F9: 1 | G9: 1 | H9: 2 | I9: 1 | J9: 1 | K9: 1 | L9: 1 | M9: 1 | N9: 1 | O9: 1 | P9: 2 | Q9: 1 | R9: 2 | S9: 1 | T9: 2 | U9: =SUM(C9,E9,G9,I9,K9,M9,O9,Q9,S9) -> 9 | V9: =SUM(D9,F9,H9,J9,L9,N9,P9,R9,T9) -> 14 | W9: =C9+E9+G9+I9+K9+M9+O9+Q9+S9-U9 -> 0 | X9: =D9+F9+H9+J9+L9+N9+P9+R9+T9-V9 -> 0
A10: ATAUD 1-36 PLANO | C10: 1 | D10: 1 | E10: 0 | F10: 0 | G10: 0 | H10: 0 | I10: 2 | J10: 3 | K10: 0 | L10: 0 | M10: 0 | N10: 0 | O10: 0 | P10: 0 | Q10: 0 | R10: 0 | S10: 0 | T10: 0 | U10: =SUM(C10,E10,G10,I10,K10,M10,O10,Q10,S10) -> 3 | V10: =SUM(D10,F10,H10,J10,L10,N10,P10,R10,T10) -> 4 | W10: =C10+E10+G10+I10+K10+M10+O10+Q10+S10-U10 -> 0 | X10: =D10+F10+H10+J10+L10+N10+P10+R10+T10-V10 -> 0
A11: ATAUD 3-24 OCHAVADO | C11: 0 | D11: 0 | E11: 0 | F11: 0 | G11: 2 | H11: 5 | I11: 0 | J11: 0 | K11: 0 | L11: 0 | M11: 3 | N11: 6 | O11: 0 | P11: 0 | Q11: 0 | R11: 0 | S11: 0 | T11: 0 | U11: =SUM(C11,E11,G11,I11,K11,M11,O11,Q11,S11) -> 5 | V11: =SUM(D11,F11,H11,J11,L11,N11,P11,R11,T11) -> 11 | W11: =C11+E11+G11+I11+K11+M11+O11+Q11+S11-U11 -> 0 | X11: =D11+F11+H11+J11+L11+N11+P11+R11+T11-V11 -> 0
A12: ATAUD 3-36 OCHAVADO | C12: 0 | D12: 0 | E12: 0 | F12: 0 | G12: 0 | H12: 0 | I12: 0 | J12: 0 | K12: 2 | L12: 3 | M12: 0 | N12: 0 | O12: 0 | P12: 0 | Q12: 0 | R12: 0 | S12: 0 | T12: 0 | U12: =SUM(C12,E12,G12,I12,K12,M12,O12,Q12,S12) -> 2 | V12: =SUM(D12,F12,H12,J12,L12,N12,P12,R12,T12) -> 3 | W12: =C12+E12+G12+I12+K12+M12+O12+Q12+S12-U12 -> 0 | X12: =D12+F12+H12+J12+L12+N12+P12+R12+T12-V12 -> 0

Sheet TECATE
C1: PROGRAMA DE ENTREGAS
A5: MUNICIPIO TECATE | C5: ABRIL | E5: MAYO | G5: JUNIO | I5: JULIO | K5: AGOSTO | M5: SEPTIEMBRE | O5: OCTUBRE | Q5: NOVIEMBRE | S5: DICIEMBRE | U5: TOTAL
A6: UNIDAD / PEDIDO | C6: MINIMO | D6: MAXIMO | E6: MINIMO | F6: MAXIMO | G6: MINIMO | H6: MAXIMO | I6: MINIMO | J6: MAXIMO | K6: MINIMO | L6: MAXIMO | M6: MINIMO | N6: MAXIMO | O6: MINIMO | P6: MAXIMO | Q6: MINIMO | R6: MAXIMO | S6: MINIMO | T6: MAXIMO | U6: MINIMO | V6: MAXIMO | W6: REV.
A7: ATAUD METALICO | C7: 8 | D7: 10 | E7: 10 | F7: 12 | G7: 10 | H7: 12 | I7: 10 | J7: 12 | K7: 10 | L7: 12 | M7: 10 | N7: 12 | O7: 8 | P7: 10 | Q7: 10 | R7: 10 | S7: 12 | T7: 15 | U7: =SUM(C7,E7,G7,I7,K7,M7,O7,Q7,S7) -> 88 | V7: =SUM(D7,F7,H7,J7,L7,N7,P7,R7,T7) -> 105 | W7: =C7+E7+G7+I7+K7+M7+O7+Q7+S7-U7 -> 0 | X7: =D7+F7+H7+J7+L7+N7+P7+R7+T7-V7 -> 0
A8: ATAUD MADERA ADULTO | C8: 8 | D8: 10 | E8: 8 | F8: 10 | G8: 8 | H8: 10 | I8: 8 | J8: 10 | K8: 8 | L8: 10 | M8: 6 | N8: 9 | O8: 8 | P8: 10 | Q8: 8 | R8: 10 | S8: 8 | T8: 10 | U8: =SUM(C8,E8,G8,I8,K8,M8,O8,Q8,S8) -> 70 | V8: =SUM(D8,F8,H8,J8,L8,N8,P8,R8,T8) -> 89 | W8: =C8+E8+G8+I8+K8+M8+O8+Q8+S8-U8 -> 0 | X8: =D8+F8+H8+J8+L8+N8+P8+R8+T8-V8 -> 0
A9: ATAUD 1-24 PLANO | C9: 1 | D9: 2 | E9: 0 | F9: 0 | G9: 0 | H9: 0 | I9: 2 | J9: 2 | K9: 2 | L9: 2 | M9: 1 | N9: 1 | O9: 2 | P9: 2 | Q9: 0 | R9: 0 | S9: 1 | T9: 1 | U9: =SUM(C9,E9,G9,I9,K9,M9,O9,Q9,S9) -> 9 | V9: =SUM(D9,F9,H9,J9,L9,N9,P9,R9,T9) -> 10 | W9: =C9+E9+G9+I9+K9+M9+O9+Q9+S9-U9 -> 0 | X9: =D9+F9+H9+J9+L9+N9+P9+R9+T9-V9 -> 0
A10: ATAUD 1-36 PLANO | C10: 0 | D10: 0 | E10: 0 | F10: 0 | G10: 1 | H10: 2 | I10: 0 | J10: 0 | K10: 0 | L10: 0 | M10: 0 | N10: 0 | O10: 0 | P10: 0 | Q10: 0 | R10: 0 | S10: 0 | T10: 0 | U10: =SUM(C10,E10,G10,I10,K10,M10,O10,Q10,S10) -> 1 | V10: =SUM(D10,F10,H10,J10,L10,N10,P10,R10,T10) -> 2 | W10: =C10+E10+G10+I10+K10+M10+O10+Q10+S10-U10 -> 0 | X10: =D10+F10+H10+J10+L10+N10+P10+R10+T10-V10 -> 0
A11: ATAUD 3-24 OCHAVADO | C11: 0 | D11: 0 | E11: 2 | F11: 5 | G11: 0 | H11: 0 | I11: 0 | J11: 0 | K11: 0 | L11: 0 | M11: 3 | N11: 5 | O11: 0 | P11: 0 | Q11: 0 | R11: 0 | S11: 0 | T11: 0 | U11: =SUM(C11,E11,G11,I11,K11,M11,O11,Q11,S11) -> 5 | V11: =SUM(D11,F11,H11,J11,L11,N11,P11,R11,T11) -> 10 | W11: =C11+E11+G11+I11+K11+M11+O11+Q11+S11-U11 -> 0 | X11: =D11+F11+H11+J11+L11+N11+P11+R11+T11-V11 -> 0
A12: ATAUD 3-36 OCHAVADO | C12: 0 | D12: 0 | E12: 3 | F12: 4 | G12: 0 | H12: 0 | I12: 0 | J12: 0 | K12: 0 | L12: 0 | M12: 0 | N12: 0 | O12: 0 | P12: 0 | Q12: 0 | R12: 0 | S12: 0 | T12: 0 | U12: =SUM(C12,E12,G12,I12,K12,M12,O12,Q12,S12) -> 3 | V12: =SUM(D12,F12,H12,J12,L12,N12,P12,R12,T12) -> 4 | W12: =C12+E12+G12+I12+K12+M12+O12+Q12+S12-U12 -> 0 | X12: =D12+F12+H12+J12+L12+N12+P12+R12+T12-V12 -> 0

Sheet ENSENADA
C1: PROGRAMA DE ENTREGAS
A5: MUNICIPIO ENSENADA | C5: ABRIL | E5: MAYO | G5: JUNIO | I5: JULIO | K5: AGOSTO | M5: SEPTIEMBRE | O5: OCTUBRE | Q5: NOVIEMBRE | S5: DICIEMBRE | U5: TOTAL
A6: UNIDAD / PEDIDO | C6: MINIMO | D6: MAXIMO | E6: MINIMO | F6: MAXIMO | G6: MINIMO | H6: MAXIMO | I6: MINIMO | J6: MAXIMO | K6: MINIMO | L6: MAXIMO | M6: MINIMO | N6: MAXIMO | O6: MINIMO | P6: MAXIMO | Q6: MINIMO | R6: MAXIMO | S6: MINIMO | T6: MAXIMO | U6: MINIMO | V6: MAXIMO | W6: REV.
A7: ATAUD METALICO | C7: 26 | D7: 30 | E7: 26 | F7: 30 | G7: 26 | H7: 30 | I7: 26 | J7: 30 | K7: 26 | L7: 30 | M7: 26 | N7: 30 | O7: 26 | P7: 30 | Q7: 26 | R7: 30 | S7: 35 | T7: 37 | U7: =SUM(C7,E7,G7,I7,K7,M7,O7,Q7,S7) -> 243 | V7: =SUM(D7,F7,H7,J7,L7,N7,P7,R7,T7) -> 277 | W7: =C7+E7+G7+I7+K7+M7+O7+Q7+S7-U7 -> 0 | X7: =D7+F7+H7+J7+L7+N7+P7+R7+T7-V7 -> 0
A8: ATAUD MADERA ADULTO | C8: 15 | D8: 18 | E8: 15 | F8: 18 | G8: 15 | H8: 20 | I8: 20 | J8: 23 | K8: 10 | L8: 13 | M8: 12 | N8: 21 | O8: 18 | P8: 20 | Q8: 15 | R8: 18 | S8: 15 | T8: 20 | U8: =SUM(C8,E8,G8,I8,K8,M8,O8,Q8,S8) -> 135 | V8: =SUM(D8,F8,H8,J8,L8,N8,P8,R8,T8) -> 171 | W8: =C8+E8+G8+I8+K8+M8+O8+Q8+S8-U8 -> 0 | X8: =D8+F8+H8+J8+L8+N8+P8+R8+T8-V8 -> 0
A9: ATAUD 1-24 PLANO | C9: 1 | D9: 1 | E9: 1 | F9: 1 | G9: 1 | H9: 1 | I9: 1 | J9: 1 | K9: 1 | L9: 2 | M9: 1 | N9: 1 | O9: 1 | P9: 1 | Q9: 1 | R9: 1 | S9: 1 | T9: 1 | U9: =SUM(C9,E9,G9,I9,K9,M9,O9,Q9,S9) -> 9 | V9: =SUM(D9,F9,H9,J9,L9,N9,P9,R9,T9) -> 10 | W9: =C9+E9+G9+I9+K9+M9+O9+Q9+S9-U9 -> 0 | X9: =D9+F9+H9+J9+L9+N9+P9+R9+T9-V9 -> 0
A10: ATAUD 1-36 PLANO | C10: 0 | D10: 0 | E10: 0 | F10: 0 | G10: 2 | H10: 3 | I10: 0 | J10: 0 | K10: 0 | L10: 0 | M10: 0 | N10: 0 | O10: 0 | P10: 0 | Q10: 0 | R10: 0 | S10: 0 | T10: 0 | U10: =SUM(C10,E10,G10,I10,K10,M10,O10,Q10,S10) -> 2 | V10: =SUM(D10,F10,H10,J10,L10,N10,P10,R10,T10) -> 3 | W10: =C10+E10+G10+I10+K10+M10+O10+Q10+S10-U10 -> 0 | X10: =D10+F10+H10+J10+L10+N10+P10+R10+T10-V10 -> 0
A11: ATAUD 3-24 OCHAVADO | C11: 0 | D11: 0 | E11: 0 | F11: 0 | G11: 2 | H11: 3 | I11: 3 | J11: 5 | K11: 0 | L11: 0 | M11: 0 | N11: 0 | O11: 0 | P11: 0 | Q11: 2 | R11: 3 | S11: 0 | T11: 0 | U11: =SUM(C11,E11,G11,I11,K11,M11,O11,Q11,S11) -> 7 | V11: =SUM(D11,F11,H11,J11,L11,N11,P11,R11,T11) -> 11 | W11: =C11+E11+G11+I11+K11+M11+O11+Q11+S11-U11 -> 0 | X11: =D11+F11+H11+J11+L11+N11+P11+R11+T11-V11 -> 0
A12: ATAUD 3-36 OCHAVADO | C12: 0 | D12: 0 | E12: 0 | F12: 0 | G12: 0 | H12: 0 | I12: 0 | J12: 0 | K12: 0 | L12: 0 | M12: 0 | N12: 0 | O12: 0 | P12: 0 | Q12: 0 | R12: 0 | S12: 0 | T12: 0 | U12: =SUM(C12,E12,G12,I12,K12,M12,O12,Q12,S12) -> 0 | V12: =SUM(D12,F12,H12,J12,L12,N12,P12,R12,T12) -> 0 | W12: =C12+E12+G12+I12+K12+M12+O12+Q12+S12-U12 -> 0 | X12: =D12+F12+H12+J12+L12+N12+P12+R12+T12-V12 -> 0

Sheet TIJUANA
C1: PROGRAMA DE ENTREGAS
A5: MUNICIPIO TIJUANA | C5: ABRIL | E5: MAYO | G5: JUNIO | I5: JULIO | K5: AGOSTO | M5: SEPTIEMBRE | O5: OCTUBRE | Q5: NOVIEMBRE | S5: DICIEMBRE | U5: TOTAL
A6: UNIDAD / PEDIDO | C6: MINIMO | D6: MAXIMO | E6: MINIMO | F6: MAXIMO | G6: MINIMO | H6: MAXIMO | I6: MINIMO | J6: MAXIMO | K6: MINIMO | L6: MAXIMO | M6: MINIMO | N6: MAXIMO | O6: MINIMO | P6: MAXIMO | Q6: MINIMO | R6: MAXIMO | S6: MINIMO | T6: MAXIMO | U6: MINIMO | V6: MAXIMO | W6: REV.
A7: ATAUD METALICO | C7: 5 | D7: 6 | E7: 5 | F7: 6 | G7: 3 | H7: 5 | I7: 3 | J7: 5 | K7: 5 | L7: 6 | M7: 3 | N7: 4 | O7: 3 | P7: 4 | Q7: 5 | R7: 6 | S7: 6 | T7: 7 | U7: =SUM(C7,E7,G7,I7,K7,M7,O7,Q7,S7) -> 38 | V7: =SUM(D7,F7,H7,J7,L7,N7,P7,R7,T7) -> 49 | W7: =C7+E7+G7+I7+K7+M7+O7+Q7+S7-U7 -> 0 | X7: =D7+F7+H7+J7+L7+N7+P7+R7+T7-V7 -> 0
A8: ATAUD MADERA ADULTO | C8: 8 | D8: 9 | E8: 5 | F8: 6 | G8: 4 | H8: 5 | I8: 3 | J8: 6 | K8: 4 | L8: 5 | M8: 4 | N8: 4 | O8: 4 | P8: 5 | Q8: 4 | R8: 5 | S8: 4 | T8: 5 | U8: =SUM(C8,E8,G8,I8,K8,M8,O8,Q8,S8) -> 40 | V8: =SUM(D8,F8,H8,J8,L8,N8,P8,R8,T8) -> 50 | W8: =C8+E8+G8+I8+K8+M8+O8+Q8+S8-U8 -> 0 | X8: =D8+F8+H8+J8+L8+N8+P8+R8+T8-V8 -> 0
A9: ATAUD 1-24 PLANO | C9: 0 | D9: 0 | E9: 0 | F9: 0 | G9: 0 | H9: 0 | I9: 0 | J9: 0 | K9: 0 | L9: 0 | M9: 0 | N9: 0 | O9: 3 | P9: 5 | Q9: 0 | R9: 0 | S9: 0 | T9: 0 | U9: =SUM(C9,E9,G9,I9,K9,M9,O9,Q9,S9) -> 3 | V9: =SUM(D9,F9,H9,J9,L9,N9,P9,R9,T9) -> 5 | W9: =C9+E9+G9+I9+K9+M9+O9+Q9+S9-U9 -> 0 | X9: =D9+F9+H9+J9+L9+N9+P9+R9+T9-V9 -> 0
A10: ATAUD 1-36 PLANO | C10: 0 | D10: 0 | E10: 1 | F10: 1 | G10: 0 | H10: 0 | I10: 0 | J10: 0 | K10: 0 | L10: 0 | M10: 0 | N10: 0 | O10: 0 | P10: 0 | Q10: 0 | R10: 0 | S10: 0 | T10: 0 | U10: =SUM(C10,E10,G10,I10,K10,M10,O10,Q10,S10) -> 1 | V10: =SUM(D10,F10,H10,J10,L10,N10,P10,R10,T10) -> 1 | W10: =C10+E10+G10+I10+K10+M10+O10+Q10+S10-U10 -> 0 | X10: =D10+F10+H10+J10+L10+N10+P10+R10+T10-V10 -> 0
A11: ATAUD 3-24 OCHAVADO | C11: 0 | D11: 0 | E11: 0 | F11: 0 | G11: 0 | H11: 0 | I11: 0 | J11: 0 | K11: 5 | L11: 6 | M11: 0 | N11: 0 | O11: 0 | P11: 0 | Q11: 0 | R11: 0 | S11: 0 | T11: 0 | U11: =SUM(C11,E11,G11,I11,K11,M11,O11,Q11,S11) -> 5 | V11: =SUM(D11,F11,H11,J11,L11,N11,P11,R11,T11) -> 6 | W11: =C11+E11+G11+I11+K11+M11+O11+Q11+S11-U11 -> 0 | X11: =D11+F11+H11+J11+L11+N11+P11+R11+T11-V11 -> 0
A12: ATAUD 3-36 OCHAVADO | C12: 0 | D12: 0 | E12: 1 | F12: 1 | G12: 0 | H12: 0 | I12: 0 | J12: 0 | K12: 0 | L12: 0 | M12: 0 | N12: 0 | O12: 0 | P12: 0 | Q12: 0 | R12: 0 | S12: 0 | T12: 0 | U12: =SUM(C12,E12,G12,I12,K12,M12,O12,Q12,S12) -> 1 | V12: =SUM(D12,F12,H12,J12,L12,N12,P12,R12,T12) -> 1 | W12: =C12+E12+G12+I12+K12+M12+O12+Q12+S12-U12 -> 0 | X12: =D12+F12+H12+J12+L12+N12+P12+R12+T12-V12 -> 0

Sheet SAN QUINTÍN
C1: PROGRAMA DE ENTREGAS
A5: MUNICIPIO SAN QUINTIN | C5: ABRIL | E5: MAYO | G5: JUNIO | I5: JULIO | K5: AGOSTO | M5: SEPTIEMBRE | O5: OCTUBRE | Q5: NOVIEMBRE | S5: DICIEMBRE | U5: TOTAL
A6: UNIDAD / PEDIDO | C6: MINIMO | D6: MAXIMO | E6: MINIMO | F6: MAXIMO | G6: MINIMO | H6: MAXIMO | I6: MINIMO | J6: MAXIMO | K6: MINIMO | L6: MAXIMO | M6: MINIMO | N6: MAXIMO | O6: MINIMO | P6: MAXIMO | Q6: MINIMO | R6: MAXIMO | S6: MINIMO | T6: MAXIMO | U6: MINIMO | V6: MAXIMO | W6: REV.
A7: ATAUD METALICO | C7: 6 | D7: 15 | E7: 5 | F7: 15 | G7: 8 | H7: 15 | I7: 12 | J7: 20 | K7: 12 | L7: 13 | M7: 8 | N7: 15 | O7: 8 | P7: 12 | Q7: 8 | R7: 12 | S7: 12 | T7: 16 | U7: =SUM(C7,E7,G7,I7,K7,M7,O7,Q7,S7) -> 79 | V7: =SUM(D7,F7,H7,J7,L7,N7,P7,R7,T7) -> 133 | W7: =C7+E7+G7+I7+K7+M7+O7+Q7+S7-U7 -> 0 | X7: =D7+F7+H7+J7+L7+N7+P7+R7+T7-V7 -> 0
A8: ATAUD MADERA ADULTO | C8: 5 | D8: 10 | E8: 5 | F8: 6 | G8: 5 | H8: 8 | I8: 8 | J8: 10 | K8: 8 | L8: 13 | M8: 8 | N8: 10 | O8: 8 | P8: 10 | Q8: 5 | R8: 7 | S8: 5 | T8: 10 | U8: =SUM(C8,E8,G8,I8,K8,M8,O8,Q8,S8) -> 57 | V8: =SUM(D8,F8,H8,J8,L8,N8,P8,R8,T8) -> 84 | W8: =C8+E8+G8+I8+K8+M8+O8+Q8+S8-U8 -> 0 | X8: =D8+F8+H8+J8+L8+N8+P8+R8+T8-V8 -> 0
A9: ATAUD 1-24 PLANO | C9: 1 | D9: 2 | E9: 0 | F9: 0 | G9: 1 | H9: 2 | I9: 1 | J9: 2 | K9: 0 | L9: 0 | M9: 0 | N9: 0 | O9: 1 | P9: 2 | Q9: 0 | R9: 0 | S9: 2 | T9: 2 | U9: =SUM(C9,E9,G9,I9,K9,M9,O9,Q9,S9) -> 6 | V9: =SUM(D9,F9,H9,J9,L9,N9,P9,R9,T9) -> 10 | W9: =C9+E9+G9+I9+K9+M9+O9+Q9+S9-U9 -> 0 | X9: =D9+F9+H9+J9+L9+N9+P9+R9+T9-V9 -> 0
A10: ATAUD 1-36 PLANO | C10: 0 | D10: 0 | E10: 0 | F10: 0 | G10: 0 | H10: 0 | I10: 0 | J10: 0 | K10: 0 | L10: 0 | M10: 0 | N10: 0 | O10: 0 | P10: 0 | Q10: 0 | R10: 0 | S10: 0 | T10: 0 | U10: =SUM(C10,E10,G10,I10,K10,M10,O10,Q10,S10) -> 0 | V10: =SUM(D10,F10,H10,J10,L10,N10,P10,R10,T10) -> 0 | W10: =C10+E10+G10+I10+K10+M10+O10+Q10+S10-U10 -> 0 | X10: =D10+F10+H10+J10+L10+N10+P10+R10+T10-V10 -> 0
A11: ATAUD 3-24 OCHAVADO | C11: 0 | D11: 0 | E11: 0 | F11: 0 | G11: 4 | H11: 7 | I11: 0 | J11: 0 | K11: 0 | L11: 0 | M11: 0 | N11: 0 | O11: 0 | P11: 0 | Q11: 5 | R11: 8 | S11: 0 | T11: 0 | U11: =SUM(C11,E11,G11,I11,K11,M11,O11,Q11,S11) -> 9 | V11: =SUM(D11,F11,H11,J11,L11,N11,P11,R11,T11) -> 15 | W11: =C11+E11+G11+I11+K11+M11+O11+Q11+S11-U11 -> 0 | X11: =D11+F11+H11+J11+L11+N11+P11+R11+T11-V11 -> 0
A12: ATAUD 3-36 OCHAVADO | C12: 0 | D12: 0 | E12: 0 | F12: 0 | G12: 0 | H12: 0 | I12: 0 | J12: 0 | K12: 0 | L12: 0 | M12: 0 | N12: 0 | O12: 0 | P12: 0 | Q12: 0 | R12: 0 | S12: 0 | T12: 0 | U12: =SUM(C12,E12,G12,I12,K12,M12,O12,Q12,S12) -> 0 | V12: =SUM(D12,F12,H12,J12,L12,N12,P12,R12,T12) -> 0 | W12: =C12+E12+G12+I12+K12+M12+O12+Q12+S12-U12 -> 0 | X12: =D12+F12+H12+J12+L12+N12+P12+R12+T12-V12 -> 0

Sheet SAN FELIPE
C1: PROGRAMA DE ENTREGAS
A5: MUNICIPIO SAN FELIPE | C5: ABRIL | E5: MAYO | G5: JUNIO | I5: JULIO | K5: AGOSTO | M5: SEPTIEMBRE | O5: OCTUBRE | Q5: NOVIEMBRE | S5: DICIEMBRE | U5: TOTAL
A6: UNIDAD / PEDIDO | C6: MINIMO | D6: MAXIMO | E6: MINIMO | F6: MAXIMO | G6: MINIMO | H6: MAXIMO | I6: MINIMO | J6: MAXIMO | K6: MINIMO | L6: MAXIMO | M6: MINIMO | N6: MAXIMO | O6: MINIMO | P6: MAXIMO | Q6: MINIMO | R6: MAXIMO | S6: MINIMO | T6: MAXIMO | U6: MINIMO | V6: MAXIMO | W6: REV.
A7: ATAUD METALICO | C7: 3 | D7: 4 | E7: 0 | F7: 0 | G7: 6 | H7: 8 | I7: 6 | J7: 8 | K7: 0 | L7: 0 | M7: 0 | N7: 0 | O7: 0 | P7: 0 | Q7: 0 | R7: 0 | S7: 6 | T7: 7 | U7: =SUM(C7,E7,G7,I7,K7,M7,O7,Q7,S7) -> 21 | V7: =SUM(D7,F7,H7,J7,L7,N7,P7,R7,T7) -> 27 | W7: =C7+E7+G7+I7+K7+M7+O7+Q7+S7-U7 -> 0 | X7: =D7+F7+H7+J7+L7+N7+P7+R7+T7-V7 -> 0
A8: ATAUD MADERA ADULTO | C8: 4 | D8: 5 | E8: 0 | F8: 0 | G8: 0 | H8: 0 | I8: 4 | J8: 5 | K8: 0 | L8: 0 | M8: 0 | N8: 0 | O8: 0 | P8: 0 | Q8: 0 | R8: 0 | S8: 0 | T8: 0 | U8: =SUM(C8,E8,G8,I8,K8,M8,O8,Q8,S8) -> 8 | V8: =SUM(D8,F8,H8,J8,L8,N8,P8,R8,T8) -> 10 | W8: =C8+E8+G8+I8+K8+M8+O8+Q8+S8-U8 -> 0 | X8: =D8+F8+H8+J8+L8+N8+P8+R8+T8-V8 -> 0
A9: ATAUD 1-24 PLANO | C9: 0 | D9: 0 | E9: 0 | F9: 0 | G9: 0 | H9: 0 | I9: 0 | J9: 0 | K9: 0 | L9: 0 | M9: 0 | N9: 0 | O9: 0 | P9: 0 | Q9: 0 | R9: 0 | S9: 0 | T9: 0 | U9: =SUM(C9,E9,G9,I9,K9,M9,O9,Q9,S9) -> 0 | V9: =SUM(D9,F9,H9,J9,L9,N9,P9,R9,T9) -> 0 | W9: =C9+E9+G9+I9+K9+M9+O9+Q9+S9-U9 -> 0 | X9: =D9+F9+H9+J9+L9+N9+P9+R9+T9-V9 -> 0
A10: ATAUD 1-36 PLANO | C10: 0 | D10: 0 | E10: 0 | F10: 0 | G10: 0 | H10: 0 | I10: 0 | J10: 0 | K10: 0 | L10: 0 | M10: 0 | N10: 0 | O10: 0 | P10: 0 | Q10: 0 | R10: 0 | S10: 0 | T10: 0 | U10: =SUM(C10,E10,G10,I10,K10,M10,O10,Q10,S10) -> 0 | V10: =SUM(D10,F10,H10,J10,L10,N10,P10,R10,T10) -> 0 | W10: =C10+E10+G10+I10+K10+M10+O10+Q10+S10-U10 -> 0 | X10: =D10+F10+H10+J10+L10+N10+P10+R10+T10-V10 -> 0
A11: ATAUD 3-24 OCHAVADO | C11: 0 | D11: 0 | E11: 3 | F11: 4 | G11: 0 | H11: 0 | I11: 0 | J11: 0 | K11: 0 | L11: 0 | M11: 0 | N11: 0 | O11: 0 | P11: 0 | Q11: 0 | R11: 0 | S11: 0 | T11: 0 | U11: =SUM(C11,E11,G11,I11,K11,M11,O11,Q11,S11) -> 3 | V11: =SUM(D11,F11,H11,J11,L11,N11,P11,R11,T11) -> 4 | W11: =C11+E11+G11+I11+K11+M11+O11+Q11+S11-U11 -> 0 | X11: =D11+F11+H11+J11+L11+N11+P11+R11+T11-V11 -> 0
A12: ATAUD 3-36 OCHAVADO | C12: 0 | D12: 0 | E12: 0 | F12: 0 | G12: 0 | H12: 0 | I12: 0 | J12: 0 | K12: 0 | L12: 0 | M12: 0 | N12: 0 | O12: 0 | P12: 0 | Q12: 0 | R12: 0 | S12: 0 | T12: 0 | U12: =SUM(C12,E12,G12,I12,K12,M12,O12,Q12,S12) -> 0 | V12: =SUM(D12,F12,H12,J12,L12,N12,P12,R12,T12) -> 0 | W12: =C12+E12+G12+I12+K12+M12+O12+Q12+S12-U12 -> 0 | X12: =D12+F12+H12+J12+L12+N12+P12+R12+T12-V12 -> 0

Sheet ROSARITO
C1: PROGRAMA DE ENTREGAS
A5: MUNICIPIO ROSARITO | C5: ABRIL | E5: MAYO | G5: JUNIO | I5: JULIO | K5: AGOSTO | M5: SEPTIEMBRE | O5: OCTUBRE | Q5: NOVIEMBRE | S5: DICIEMBRE | U5: TOTAL
A6: UNIDAD / PEDIDO | C6: MINIMO | D6: MAXIMO | E6: MINIMO | F6: MAXIMO | G6: MINIMO | H6: MAXIMO | I6: MINIMO | J6: MAXIMO | K6: MINIMO | L6: MAXIMO | M6: MINIMO | N6: MAXIMO | O6: MINIMO | P6: MAXIMO | Q6: MINIMO | R6: MAXIMO | S6: MINIMO | T6: MAXIMO | U6: MINIMO | V6: MAXIMO | W6: REV.
A7: ATAUD METALICO | C7: 1 | D7: 1 | E7: 0 | F7: 0 | G7: 0 | H7: 0 | I7: 0 | J7: 0 | K7: 0 | L7: 0 | M7: 0 | N7: 0 | O7: 0 | P7: 0 | Q7: 0 | R7: 0 | S7: 0 | T7: 0 | U7: =SUM(C7,E7,G7,I7,K7,M7,O7,Q7,S7) -> 1 | V7: =SUM(D7,F7,H7,J7,L7,N7,P7,R7,T7) -> 1 | W7: =C7+E7+G7+I7+K7+M7+O7+Q7+S7-U7 -> 0 | X7: =D7+F7+H7+J7+L7+N7+P7+R7+T7-V7 -> 0
A8: ATAUD MADERA ADULTO | C8: 1 | D8: 1 | E8: 0 | F8: 0 | G8: 0 | H8: 0 | I8: 0 | J8: 0 | K8: 0 | L8: 0 | M8: 0 | N8: 0 | O8: 0 | P8: 0 | Q8: 0 | R8: 0 | S8: 0 | T8: 0 | U8: =SUM(C8,E8,G8,I8,K8,M8,O8,Q8,S8) -> 1 | V8: =SUM(D8,F8,H8,J8,L8,N8,P8,R8,T8) -> 1 | W8: =C8+E8+G8+I8+K8+M8+O8+Q8+S8-U8 -> 0 | X8: =D8+F8+H8+J8+L8+N8+P8+R8+T8-V8 -> 0
A9: ATAUD 1-24 PLANO | C9: 0 | D9: 0 | E9: 0 | F9: 0 | G9: 0 | H9: 0 | I9: 0 | J9: 0 | K9: 0 | L9: 0 | M9: 0 | N9: 0 | O9: 0 | P9: 0 | Q9: 0 | R9: 0 | S9: 0 | T9: 0 | U9: =SUM(C9,E9,G9,I9,K9,M9,O9,Q9,S9) -> 0 | V9: =SUM(D9,F9,H9,J9,L9,N9,P9,R9,T9) -> 0 | W9: =C9+E9+G9+I9+K9+M9+O9+Q9+S9-U9 -> 0 | X9: =D9+F9+H9+J9+L9+N9+P9+R9+T9-V9 -> 0
A10: ATAUD 1-36 PLANO | C10: 0 | D10: 0 | E10: 0 | F10: 0 | G10: 0 | H10: 0 | I10: 0 | J10: 0 | K10: 0 | L10: 0 | M10: 0 | N10: 0 | O10: 0 | P10: 0 | Q10: 0 | R10: 0 | S10: 0 | T10: 0 | U10: =SUM(C10,E10,G10,I10,K10,M10,O10,Q10,S10) -> 0 | V10: =SUM(D10,F10,H10,J10,L10,N10,P10,R10,T10) -> 0 | W10: =C10+E10+G10+I10+K10+M10+O10+Q10+S10-U10 -> 0 | X10: =D10+F10+H10+J10+L10+N10+P10+R10+T10-V10 -> 0
A11: ATAUD 3-24 OCHAVADO | C11: 0 | D11: 0 | E11: 0 | F11: 0 | G11: 0 | H11: 0 | I11: 0 | J11: 0 | K11: 0 | L11: 0 | M11: 0 | N11: 0 | O11: 0 | P11: 0 | Q11: 0 | R11: 0 | S11: 0 | T11: 0 | U11: =SUM(C11,E11,G11,I11,K11,M11,O11,Q11,S11) -> 0 | V11: =SUM(D11,F11,H11,J11,L11,N11,P11,R11,T11) -> 0 | W11: =C11+E11+G11+I11+K11+M11+O11+Q11+S11-U11 -> 0 | X11: =D11+F11+H11+J11+L11+N11+P11+R11+T11-V11 -> 0
A12: ATAUD 3-36 OCHAVADO | C12: 0 | D12: 0 | E12: 0 | F12: 0 | G12: 0 | H12: 0 | I12: 0 | J12: 0 | K12: 0 | L12: 0 | M12: 0 | N12: 0 | O12: 0 | P12: 0 | Q12: 0 | R12: 0 | S12: 0 | T12: 0 | U12: =SUM(C12,E12,G12,I12,K12,M12,O12,Q12,S12) -> 0 | V12: =SUM(D12,F12,H12,J12,L12,N12,P12,R12,T12) -> 0 | W12: =C12+E12+G12+I12+K12+M12+O12+Q12+S12-U12 -> 0 | X12: =D12+F12+H12+J12+L12+N12+P12+R12+T12-V12 -> 0

Sheet MINIMOS-MAXIMOS
E3: PEDIDOS MINIMOS Y MAXIMOS LICITACION
C7: ALMACEN | E7: TOTAL
C8: UNIDAD / PEDIDO | E8: MINIMO | H8: MAXIMO
C9: ATAUD METALICO | E9: =MEXICALI!U7+TECATE!U7+ENSENADA!U7+TIJUANA!U7+'SAN QUINTÍN'!U7+'SAN FELIPE'!U7+ROSARITO!U7 -> 598 | H9: =MEXICALI!V7+TECATE!V7+ENSENADA!V7+TIJUANA!V7+'SAN QUINTÍN'!V7+'SAN FELIPE'!V7+ROSARITO!V7 -> 737
C10: ATAUD MADERA ADULTO | E10: =MEXICALI!U8+TECATE!U8+ENSENADA!U8+TIJUANA!U8+'SAN QUINTÍN'!U8+'SAN FELIPE'!U8+ROSARITO!U8 -> 389 | H10: =MEXICALI!V8+TECATE!V8+ENSENADA!V8+TIJUANA!V8+'SAN QUINTÍN'!V8+'SAN FELIPE'!V8+ROSARITO!V8 -> 516
C11: ATAUD 1-24 PLANO | E11: =MEXICALI!U9+TECATE!U9+ENSENADA!U9+TIJUANA!U9+'SAN QUINTÍN'!U9+'SAN FELIPE'!U9+ROSARITO!U9 -> 36 | H11: =MEXICALI!V9+TECATE!V9+ENSENADA!V9+TIJUANA!V9+'SAN QUINTÍN'!V9+'SAN FELIPE'!V9+ROSARITO!V9 -> 49
C12: ATAUD 1-36 PLANO | E12: =MEXICALI!U10+TECATE!U10+ENSENADA!U10+TIJUANA!U10+'SAN QUINTÍN'!U10+'SAN FELIPE'!U10+ROSARITO!U10 -> 7 | H12: =MEXICALI!V10+TECATE!V10+ENSENADA!V10+TIJUANA!V10+'SAN QUINTÍN'!V10+'SAN FELIPE'!V10+ROSARITO!V10 -> 10
C13: ATAUD 3-24 OCHAVADO | E13: =MEXICALI!U11+TECATE!U11+ENSENADA!U11+TIJUANA!U11+'SAN QUINTÍN'!U11+'SAN FELIPE'!U11+ROSARITO!U11 -> 34 | H13: =MEXICALI!V11+TECATE!V11+ENSENADA!V11+TIJUANA!V11+'SAN QUINTÍN'!V11+'SAN FELIPE'!V11+ROSARITO!V11 -> 57
C14: ATAUD 3-36 OCHAVADO | E14: =MEXICALI!U12+TECATE!U12+ENSENADA!U12+TIJUANA!U12+'SAN QUINTÍN'!U12+'SAN FELIPE'!U12+ROSARITO!U12 -> 6 | H14: =MEXICALI!V12+TECATE!V12+ENSENADA!V12+TIJUANA!V12+'SAN QUINTÍN'!V12+'SAN FELIPE'!V12+ROSARITO!V12 -> 8
