Workbook

Sheet S.H.
B2: COMITÉ DE ADQUISICIONES, ARRENDAMIENTOS Y SERVICIOS DEL PODER EJECUTIVO DEL GOBIERNO DEL ESTADO DE BAJA CALIFORNIA Licitación Pública Regional Número 32065001-015-2023 “SERVICIO DE LIMPIEZA PARA DEPENDENCIAS DE GOBIERNO DEL ESTADO DE BAJA CALIFORNIA”
B4: CALCULO DEL SERVICIO DE LIMPIEZA PARA EL PERIODO DEL 10 DE ABRIL AL 31 DE DICIEMBRE DE 2023
B6: PAQUETE 1: SECRETARÍA DE HACIENDA DEL ESTADO
G8: DIAS DE SERVICIO | J8: ABR | K8: MAY | L8: JUN | M8: JUL | N8: AGO | O8: SEP | P8: OCT | Q8: NOV | R8: DIC | T8: TOTAL DIAS
G9: LUNES-VIERNES | J9: 15 | K9: 21 | L9: 22 | M9: 21 | N9: 23 | O9: 20 | P9: 20 | Q9: 20 | R9: 19 | T9: =SUM(J9:R9) -> 181
G10: SABADO | J10: 3 | K10: 4 | L10: 4 | M10: 5 | N10: 4 | O10: 4 | P10: 4 | Q10: 4 | R10: 5 | T10: =SUM(J10:R10) -> 37
G11: LUN- MIER - VIER | J11: 9 | K11: 12 | L11: 13 | M11: 13 | N11: 13 | O11: 13 | P11: 12 | Q11: 11 | R11: 12 | T11: =SUM(J11:R11) -> 108
G12: MARTES-VIERNES | J12: 6 | K12: 8 | L12: 9 | M12: 8 | N12: 9 | O12: 8 | P12: 8 | Q12: 8 | R12: 8 | T12: =SUM(J12:R12) -> 72
T13: =SUM(T9:T12) -> 398
B14: PARTIDA | C14: UBICACION | D14: DIRECCIÓN | E14: HORARIOS | F14: PERSONAL SOLICITADO | G14: HORAS POR DIA POR PERSONA | H14: HORAS DIARIAS POR TURNO | J14: ABR | K14: MAY | L14: JUN | M14: JUL | N14: AGO | O14: SEP | P14: OCT | Q14: NOV | R14: DIC | T14: TOTAL HORAS
C15: MEXICALI
B16: 1 | C16: RECAUDACIÓN CENTRAL MEXICALI | D16: CALZADA INDEPENDENCIA Y AVENIDA DE LOS HÉROES #994, CENTRO CIVICO, 21000. PRIMER PISO DEL EDIFICIO DEL PODER EJECUTIVO. | E16: Lunes a viernes 7:00 a 15:00 | F16: 1 | G16: 8 | H16: =F16*G16 -> 8 | J16: =+J9*H16 -> 120 | K16: =K9*H16 -> 168 | L16: =L9*H16 -> 176 | M16: =M9*H16 -> 168 | N16: =N9*H16 -> 184 | O16: =O9*H16 -> 160 | P16: =P9*H16 -> 160 | Q16: =Q9*H16 -> 160 | R16: =R9*H16 -> 152 | T16: =SUM(J16:R16) -> 1448
B17: 2 | C17: DIRECCIÓN DE ADMINISTRACIÓN | D17: CALZADA INDEPENDENCIA Y AVENIDA DE LOS HÉROES #994, CENTRO CIVICO, 21000. PRIMER PISO DEL EDIFICIO DEL PODER EJECUTIVO. | E17: Lunes a viernes 7:00 a 12:00 | F17: 1 | G17: 5 | H17: =F17*G17 -> 5 | J17: =+J9*H17 -> 75 | K17: =K9*H17 -> 105 | L17: =L9*H17 -> 110 | M17: =M9*H17 -> 105 | N17: =N9*H17 -> 115 | O17: =O9*H17 -> 100 | P17: =P9*H17 -> 100 | Q17: =Q9*H17 -> 100 | R17: =R9*H17 -> 95 | T17: =SUM(J17:R17) -> 905
B18: 3 | C18: CENCAFI | D18: CALZADA MILTÓN CASTELLANOS #1573, CONJUNTO URBANO CALISS, 21010 | E18: Lunes a viernes 8:00 a 11:00 | F18: 1 | G18: 3 | H18: =F18*G18 -> 3 | J18: =+J9*H18 -> 45 | K18: =K9*H18 -> 63 | L18: =L9*H18 -> 66 | M18: =M9*H18 -> 63 | N18: =N9*H18 -> 69 | O18: =O9*H18 -> 60 | P18: =P9*H18 -> 60 | Q18: =Q9*H18 -> 60 | R18: =R9*H18 -> 57 | T18: =SUM(J18:R18) -> 543
B19: 4 | C19: ÁREA OPERATIVA, BAÑOS COMUNES Y DEPARTAMENTO DE NÓMINAS DE LA DIRECCIÓN DE EGRESOS | E19: Lunes a viernes 7:00 a 15:00 | F19: 1 | G19: 8 | H19: =F19*G19 -> 8 | J19: =+J9*H19 -> 120 | K19: =K9*H19 -> 168 | L19: =L9*H19 -> 176 | M19: =M9*H19 -> 168 | N19: =N9*H19 -> 184 | O19: =O9*H19 -> 160 | P19: =P9*H19 -> 160 | Q19: =Q9*H19 -> 160 | R19: =R9*H19 -> 152 | T19: =SUM(J19:R19) -> 1448
B20: 5 | C20: OFICINA DE COBRO GONZÁLEZ ORTEGA (PALACO) | D20: CALLE 4TA Y CARRETERA A SAN LUIS RIO COLORADO #249, DELEGACION GONZALEZ ORTEGA MEXICALI. | E20: Lunes, Miercoles y Viernes 10:00 a 12:00 | F20: 1 | G20: 2 | H20: =F20*G20 -> 2 | J20: =J11*H20 -> 18 | K20: =K11*H20 -> 24 | L20: =L11*H20 -> 26 | M20: =M11*H20 -> 26 | N20: =N11*H20 -> 26 | O20: =O11*H20 -> 26 | P20: =P11*H20 -> 24 | Q20: =Q11*H20 -> 22 | R20: =R11*H20 -> 24 | T20: =SUM(J20:R20) -> 216
B21: 6 | C21: INVERSIÓN PÚBLICA | E21: Lunes, Miercoles y Viernes 11:00 a 14:00 | F21: 1 | G21: 3 | H21: =F21*G21 -> 3 | J21: =+J11*H21 -> 27 | K21: =+K11*H21 -> 36 | L21: =+L11*H21 -> 39 | M21: =+M11*H21 -> 39 | N21: =+N11*H21 -> 39 | O21: =+O11*H21 -> 39 | P21: =+P11*H21 -> 36 | Q21: =+Q11*H21 -> 33 | R21: =+R11*H21 -> 36 | T21: =SUM(J21:R21) -> 324
B22: 7 | C22: SUBRECAUDACIÓN AUXILIAR DE RENTAS MEXICALI | E22: Lunes a viernes 9:00 a 18:00 | F22: 1 | G22: 9 | H22: =F22*G22 -> 9 | J22: =+J9*H22 -> 135 | K22: =+K9*H22 -> 189 | L22: =L9*H22 -> 198 | M22: =M9*H22 -> 189 | N22: =N9*H22 -> 207 | O22: =O9*H22 -> 180 | P22: =P9*H22 -> 180 | Q22: =Q9*H22 -> 180 | R22: =R9*H22 -> 171 | T22: =SUM(J22:R22) -> 1629
D23: CALZADA INDEPENDENCIA #994, CENTRO CIVICO, 21000 | E23: Lunes a viernes 8:00 a 14:00 | F23: 1 | G23: 6 | H23: =F23*G23 -> 6 | J23: =+J9*H23 -> 90 | K23: =K9*H23 -> 126 | L23: =L9*H23 -> 132 | M23: =M9*H23 -> 126 | N23: =N9*H23 -> 138 | O23: =O9*H23 -> 120 | P23: =P9*H23 -> 120 | Q23: =Q9*H23 -> 120 | R23: =R9*H23 -> 114 | T23: =SUM(J23:R23) -> 1086
E24: sabado 9:00 a 13:00 | F24: 1 | G24: 4 | H24: =F24*G24 -> 4 | J24: =+J10*H24 -> 12 | K24: =+K10*H24 -> 16 | L24: =L10*H24 -> 16 | M24: =M10*H24 -> 20 | N24: =N10*H24 -> 16 | O24: =O10*H24 -> 16 | P24: =P10*H24 -> 16 | Q24: =Q10*H24 -> 16 | R24: =R10*H24 -> 20 | T24: =SUM(J24:R24) -> 148
B25: 8 | C25: SUBRECAUDACIÓN AUXILIAR DE RENTAS CD. MORELOS | D25: AV. MORELOS Y LEYES DE REFORMA # 512, CD. MORELOS, 21960. | E25: Lunes a viernes 8:00 a 11:00 | F25: 1 | G25: 3 | H25: =F25*G25 -> 3 | J25: =+J9*H25 -> 45 | K25: =+K9*H25 -> 63 | L25: =L9*H25 -> 66 | M25: =M9*H25 -> 63 | N25: =N9*H25 -> 69 | O25: =O9*H25 -> 60 | P25: =P9*H25 -> 60 | Q25: =Q9*H25 -> 60 | R25: =R9*H25 -> 57 | T25: =SUM(J25:R25) -> 543
B26: 9 | C26: SUBRECAUDACIÓN AUXILIAR DE RENTAS GUADALUPE VICTORIA | D26: CALLE 8 CON MIGUEL HIDALGO, DEL SOL, 21720, GUADALUPE VICTORIA | E26: Lunes a viernes 8:00 a 10:00 | F26: 1 | G26: 2 | H26: =F26*G26 -> 2 | J26: =+J9*H26 -> 30 | K26: =K9*H26 -> 42 | L26: =L9*H26 -> 44 | M26: =M9*H26 -> 42 | N26: =N9*H26 -> 46 | O26: =O9*H26 -> 40 | P26: =P9*H26 -> 40 | Q26: =Q9*H26 -> 40 | R26: =R9*H26 -> 38 | T26: =SUM(J26:R26) -> 362
B27: 10 | C27: SUBRECAUDACIÓN AUXILIAR DE RENTAS SAN FELIPE | D27: AV. MAR CARIBE NORTE #182, AMPLIACIÓN SEGUNDA SECCIÓN, 21850. SAN FELIPE | E27: Lunes a viernes 8:00 a 10:00 | F27: 1 | G27: 2 | H27: =F27*G27 -> 2 | J27: =+J9*H27 -> 30 | K27: =K9*H27 -> 42 | L27: =L9*H27 -> 44 | M27: =M9*H27 -> 42 | N27: =N9*H27 -> 46 | O27: =O9*H27 -> 40 | P27: =P9*H27 -> 40 | Q27: =Q9*H27 -> 40 | R27: =R9*H27 -> 38 | T27: =SUM(J27:R27) -> 362
B28: 9.6923077 | C28: ARCHIVO GENERAL (CAIPE) | D28: MIMIAHUAPAN #1684, CALAFIA, 21040 | E28: Lunes a viernes 8:00 a 11:00 | F28: 1 | G28: 3 | H28: =F28*G28 -> 3 | J28: =+J9*H28 -> 45 | K28: =K9*H28 -> 63 | L28: =L9*H28 -> 66 | M28: =M9*H28 -> 63 | N28: =N9*H28 -> 69 | O28: =O9*H28 -> 60 | P28: =P9*H28 -> 60 | Q28: =Q9*H28 -> 60 | R28: =R9*H28 -> 57 | T28: =SUM(J28:R28) -> 543
B29: 10.153846 | C29: SUBSECRETARÍA DE TECNOLOGÍAS DE INFORMACIÓN Y COMUNICACIONES | E29: Lunes a viernes 7:00 a 14:00 | F29: 1 | G29: 7 | H29: =F29*G29 -> 7 | J29: =+J9*H29 -> 105 | K29: =K9*H29 -> 147 | L29: =L9*H29 -> 154 | M29: =M9*H29 -> 147 | N29: =N9*H29 -> 161 | O29: =O9*H29 -> 140 | P29: =P9*H29 -> 140 | Q29: =Q9*H29 -> 140 | R29: =R9*H29 -> 133 | T29: =SUM(J29:R29) -> 1267
B30: 11 | C30: OFICINAS DE LA SECRETARÍA DE HACIENDA | D30: CUARTO PISO EDIFICIO DEL PODER EJECUTIVO | E30: Lunes a viernes 7:00 a 14:00 | F30: 1 | G30: 7 | H30: =F30*G30 -> 7 | J30: =+J9*H30 -> 105 | K30: =K9*H30 -> 147 | L30: =L9*H30 -> 154 | M30: =M9*H30 -> 147 | N30: =N9*H30 -> 161 | O30: =O9*H30 -> 140 | P30: =P9*H30 -> 140 | Q30: =Q9*H30 -> 140 | R30: =R9*H30 -> 133 | T30: =SUM(J30:R30) -> 1267
B31: 12 | C31: PROCURADURÍA FISCAL | D31: CALZADA INDEPENDENCIA Y AVENIDA DE LOS HÉROES #994, CENTRO CIVICO, 21000. PRIMER PISO DEL EDIFICIO DEL PODER EJECUTIVO. | E31: Lunes a viernes 13:00 a 14:00 | F31: 1 | G31: 1 | H31: =F31*G31 -> 1 | J31: =+J9*H31 -> 15 | K31: =K9*H31 -> 21 | L31: =L9*H31 -> 22 | M31: =M9*H31 -> 21 | N31: =N9*H31 -> 23 | O31: =O9*H31 -> 20 | P31: =P9*H31 -> 20 | Q31: =Q9*H31 -> 20 | R31: =R9*H31 -> 19 | T31: =SUM(J31:R31) -> 181
B32: 13 | C32: DIRECCIÓN DE SEGUIMIENTO A PARAESTATALES | E32: Lunes a viernes 13:00 a 14:00 | F32: 1 | G32: 1 | H32: =F32*G32 -> 1 | J32: =+J9*H32 -> 15 | K32: =K9*H32 -> 21 | L32: =L9*H32 -> 22 | M32: =M9*H32 -> 21 | N32: =N9*H32 -> 23 | O32: =O9*H32 -> 20 | P32: =P9*H32 -> 20 | Q32: =Q9*H32 -> 20 | R32: =R9*H32 -> 19 | T32: =SUM(J32:R32) -> 181
B33: 12 | C33: CONTABILIDAD, BAÑOS COMUNES Y SERVICIO ADMINISTRATIVO | E33: Lunes a viernes 12:00 a 14:00 | F33: 1 | G33: 2 | H33: =F33*G33 -> 2 | J33: =+J9*H33 -> 30 | K33: =K9*H33 -> 42 | L33: =L9*H33 -> 44 | M33: =M9*H33 -> 42 | N33: =N9*H33 -> 46 | O33: =O9*H33 -> 40 | P33: =P9*H33 -> 40 | Q33: =Q9*H33 -> 40 | R33: =R9*H33 -> 38 | T33: =SUM(J33:R33) -> 362
B34: 12.461538 | C34: DIRECCIÓN DE GESTIÓN FINANCIERA | E34: Lunes a viernes 7:00 a 12:00 | F34: 1 | G34: 5 | H34: =F34*G34 -> 5 | J34: =+J9*H34 -> 75 | K34: =K9*H34 -> 105 | L34: =L9*H34 -> 110 | M34: =M9*H34 -> 105 | N34: =N9*H34 -> 115 | O34: =O9*H34 -> 100 | P34: =P9*H34 -> 100 | Q34: =Q9*H34 -> 100 | R34: =R9*H34 -> 95 | T34: =SUM(J34:R34) -> 905
B35: 14 | C35: DIRECCIÓN DE AUDITORIA FISCAL | D35: PRIMER PISO EDIFICIO DEL PODER EJECUTIVO | E35: Lunes a viernes 8:00 a 12:00 | F35: 1 | G35: 4 | H35: =F35*G35 -> 4 | J35: =+J9*H35 -> 60 | K35: =+K9*H35 -> 84 | L35: =L9*H35 -> 88 | M35: =M9*H35 -> 84 | N35: =N9*H35 -> 92 | O35: =O9*H35 -> 80 | P35: =P9*H35 -> 80 | Q35: =Q9*H35 -> 80 | R35: =R9*H35 -> 76 | T35: =SUM(J35:R35) -> 724
B36: 15 | C36: UNIDAD DE CUENTA PÚBLICA | E36: Lunes a viernes 8:00 a 11:00 | F36: 1 | G36: 3 | H36: =F36*G36 -> 3 | J36: =+J9*H36 -> 45 | K36: =K9*H36 -> 63 | L36: =L9*H36 -> 66 | M36: =M9*H36 -> 63 | N36: =N9*H36 -> 69 | O36: =O9*H36 -> 60 | P36: =P9*H36 -> 60 | Q36: =Q9*H36 -> 60 | R36: =R9*H36 -> 57 | T36: =SUM(J36:R36) -> 543
B37: 16 | C37: DIRECCIÓN DE AUDITORIA INTERNA Y BAÑOS COMUNES | D37: SOTANO EDIFICIO DEL PODER EJECUTIVO | E37: Lunes a viernes 7:00 a 12:00 | F37: 1 | G37: 5 | H37: =F37*G37 -> 5 | J37: =+J9*H37 -> 75 | K37: =+K9*H37 -> 105 | L37: =L9*H37 -> 110 | M37: =M9*H37 -> 105 | N37: =N9*H37 -> 115 | O37: =O9*H37 -> 100 | P37: =P9*H37 -> 100 | Q37: =Q9*H37 -> 100 | R37: =R9*H37 -> 95 | T37: =SUM(J37:R37) -> 905
F38: =SUM(F16:F37) -> 22 | G38: TOTALES DE HORAS/MES | J38: =SUM(J16:J37) -> 1317 | K38: =SUM(K16:K37) -> 1840 | L38: =SUM(L16:L37) -> 1929 | M38: =SUM(M16:M37) -> 1849 | N38: =SUM(N16:N37) -> 2013 | O38: =SUM(O16:O37) -> 1761 | P38: =SUM(P16:P37) -> 1756 | Q38: =SUM(Q16:Q37) -> 1751 | R38: =SUM(R16:R37) -> 1676 | T38: =SUM(T16:T37) -> 15892
B40: PARTIDA | C40: UBICACION | D40: DIRECCIÓN | E40: HORARIOS | F40: PERSONAL SOLICITADO | G40: HORAS POR DIA POR PERSONA | H40: HORAS DIARIAS POR TURNO | J40: ABR | K40: MAY | L40: JUN | M40: JUL | N40: AGO | O40: SEP | P40: OCT | Q40: NOV | R40: DIC | T40: TOTAL HORAS
C41: TIJUANA /TECATE
B42: 17 | C42: RECAUDACIÓN DE RENTAS TECATE | D42: MISIÓN SAN FRANCISCO S/N | E42: Lunes a viernes 7:00 a 11:00 | F42: 1 | G42: 4 | H42: 4 | J42: =+J9*H42 -> 60 | K42: =$H$42*K9 -> 84 | L42: =$H$42*L9 -> 88 | M42: =$H$42*M9 -> 84 | N42: =$H$42*N9 -> 92 | O42: =$H$42*O9 -> 80 | P42: =$H$42*P9 -> 80 | Q42: =$H$42*Q9 -> 80 | R42: =$H$42*R9 -> 76 | T42: =SUM(J42:R42) -> 724
E43: Sábados 9:00 a 12:00 | F43: 1 | G43: 3 | H43: 3 | J43: =+J10*H43 -> 9 | K43: =$H$43*K10 -> 12 | L43: =$H$43*L10 -> 12 | M43: =$H$43*M10 -> 15 | N43: =$H$43*N10 -> 12 | O43: =$H$43*O10 -> 12 | P43: =$H$43*P10 -> 12 | Q43: =$H$43*Q10 -> 12 | R43: =$H$43*R10 -> 15 | T43: =SUM(J43:R43) -> 111
B44: 18 | C44: RECAUDACIÓN CENTRAL TIJUANA (INCLUYE OFICINA DE CENCAFI) | D44: CONSORCIO TECNOLÓGICO EN LA CARRETERA LIBRE TIJUANA - TECATE KM 26.5, COLONIA EL FLORIDO | E44: Lunes a viernes 7:00 a 14:00 | F44: 1 | G44: 7 | H44: 7 | J44: =+J9*H44 -> 105 | K44: =+K9*H44 -> 147 | L44: =$H$44*L9 -> 154 | M44: =$H$44*M9 -> 147 | N44: =$H$44*N9 -> 161 | O44: =$H$44*O9 -> 140 | P44: =$H$44*P9 -> 140 | Q44: =$H$44*Q9 -> 140 | R44: =$H$44*R9 -> 133 | T44: =SUM(J44:R44) -> 1267
E45: Lunes a viernes 11:00 a 17:00 | F45: 1 | G45: 6 | H45: 6 | J45: =+J9*H45 -> 90 | K45: =+K9*H45 -> 126 | L45: =$H$45*L9 -> 132 | M45: =$H$45*M9 -> 126 | N45: =$H$45*N9 -> 138 | O45: =$H$45*O9 -> 120 | P45: =$H$45*P9 -> 120 | Q45: =$H$45*Q9 -> 120 | R45: =$H$45*R9 -> 114 | T45: =SUM(J45:R45) -> 1086
B46: 19 | C46: PLAZA MONARCAS | D46: BLVD. MANUEL J. CLOUTHIER #5561, EL LAGO DE LOS BUENOS, C.P. 22550, TIJUANA | E46: Lunes a viernes 8:00 a 16:00 | F46: 1 | G46: 8 | H46: =F46*G46 -> 8 | J46: 0 | K46: 0 | L46: =L9*H46 -> 176 | M46: =M9*H46 -> 168 | N46: =N9*H46 -> 184 | O46: =O9*H46 -> 160 | P46: =P9*H46 -> 160 | Q46: =Q9*H46 -> 160 | R46: =R9*H46 -> 152 | T46: =SUM(J46:R46) -> 1160
E47: Sábado 8:00 a 16:00 | F47: 1 | G47: 8 | H47: =F47*G47 -> 8 | J47: 0 | K47: 0 | L47: =L10*H47 -> 32 | M47: =M10*H47 -> 40 | N47: =N10*H47 -> 32 | O47: =O10*H47 -> 32 | P47: =P10*H47 -> 32 | Q47: =Q10*H47 -> 32 | R47: =R10*H47 -> 40 | T47: =SUM(J47:R47) -> 240
B48: 20 | C48: SUBRECAUDACIÓN AUXILIAR VÍA RÁPIDA | D48: VÍA RÁPIDA #12651, COLONIA 20 DE NOVIEMBRE, C.P. 22436, TIJUANA | E48: Lunes a viernes 9:00 a 17:00 | F48: 1 | G48: 8 | H48: 8 | J48: =+J9*H48 -> 120 | K48: =+K9*H48 -> 168 | L48: =$H$48*L9 -> 176 | M48: =$H$48*M9 -> 168 | N48: =$H$48*N9 -> 184 | O48: =$H$48*O9 -> 160 | P48: =$H$48*P9 -> 160 | Q48: =$H$48*Q9 -> 160 | R48: =$H$48*R9 -> 152 | T48: =SUM(J48:R48) -> 1448
E49: Lunes a viernes 7:00 a 12:00 | F49: 1 | G49: 5 | H49: 5 | J49: =+J9*H49 -> 75 | K49: =$H$49*K9 -> 105 | L49: =$H$49*L9 -> 110 | M49: =$H$49*M9 -> 105 | N49: =$H$49*N9 -> 115 | O49: =$H$49*O9 -> 100 | P49: =$H$49*P9 -> 100 | Q49: =$H$49*Q9 -> 100 | R49: =$H$49*R9 -> 95 | T49: =SUM(J49:R49) -> 905
E50: Sábado 9:00 a 13:00 | F50: 1 | G50: 4 | H50: 4 | J50: =+J10*H50 -> 12 | K50: =$H$50*K10 -> 16 | L50: =$H$50*L10 -> 16 | M50: =$H$50*M10 -> 20 | N50: =$H$50*N10 -> 16 | O50: =$H$50*O10 -> 16 | P50: =$H$50*P10 -> 16 | Q50: =$H$50*Q10 -> 16 | R50: =$H$50*R10 -> 20 | T50: =SUM(J50:R50) -> 148
B51: 21 | C51: SUBRECAUDACIÓN AUXILIAR CERRO COLORADO | D51: BLVD. MANUEL J. CLOUTHIER #19724 COLONIA EL LAGO, C.P. 22210, FRENTE A PLAZA MONARCA. | E51: Lunes a viernes 10:00 a 16:00 | F51: 1 | G51: 6 | H51: 6 | J51: =+J9*H51 -> 90 | K51: =$H$51*K9 -> 126 | L51: =$H$51*L9 -> 132 | M51: =$H$51*M9 -> 126 | N51: =$H$51*N9 -> 138 | O51: =$H$51*O9 -> 120 | P51: =$H$51*P9 -> 120 | Q51: =$H$51*Q9 -> 120 | R51: =$H$51*R9 -> 114 | T51: =SUM(J51:R51) -> 1086
E52: Lunes a viernes 8:00 a 13:00 | F52: 1 | G52: 5 | H52: 5 | J52: =+J9*H52 -> 75 | K52: =$H$52*K9 -> 105 | L52: =$H$52*L9 -> 110 | M52: =$H$52*M9 -> 105 | N52: =$H$52*N9 -> 115 | O52: =$H$52*O9 -> 100 | P52: =$H$52*P9 -> 100 | Q52: =$H$52*Q9 -> 100 | R52: =$H$52*R9 -> 95 | T52: =SUM(J52:R52) -> 905
E53: Sábado 9:00 a 13:00 | F53: 1 | G53: 4 | H53: 4 | J53: =+J10*H53 -> 12 | K53: =$H$53*K10 -> 16 | L53: =$H$53*L10 -> 16 | M53: =$H$53*M10 -> 20 | N53: =$H$53*N10 -> 16 | O53: =$H$53*O10 -> 16 | P53: =$H$53*P10 -> 16 | Q53: =$H$53*Q10 -> 16 | R53: =$H$53*R10 -> 20 | T53: =SUM(J53:R53) -> 148
B54: 22 | C54: PROCURADURÍA FISCAL TIJUANA | D54: CALLE RÍO SUCHIATE #10036, REVOLUCIÓN, TIJUANA B.C. 22015 | E54: Lunes a viernes 9:00 a 11:00 | F54: 1 | G54: 2 | H54: 2 | J54: =+J9*H54 -> 30 | K54: =$H$54*K9 -> 42 | L54: =$H$54*L9 -> 44 | M54: =$H$54*M9 -> 42 | N54: =$H$54*N9 -> 46 | O54: =$H$54*O9 -> 40 | P54: =$H$54*P9 -> 40 | Q54: =$H$54*Q9 -> 40 | R54: =$H$54*R9 -> 38 | T54: =SUM(J54:R54) -> 362
B55: 23 | C55: INVERSIÓN PÚBLICA / CENCAFI | E55: Martes y viernes 10:00 a 11:00 | F55: 1 | G55: 1 | H55: 1 | J55: =+J12*H55 -> 6 | K55: =$H$55*K12 -> 8 | L55: =$H$55*L12 -> 9 | M55: =$H$55*M12 -> 8 | N55: =$H$55*N12 -> 9 | O55: =$H$55*O12 -> 8 | P55: =$H$55*P12 -> 8 | Q55: =$H$55*Q12 -> 8 | R55: =$H$55*R12 -> 8 | T55: =SUM(J55:R55) -> 72
B56: 24 | C56: SAT BC CONSORCIO | D56: CARRETERA LIBRE TIJUANA - TECATE KM 26.5, EL FLORIDO, TIJUANA B.C. | E56: Lunes a viernes 6:00 a 14:00 | F56: 4 | G56: 8 | H56: =G56*F56 -> 32 | J56: =+J9*H56 -> 480 | K56: =$H$56*K9 -> 672 | L56: =$H$56*L9 -> 704 | M56: =$H$56*M9 -> 672 | N56: =$H$56*N9 -> 736 | O56: =$H$56*O9 -> 640 | P56: =$H$56*P9 -> 640 | Q56: =$H$56*Q9 -> 640 | R56: =$H$56*R9 -> 608 | T56: =SUM(J56:R56) -> 5792
E57: Lunes a viernes 13:00 a 18:00 | F57: 3 | G57: 5 | H57: =G57*F57 -> 15 | J57: =+J9*H57 -> 225 | K57: =$H$57*K9 -> 315 | L57: =$H$57*L9 -> 330 | M57: =$H$57*M9 -> 315 | N57: =$H$57*N9 -> 345 | O57: =$H$57*O9 -> 300 | P57: =$H$57*P9 -> 300 | Q57: =$H$57*Q9 -> 300 | R57: =$H$57*R9 -> 285 | T57: =SUM(J57:R57) -> 2715
F58: =SUM(F42:F57) -> 21 | G58: TOTALES DE HORAS/MES | J58: =SUM(J42:J57) -> 1389 | K58: =SUM(K42:K57) -> 1942 | L58: =SUM(L42:L57) -> 2241 | M58: =SUM(M42:M57) -> 2161 | N58: =SUM(N42:N57) -> 2339 | O58: =SUM(O42:O57) -> 2044 | P58: =SUM(P42:P57) -> 2044 | Q58: =SUM(Q42:Q57) -> 2044 | R58: =SUM(R42:R57) -> 1965 | T58: =SUM(T42:T57) -> 18169
C60: SECRETARIA DE HACIENDA DEL ESTADO
C61: CALCULO DEL SERVICIO DE LIMPIEZA PARA EL PERIODO DEL 10 DE ABRIL AL 31 DE DICIEMBRE DE 2023
B63: PARTIDA | C63: UBICACION | E63: HORARIOS | F63: PERSONAL SOLICITADO | G63: HORAS POR DIA POR PERSONA | H63: HORAS DIARIAS POR TURNO | J63: ABR | K63: MAY | L63: JUN | M63: JUL | N63: AGO | O63: SEP | P63: OCT | Q63: NOV | R63: DIC | T63: TOTAL HORAS
C64: ENSENADA
B65: 25 | C65: RECAUDACIÓN ENSENADA | D65: CARRETERA TRANSPENINSULAR LA PAZ - ENSENADA # 6500 EX. EJIDO CHAPULTEPEC, C.P. 22785 | E65: Lunes a viernes 7:00 a 14:00 | F65: 1 | G65: 7 | H65: 7 | J65: =+J9*H65 -> 105 | K65: =$H$65*K9 -> 147 | L65: =$H$65*L9 -> 154 | M65: =$H$65*M9 -> 147 | N65: =$H$65*N9 -> 161 | O65: =$H$65*O9 -> 140 | P65: =$H$65*P9 -> 140 | Q65: =$H$65*Q9 -> 140 | R65: =$H$65*R9 -> 133 | T65: =SUM(J65:R65) -> 1267
E66: Sabado 9:00 a 13:00 | F66: 1 | G66: 4 | H66: 4 | J66: =+J10*H66 -> 12 | K66: =$H$66*K10 -> 16 | L66: =$H$66*L10 -> 16 | M66: =$H$66*M10 -> 20 | N66: =$H$66*N10 -> 16 | O66: =$H$66*O10 -> 16 | P66: =$H$66*P10 -> 16 | Q66: =$H$66*Q10 -> 16 | R66: =$H$66*R10 -> 20 | T66: =SUM(J66:R66) -> 148
B67: 26 | C67: MÓDULO DE RECAUDACIÓN MANZANA 8 | D67: BLVD. LAS DUNAS S/N PLAYA ENSENADA | E67: Lunes, miercoles y viernes 10:00 a 11:00 | F67: 1 | G67: 1 | H67: 1 | J67: =+J11*H67 -> 9 | K67: =$H$67*K11 -> 12 | L67: =$H$67*L11 -> 13 | M67: =$H$67*M11 -> 13 | N67: =$H$67*N11 -> 13 | O67: =$H$67*O11 -> 13 | P67: =$H$67*P11 -> 12 | Q67: =$H$67*Q11 -> 11 | R67: =$H$67*R11 -> 12 | T67: =SUM(J67:R67) -> 108
B68: 27 | C68: COORDINACIÓN DE TECNOLOGÍAS DE INFORMACIÓN Y COMUNICACIONES | E68: Lunes, miercoles y viernes 15:00 a 16:00 | F68: 1 | G68: 1 | H68: 1 | J68: =+J11*H68 -> 9 | K68: =$H$68*K11 -> 12 | L68: =$H$68*L11 -> 13 | M68: =$H$68*M11 -> 13 | N68: =$H$68*N11 -> 13 | O68: =$H$68*O11 -> 13 | P68: =$H$68*P11 -> 12 | Q68: =$H$68*Q11 -> 11 | R68: =$H$68*R11 -> 12 | T68: =SUM(J68:R68) -> 108
B69: 28 | C69: CENCAFI ENSENADA | D69: TRANSPENINSULAR (REFORMA) 0 COLONIA EL CIPRES (GUARNICION MILITAR) | E69: Lunes a viernes 12:00 a 15:00 | F69: 1 | G69: 3 | H69: 3 | J69: =+J9*H69 -> 45 | K69: =+K9*H69 -> 63 | L69: =$H$69*L9 -> 66 | M69: =$H$69*M9 -> 63 | N69: =$H$69*N9 -> 69 | O69: =$H$69*O9 -> 60 | P69: =$H$69*P9 -> 60 | Q69: =$H$69*Q9 -> 60 | R69: =$H$69*R9 -> 57 | T69: =SUM(J69:R69) -> 543
B70: 29 | C70: AUDITORIA FISCAL | E70: Lunes a viernes 8:00 a 12:00 | F70: 1 | G70: 4 | H70: 4 | J70: =+J9*H70 -> 60 | K70: =$H$70*K9 -> 84 | L70: =$H$70*L9 -> 88 | M70: =$H$70*M9 -> 84 | N70: =$H$70*N9 -> 92 | O70: =$H$70*O9 -> 80 | P70: =$H$70*P9 -> 80 | Q70: =$H$70*Q9 -> 80 | R70: =$H$70*R9 -> 76 | T70: =SUM(J70:R70) -> 724
F71: =SUM(F65:F70) -> 6 | G71: TOTALES DE HORAS/MES | J71: =SUM(J65:J70) -> 240 | K71: =SUM(K65:K70) -> 334 | L71: =SUM(L65:L70) -> 350 | M71: =SUM(M65:M70) -> 340 | N71: =SUM(N65:N70) -> 364 | O71: =SUM(O65:O70) -> 322 | P71: =SUM(P65:P70) -> 320 | Q71: =SUM(Q65:Q70) -> 318 | R71: =SUM(R65:R70) -> 310 | T71: =SUM(T65:T70) -> 2898
B75: SECRETARIA DE HACIENDA DEL ESTADO
B76: CALCULO DEL SERVICIO DE LIMPIEZA PARA EL PERIODO DEL 10 DE ABRIL AL 31 DE DICIEMBRE DE 2023
B79: PARTIDA | C79: UBICACION | D79: DIRECCIÓN | E79: HORARIOS | F79: PERSONAL SOLICITADO | G79: HORAS POR DIA POR PERSONA | H79: HORAS DIARIAS POR TURNO | J79: ABR | K79: MAY | L79: JUN | M79: JUL | N79: AGO | O79: SEP | P79: OCT | Q79: NOV | R79: DIC | T79: TOTAL HORAS
C80: ROSARITO
B81: 30 | C81: RECAUDACIÓN DE RENTAS ROSARITO | D81: CALLE JOSÉ HAROS #2004 | E81: Lunes a viernes 8:00 a 13:00 | F81: 1 | G81: 5 | H81: 5 | J81: =+J9*H81 -> 75 | K81: =$H$81*K9 -> 105 | L81: =$H$81*L9 -> 110 | M81: =$H$81*M9 -> 105 | N81: =$H$81*N9 -> 115 | O81: =$H$81*O9 -> 100 | P81: =$H$81*P9 -> 100 | Q81: =$H$81*Q9 -> 100 | R81: =$H$81*R9 -> 95 | T81: =SUM(J81:R81) -> 905
E82: Sábado 9:00 a 12:00 | F82: 1 | G82: 3 | H82: 3 | J82: =+J10*H82 -> 9 | K82: =$H$82*K10 -> 12 | L82: =$H$82*L10 -> 12 | M82: =$H$82*M10 -> 15 | N82: =$H$82*N10 -> 12 | O82: =$H$82*O10 -> 12 | P82: =$H$82*P10 -> 12 | Q82: =$H$82*Q10 -> 12 | R82: =$H$82*R10 -> 15 | T82: =SUM(J82:R82) -> 111
F83: =SUM(F81:F82) -> 2 | G83: TOTALES DE HORAS/MES | J83: =SUM(J81:J82) -> 84 | K83: =SUM(K81:K82) -> 117 | L83: =SUM(L81:L82) -> 122 | M83: =SUM(M81:M82) -> 120 | N83: =SUM(N81:N82) -> 127 | O83: =SUM(O81:O82) -> 112 | P83: =SUM(P81:P82) -> 112 | Q83: =SUM(Q81:Q82) -> 112 | R83: =SUM(R81:R82) -> 110 | T83: =SUM(T81:T82) -> 1016

Sheet S.S.C.
A2: COMITÉ DE ADQUISICIONES, ARRENDAMIENTOS Y SERVICIOS DEL PODER EJECUTIVO DEL GOBIERNO DEL ESTADO DE BAJA CALIFORNIA Licitación Pública Regional Número 32065001-015-2023 “SERVICIO DE LIMPIEZA PARA DEPENDENCIAS DE GOBIERNO DEL ESTADO DE BAJA CALIFORNIA”
A4: CALCULO DEL SERVICIO DE LIMPIEZA PARA EL PERIODO DEL 10 DE ABRIL AL 31 DE DICIEMBRE DE 2023
A5: PAQUETE 3: SECRETARÍA DE SEGURIDAD CIUDADANA DE BAJA CALIFORNIA
F7: DIAS DE SERVICIO | I7: ABR | J7: MAY | K7: JUN | L7: JUL | M7: AGO | N7: SEP | O7: OCT | P7: NOV | Q7: DIC | S7: TOTAL DIAS
F8: LUNES A VIERNES | I8: 15 | J8: 21 | K8: 22 | L8: 21 | M8: 23 | N8: 20 | O8: 20 | P8: 20 | Q8: 19 | S8: =SUM(I8:Q8) -> 181
F9: LUNES A DOMINGO | I9: 21 | J9: 31 | K9: 30 | L9: 31 | M9: 31 | N9: 30 | O9: 31 | P9: 30 | Q9: 31 | S9: =SUM(I9:Q9) -> 266
F10: LUNES A SABADO | I10: 18 | J10: 27 | K10: 26 | L10: 26 | M10: 27 | N10: 26 | O10: 26 | P10: 26 | Q10: 26 | S10: =SUM(I10:Q10) -> 228
F11: SABADO | I11: 3 | J11: 4 | K11: 4 | L11: 5 | M11: 4 | N11: 4 | O11: 4 | P11: 4 | Q11: 5 | S11: =SUM(I11:Q11) -> 37
S12: =SUM(S8:S11) -> 712
A14: PARTIDA | B14: UBICACION | C14: DIRECCIÓN | D14: HORARIOS | E14: PERSONAL SOLICITADO | F14: HORAS POR DIA POR PERSONA | G14: HORAS DIARIAS POR TURNO | I14: ABR | J14: MAY | K14: JUN | L14: JUL | M14: AGO | N14: SEP | O14: OCT | P14: NOV | Q14: DIC | S14: TOTAL HORAS
B15: MEXICALI
A16: 1 | B16: C4 | C16: CALZADA ANAHUAC #958, JARDINES DEL LAGO, 21330. | D16: Lunes a Domingo 7:00 a 15:00 | E16: 1 | F16: 8 | G16: =E16*F16 -> 8 | I16: =+I9*G16 -> 168 | J16: =+J9*G16 -> 248 | K16: =+K9*G16 -> 240 | L16: =+L9*G16 -> 248 | M16: =+M9*G16 -> 248 | N16: =+N9*G16 -> 240 | O16: =+O9*G16 -> 248 | P16: =+P9*G16 -> 240 | Q16: =+Q9*G16 -> 248 | S16: =SUM(I16:Q16) -> 2128
D17: Lunes a Domingo 08:00 a 16:00 | E17: 1 | F17: 8 | G17: =E17*F17 -> 8 | I17: =+I9*G17 -> 168 | J17: =+J9*G17 -> 248 | K17: =+K9*G17 -> 240 | L17: =+L9*G17 -> 248 | M17: =+M9*G17 -> 248 | N17: =+N9*G17 -> 240 | O17: =+O9*G17 -> 248 | P17: =+P9*G17 -> 240 | Q17: =+Q9*G17 -> 248 | S17: =SUM(I17:Q17) -> 2128
D18: Lunes a Domingo 13:00 a 21:00 | E18: 1 | F18: 8 | G18: 8 | I18: 168 | J18: 248 | K18: 240 | L18: 248 | M18: 248 | N18: 240 | O18: 248 | P18: 240 | Q18: 248 | S18: =SUM(I18:Q18) -> 2128
A19: 2 | B19: EDIFICIO ESCORPIO | C19: AV. DE LOS HEROES Y CALLE LIBERTAD S/N, CENTRO CIVICO | D19: Lunes a viernes 07:00 a 15:00 | E19: 3 | F19: 8 | G19: =E19*F19 -> 24 | I19: =+I8*G19 -> 360 | J19: =+J8*G19 -> 504 | K19: =+K8*G19 -> 528 | L19: =+L8*G19 -> 504 | M19: =+M8*G19 -> 552 | N19: =+N8*G19 -> 480 | O19: =+O8*G19 -> 480 | P19: =+P8*G19 -> 480 | Q19: =+Q8*G19 -> 456 | S19: =SUM(I19:Q19) -> 4344
D20: Lunes a viernes 09:00 a 17:00 | E20: 1 | F20: 8 | G20: =E20*F20 -> 8 | I20: =+I8*G20 -> 120 | J20: =+J8*G20 -> 168 | K20: =+K8*G20 -> 176 | L20: =+L8*G20 -> 168 | M20: =+M8*G20 -> 184 | N20: =+N8*G20 -> 160 | O20: =+O8*G20 -> 160 | P20: =+P8*G20 -> 160 | Q20: =+Q8*G20 -> 152 | S20: =SUM(I20:Q20) -> 1448
D21: Sabado 08:00 a 12:00 | E21: 1 | F21: 4 | G21: =E21*F21 -> 4 | I21: =+I11*G21 -> 12 | J21: =+J11*G21 -> 16 | K21: =+K11*G21 -> 16 | L21: =+L11*G21 -> 20 | M21: =+M11*G21 -> 16 | N21: =+N11*G21 -> 16 | O21: =+O11*G21 -> 16 | P21: =+P11*G21 -> 16 | Q21: =+Q11*G21 -> 20 | S21: =SUM(I21:Q21) -> 148
A22: 3 | B22: Secretariado ejecutivo | C22: Avenida Alvaro Obregon 529, Primera, 21100 Mexicali, B.C | D22: Lunes a viernes 07:00 a 15:00 | E22: 1 | F22: 8 | G22: 8 | I22: =I8*8 -> 120 | J22: =J8*8 -> 168 | K22: =K8*8 -> 176 | L22: =L8*8 -> 168 | M22: =M8*8 -> 184 | N22: =N8*8 -> 160 | O22: =O8*8 -> 160 | P22: =P8*8 -> 160 | Q22: =Q8*8 -> 152 | S22: =SUM(I22:Q22) -> 1448
A23: 4 | B23: FUERZA ESTATAL MEXICALI | C23: Calafia 412. Centro Civico | D23: Lunes a viernes 07:00 a 15:00 | E23: 3 | F23: 8 | G23: =E23*F23 -> 24 | I23: =G23*I8 -> 360 | J23: =G23*J8 -> 504 | K23: =G23*K8 -> 528 | L23: =G23*K8 -> 528 | M23: =G23*L8 -> 504 | N23: =G23*M8 -> 552 | O23: =G23*N8 -> 480 | P23: =G23*O8 -> 480 | Q23: =G23*P8 -> 480 | S23: =SUM(I23:Q23) -> 4416
E24: =SUM(E16:E23) -> 12 | P24: TOTAL MEXICALI | S24: =SUM(S16:S23) -> 18188
A26: PARTIDA | B26: UBICACION | C26: DIRECCIÓN | D26: HORARIOS | E26: PERSONAL SOLICITADO | F26: HORAS POR DIA POR PERSONA | G26: HORAS DIARIAS POR TURNO | I26: ABR | J26: MAY | K26: JUN | L26: JUL | M26: AGO | N26: SEP | O26: OCT | P26: NOV | Q26: DIC | S26: TOTAL HORAS
B27: TIJUANA
A28: 5 | B28: C4 | C28: PARQUE INDUSTRIAL EL FLORIDO, 22254. | D28: Lunes a Domingo 7:00 a 15:00 | E28: 1 | F28: 8 | G28: =E28*F28 -> 8 | I28: =+I9*G28 -> 168 | J28: =+J9*G28 -> 248 | K28: =+K9*G28 -> 240 | L28: =+L9*G28 -> 248 | M28: =+M9*G28 -> 248 | N28: =+N9*G28 -> 240 | O28: =+O9*G28 -> 248 | P28: =+P9*G28 -> 240 | Q28: =+Q9*G28 -> 248 | S28: =SUM(I28:Q28) -> 2128
D29: Lunes a Domingo 08:00 a 16:00 | E29: 1 | F29: 8 | G29: =E29*F29 -> 8 | I29: 168 | J29: 248 | K29: 240 | L29: 248 | M29: 248 | N29: 240 | O29: 248 | P29: 240 | Q29: 248 | S29: =SUM(I29:Q29) -> 2128
D30: Lunes a Domingo 13:00 a 21:00 | E30: 1 | F30: 8 | G30: 8 | I30: 168 | J30: 248 | K30: 240 | L30: 248 | M30: 248 | N30: 240 | O30: 248 | P30: 240 | Q30: 248 | S30: =SUM(I30:Q30) -> 2128
A31: 6 | B31: FUERZA ESTATAL | C31: ANTIGUA CARRETERA LIBRE TECATE-TIJUANA KM. 15/133, COL. PIEDRAS BLANCAS, TIJUANA, B.C. | D31: Lunes a viernes 7:00 a 15:00 | E31: 4 | F31: 8 | G31: =E31*F31 -> 32 | I31: =+I8*G31 -> 480 | J31: =+J8*G31 -> 672 | K31: =+K8*G31 -> 704 | L31: =$G$31*L8 -> 672 | M31: =$G$31*M8 -> 736 | N31: =$G$31*N8 -> 640 | O31: =$G$31*O8 -> 640 | P31: =$G$31*P8 -> 640 | Q31: =$G$31*Q8 -> 608 | S31: =SUM(I31:Q31) -> 5792
D32: Sabado 8:00 a 12:00 | E32: 4 | F32: 4 | G32: =E32*F32 -> 16 | I32: =+I11*G32 -> 48 | J32: =+J11*G32 -> 64 | K32: =+K11*G32 -> 64 | L32: =+L11*G32 -> 80 | M32: =+M11*G32 -> 64 | N32: =+N11*G32 -> 64 | O32: =+O11*G32 -> 64 | P32: =+P11*G32 -> 64 | Q32: =+Q11*G32 -> 80 | S32: =SUM(I32:Q32) -> 592
A33: 7 | B33: BACHILLERATO MILITARIZADO | C33: CALLE PRIVADA NATURA #17341-0 SECCION BOSQUES FRACC NATURA | D33: Lunes a viernes 7:00 a 15:00 | E33: 1 | F33: 8 | G33: =E33*F33 -> 8 | I33: =I8*G33 -> 120 | J33: =J8*G33 -> 168 | K33: =K8*G33 -> 176 | L33: =L8*G33 -> 168 | M33: =M8*G33 -> 184 | N33: =N8*G33 -> 160 | O33: =O8*G33 -> 160 | P33: =P8*G33 -> 160 | Q33: =Q8*G33 -> 152 | S33: =SUM(I33:Q33) -> 1448
D34: Lunes a viernes 10:00 a 18:00 | E34: 1 | F34: 8 | G34: =E34*F34 -> 8 | I34: =I8*G34 -> 120 | J34: =J8*G34 -> 168 | K34: =K8*G34 -> 176 | L34: =L8*G34 -> 168 | M34: =M8*G34 -> 184 | N34: =N8*G34 -> 160 | O34: =O8*G34 -> 160 | P34: =P8*G34 -> 160 | Q34: =Q8*G34 -> 152 | S34: =SUM(I34:Q34) -> 1448
E35: =SUM(E28:E34) -> 13 | P35: TOTAL TIJUANA | S35: =SUM(S28:S34) -> 15664
A37: PARTIDA | B37: UBICACION | C37: DIRECCIÓN | D37: HORARIOS | E37: PERSONAL SOLICITADO | F37: HORAS POR DIA POR PERSONA | G37: HORAS DIARIAS POR TURNO | I37: ABR | J37: MAY | K37: JUN | L37: JUL | M37: AGO | N37: SEP | O37: OCT | P37: NOV | Q37: DIC | S37: TOTAL HORAS
B38: TECATE
A39: 8 | B39: CENFOCAP | C39: CARRETERA LIBRE TECATE - TIJUANA KM. 140 TECATE. | D39: Lunes a sábado 7:00 a 15:00 | E39: 4 | F39: 8 | G39: =E39*F39 -> 32 | I39: =I10*G39 -> 576 | J39: =J10*G39 -> 864 | K39: =K10*G39 -> 832 | L39: =L10*G39 -> 832 | M39: =M10*G39 -> 864 | N39: =N10*G39 -> 832 | O39: =O10*G39 -> 832 | P39: =P10*G39 -> 832 | Q39: =Q10*G39 -> 832 | S39: =SUM(I39:Q39) -> 7296
A40: 9 | B40: BASE GUARDIA ESTATAL, DORMITORIOS DENTRO DE CENFOCAP | C40: CARRETERA LIBRE TECATE - TIJUANA KM. 140 TECATE. | D40: Lunes a Sabado 7:00 a 15:00 | E40: 1 | F40: 8 | G40: =E40*F40 -> 8 | I40: =+I10*G40 -> 144 | J40: =+J10*G40 -> 216 | K40: =$G$40*K10 -> 208 | L40: =$G$40*L10 -> 208 | M40: =$G$40*M10 -> 216 | N40: =$G$40*N10 -> 208 | O40: =$G$40*O10 -> 208 | P40: =$G$40*P10 -> 208 | Q40: =$G$40*Q10 -> 208 | S40: =SUM(I40:Q40) -> 1824
A41: 10 | B41: C4 TECATE | C41: MISIÓN DE SANTA ROSALIA #1, EL DESCANSO, 21478, TECATE. | D41: Lunes a Sabado 6:00 a 13:00 | E41: 1 | F41: 7 | G41: =E41*F41 -> 7 | I41: =+I10*G41 -> 126 | J41: =+J10*G41 -> 189 | K41: =+K10*G41 -> 182 | L41: =+L10*G41 -> 182 | M41: =+M10*G41 -> 189 | N41: =+N10*G41 -> 182 | O41: =+O10*G41 -> 182 | P41: =+P10*G41 -> 182 | Q41: =+Q10*G41 -> 182 | S41: =SUM(I41:Q41) -> 1596
E42: =SUM(E39:E41) -> 6 | P42: TOTAL TECATE | S42: =SUM(S39:S41) -> 10716
A44: PARTIDA | B44: UBICACION | C44: DIRECCIÓN | D44: HORARIOS | E44: PERSONAL SOLICITADO | F44: HORAS POR DIA POR PERSONA | G44: HORAS DIARIAS POR TURNO | I44: ABR | J44: MAY | K44: JUN | L44: JUL | M44: AGO | N44: SEP | O44: OCT | P44: NOV | Q44: DIC | S44: TOTAL HORAS
B45: ROSARITO
A46: 11 | B46: C4 ROSARITO | C46: GENERAL JUAN VICARIO #16, BENITO JUÁREZ, 22710, ROSARITO. | D46: Lunes a viernes 6:00 a 13:00 | E46: 1 | F46: 7 | G46: =E46*F46 -> 7 | I46: =+I10*G46 -> 126 | J46: =+J10*G46 -> 189 | K46: =+K10*G46 -> 182 | L46: =+L10*G46 -> 182 | M46: =+M10*G46 -> 189 | N46: =+N10*G46 -> 182 | O46: =+O10*G46 -> 182 | P46: =+P10*G46 -> 182 | Q46: =+Q10*G46 -> 182 | S46: =SUM(I46:Q46) -> 1596
D47: Lunes a viernes 13:00 a 21:00 | E47: 1 | F47: 8 | G47: =F47*E47 -> 8 | I47: 120 | J47: 168 | K47: 176 | L47: 168 | M47: 184 | N47: 160 | O47: 160 | P47: 160 | Q47: 152 | S47: =SUM(I47:Q47) -> 1448
E48: =SUM(E46:E47) -> 2 | P48: TOTAL ROSARITO | S48: =SUM(S46:S47) -> 3044
A50: PARTIDA | B50: UBICACION | C50: DIRECCIÓN | D50: HORARIOS | E50: PERSONAL SOLICITADO | F50: HORAS POR DIA POR PERSONA | G50: HORAS DIARIAS POR TURNO | I50: ABR | J50: MAY | K50: JUN | L50: JUL | M50: AGO | N50: SEP | O50: OCT | P50: NOV | Q50: DIC | S50: TOTAL HORAS
B51: ENSENADA
A52: 12 | B52: C4 ENSENADA | C52: ADOLFO RUÍZ CORTINES 22895, ENSENADA. | D52: Lunes a viernes 6:00 a 13:00 | E52: 1 | F52: 7 | G52: =E52*F52 -> 7 | I52: =+I10*G52 -> 126 | J52: =+J10*G52 -> 189 | K52: =+K10*G52 -> 182 | L52: =+L10*G52 -> 182 | M52: =+M10*G52 -> 189 | N52: =+N10*G52 -> 182 | O52: =+O10*G52 -> 182 | P52: =+P10*G52 -> 182 | Q52: =+Q10*G52 -> 182 | S52: =SUM(I52:Q52) -> 1596
D53: Lunes a viernes 13:00 a 21:00 | E53: 1 | F53: 8 | G53: =F53*E53 -> 8 | I53: 120 | J53: 168 | K53: 176 | L53: 168 | M53: 184 | N53: 160 | O53: 160 | P53: 160 | Q53: 152 | S53: =SUM(I53:Q53) -> 1448
A54: 13 | B54: FESC | C54: BULEVARD ZERTUCHE S/N COL PRADERAS DEL CYPREES | D54: Lunes a viernes 8:00 a 16:00 | E54: 1 | F54: 8 | G54: =E54*F54 -> 8 | I54: =I8*G54 -> 120 | J54: =J8*G54 -> 168 | K54: =K8*G54 -> 176 | L54: =L8*G54 -> 168 | M54: =M8*G54 -> 184 | N54: =N8*G54 -> 160 | O54: =O8*G54 -> 160 | P54: =P8*G54 -> 160 | Q54: =Q8*G54 -> 152 | S54: =SUM(I54:Q54) -> 1448
A55: 14 | B55: Subcentro Estatal de Gobierno en la Jefatura de Registros | C55: CARRETERA ENSENADA LA PAZ 6500 PRADERAS DEL CIPRES EDIFICIO 1 | D55: Lunes a viernes 7:00 a 15:00 | E55: 1 | F55: 8 | G55: 8 | I55: 120 | J55: 168 | K55: 176 | L55: 168 | M55: 184 | N55: 160 | O55: 160 | P55: 160 | Q55: 152 | S55: =SUM(I55:Q55) -> 1448
E56: =SUM(E52:E55) -> 4 | P56: TOTAL ENSENADA | S56: =SUM(S52:S55) -> 5940
E57: =E56+E48+E42+E35+E24 -> 37
S58: =S56+S48+S42+S35+S24 -> 53552

Sheet RESUMEN DETALLADO DE CONTRATO
A2: COMITÉ DE ADQUISICIONES, ARRENDAMIENTOS Y SERVICIOS DEL PODER EJECUTIVO DEL GOBIERNO DEL ESTADO DE BAJA CALIFORNIA Licitación Pública Regional Número 32065001-015-2023 “SERVICIO DE LIMPIEZA PARA DEPENDENCIAS DE GOBIERNO DEL ESTADO DE BAJA CALIFORNIA”
A4: CALCULO DEL SERVICIO DE LIMPIEZA PARA EL PERIODO DEL 10 DE ABRIL AL 31 DE DICIEMBRE DE 2023
A6: PAQUETE | B6: DEPENDENCIA | C6: MUNICIPIO | D6: REQUERIMIENTO
D7: PERSONAL SOLICITADO | E7: PERSONAL SOLICITADO (TOTAL) | F7: TOTAL HORAS
A8: 1 | B8: SECRETARÍA DE HACIENDA | C8: MEXICALI | D8: =S.H.!F38 -> 22 | E8: =SUM(D8:D11) -> 51 | F8: =S.H.!T38+S.H.!T58+S.H.!T71+S.H.!T83 -> 37975
C9: TIJUANA - TECATE | D9: 21
C10: ENSENADA | D10: =S.H.!F71 -> 6
C11: ROSARITO | D11: =S.H.!F83 -> 2
A12: 3 | B12: SECRETARÍA DE SEGURIDAD CIUDADANA | C12: MEXICALI | D12: =S.S.C.!E24 -> 12 | E12: =SUM(D12:D16) -> 37 | F12: =S.S.C.!S24+S.S.C.!S35+S.S.C.!S42+S.S.C.!S48+S.S.C.!S56 -> 53552
C13: TIJUANA | D13: =S.S.C.!E35 -> 13
C14: TECATE | D14: =S.S.C.!E42 -> 6
C15: ROSARITO | D15: =S.S.C.!E48 -> 2
C16: ENSENADA | D16: =S.S.C.!E56 -> 4
C17: Total | D17: =SUM(D8:D16) -> 88 | E17: =SUM(E8:E16) -> 88 | F17: =SUM(F8:F16) -> 91527
