Workbook

Sheet S.H.
B2: COMITÉ DE ADQUISICIONES, ARRENDAMIENTOS Y SERVICIOS DEL PODER EJECUTIVO DEL GOBIERNO DEL ESTADO DE BAJA CALIFORNIA Licitación Pública Regional Número 32065001-015-2023 “SERVICIO DE LIMPIEZA PARA DEPENDENCIAS DE GOBIERNO DEL ESTADO DE BAJA CALIFORNIA”
B4: CALCULO DEL SERVICIO DE LIMPIEZA PARA EL PERIODO DEL 10 DE ABRIL AL 31 DE DICIEMBRE DE 2023
B6: SECRETARIA DE HACIENDA DEL ESTADO
G8: DIAS DE SERVICIO | J8: ABR | K8: MAY | L8: JUN | M8: JUL | N8: AGO | O8: SEP | P8: OCT | Q8: NOV | R8: DIC | T8: TOTAL DIAS
G9: LUNES-VIERNES | J9: 15 | K9: 21 | L9: 22 | M9: 21 | N9: 23 | O9: 20 | P9: 20 | Q9: 20 | R9: 19 | T9: =SUM(J9:R9) -> 181
G10: SABADO | J10: 3 | K10: 4 | L10: 4 | M10: 5 | N10: 4 | O10: 4 | P10: 4 | Q10: 4 | R10: 5 | T10: =SUM(J10:R10) -> 37
G11: LUN- MIER - VIER | J11: 9 | K11: 12 | L11: 13 | M11: 13 | N11: 13 | O11: 13 | P11: 12 | Q11: 11 | R11: 12 | T11: =SUM(J11:R11) -> 108
G12: MARTES-VIERNES | J12: 6 | K12: 8 | L12: 9 | M12: 8 | N12: 9 | O12: 8 | P12: 8 | Q12: 8 | R12: 8 | T12: =SUM(J12:R12) -> 72
T13: =SUM(T9:T12) -> 398
B14: PARTIDA | C14: UBICACION | D14: DIRECCIÓN | E14: HORARIOS | F14: PERSONAL SOLICITADO | G14: HORAS POR DIA POR PERSONA | H14: HORAS DIARIAS POR TURNO | J14: ABR | K14: MAY | L14: JUN | M14: JUL | N14: AGO | O14: SEP | P14: OCT | Q14: NOV | R14: DIC | T14: TOTAL HORAS
C15: MEXICALI
B16: 1 | C16: RECAUDACIÓN CENTRAL MEXICALI | D16: CALZADA INDEPENDENCIA Y AVENIDA DE LOS HÉROES #994, CENTRO CIVICO, 21000. PRIMER PISO DEL EDIFICIO DEL PODER EJECUTIVO. | E16: Lunes a viernes 7:00 a 15:00 | F16: 1 | G16: 8 | H16: =F16*G16 -> 8 | J16: =+J9*H16 -> 120 | K16: =K9*H16 -> 168 | L16: =L9*H16 -> 176 | M16: =M9*H16 -> 168 | N16: =N9*H16 -> 184 | O16: =O9*H16 -> 160 | P16: =P9*H16 -> 160 | Q16: =Q9*H16 -> 160 | R16: =R9*H16 -> 152 | T16: =SUM(J16:R16) -> 1448
B17: 2 | C17: DIRECCIÓN DE ADMINISTRACIÓN | D17: CALZADA INDEPENDENCIA Y AVENIDA DE LOS HÉROES #994, CENTRO CIVICO, 21000. PRIMER PISO DEL EDIFICIO DEL PODER EJECUTIVO. | E17: Lunes a viernes 7:00 a 12:00 | F17: 1 | G17: 5 | H17: =F17*G17 -> 5 | J17: =+J9*H17 -> 75 | K17: =K9*H17 -> 105 | L17: =L9*H17 -> 110 | M17: =M9*H17 -> 105 | N17: =N9*H17 -> 115 | O17: =O9*H17 -> 100 | P17: =P9*H17 -> 100 | Q17: =Q9*H17 -> 100 | R17: =R9*H17 -> 95 | T17: =SUM(J17:R17) -> 905
B18: 3 | C18: CENCAFI | D18: CALZADA MILTÓN CASTELLANOS #1573, CONJUNTO URBANO CALISS, 21010 | E18: Lunes a viernes 8:00 a 11:00 | F18: 1 | G18: 3 | H18: =F18*G18 -> 3 | J18: =+J9*H18 -> 45 | K18: =K9*H18 -> 63 | L18: =L9*H18 -> 66 | M18: =M9*H18 -> 63 | N18: =N9*H18 -> 69 | O18: =O9*H18 -> 60 | P18: =P9*H18 -> 60 | Q18: =Q9*H18 -> 60 | R18: =R9*H18 -> 57 | T18: =SUM(J18:R18) -> 543
B19: 4 | C19: ÁREA OPERATIVA, BAÑOS COMUNES Y DEPARTAMENTO DE NÓMINAS DE LA DIRECCIÓN DE EGRESOS | E19: Lunes a viernes 7:00 a 15:00 | F19: 1 | G19: 8 | H19: =F19*G19 -> 8 | J19: =+J9*H19 -> 120 | K19: =K9*H19 -> 168 | L19: =L9*H19 -> 176 | M19: =M9*H19 -> 168 | N19: =N9*H19 -> 184 | O19: =O9*H19 -> 160 | P19: =P9*H19 -> 160 | Q19: =Q9*H19 -> 160 | R19: =R9*H19 -> 152 | T19: =SUM(J19:R19) -> 1448
B20: 5 | C20: OFICINA DE COBRO GONZÁLEZ ORTEGA (PALACO) | D20: CALLE 4TA Y CARRETERA A SAN LUIS RIO COLORADO #249, DELEGACION GONZALEZ ORTEGA MEXICALI. | E20: Lunes, Miercoles y Viernes 10:00 a 12:00 | F20: 1 | G20: 2 | H20: =F20*G20 -> 2 | J20: =J11*H20 -> 18 | K20: =K11*H20 -> 24 | L20: =L11*H20 -> 26 | M20: =M11*H20 -> 26 | N20: =N11*H20 -> 26 | O20: =O11*H20 -> 26 | P20: =P11*H20 -> 24 | Q20: =Q11*H20 -> 22 | R20: =R11*H20 -> 24 | T20: =SUM(J20:R20) -> 216
B21: 6 | C21: INVERSIÓN PÚBLICA | E21: Lunes, Miercoles y Viernes 11:00 a 14:00 | F21: 1 | G21: 3 | H21: =F21*G21 -> 3 | J21: =+J11*H21 -> 27 | K21: =+K11*H21 -> 36 | L21: =+L11*H21 -> 39 | M21: =+M11*H21 -> 39 | N21: =+N11*H21 -> 39 | O21: =+O11*H21 -> 39 | P21: =+P11*H21 -> 36 | Q21: =+Q11*H21 -> 33 | R21: =+R11*H21 -> 36 | T21: =SUM(J21:R21) -> 324
B22: 7 | C22: SUBRECAUDACIÓN AUXILIAR DE RENTAS MEXICALI | E22: Lunes a viernes 9:00 a 18:00 | F22: 1 | G22: 9 | H22: =F22*G22 -> 9 | J22: =+J9*H22 -> 135 | K22: =+K9*H22 -> 189 | L22: =L9*H22 -> 198 | M22: =M9*H22 -> 189 | N22: =N9*H22 -> 207 | O22: =O9*H22 -> 180 | P22: =P9*H22 -> 180 | Q22: =Q9*H22 -> 180 | R22: =R9*H22 -> 171 | T22: =SUM(J22:R22) -> 1629
D23: CALZADA INDEPENDENCIA #994, CENTRO CIVICO, 21000 | E23: Lunes a viernes 8:00 a 14:00 | F23: 1 | G23: 6 | H23: =F23*G23 -> 6 | J23: =+J9*H23 -> 90 | K23: =K9*H23 -> 126 | L23: =L9*H23 -> 132 | M23: =M9*H23 -> 126 | N23: =N9*H23 -> 138 | O23: =O9*H23 -> 120 | P23: =P9*H23 -> 120 | Q23: =Q9*H23 -> 120 | R23: =R9*H23 -> 114 | T23: =SUM(J23:R23) -> 1086
E24: sabado 9:00 a 13:00 | F24: 1 | G24: 4 | H24: =F24*G24 -> 4 | J24: =+J10*H24 -> 12 | K24: =+K10*H24 -> 16 | L24: =L10*H24 -> 16 | M24: =M10*H24 -> 20 | N24: =N10*H24 -> 16 | O24: =O10*H24 -> 16 | P24: =P10*H24 -> 16 | Q24: =Q10*H24 -> 16 | R24: =R10*H24 -> 20 | T24: =SUM(J24:R24) -> 148
B25: 8 | C25: SUBRECAUDACIÓN AUXILIAR DE RENTAS CD. MORELOS | D25: AV. MORELOS Y LEYES DE REFORMA # 512, CD. MORELOS, 21960. | E25: Lunes a viernes 8:00 a 11:00 | F25: 1 | G25: 3 | H25: =F25*G25 -> 3 | J25: =+J9*H25 -> 45 | K25: =+K9*H25 -> 63 | L25: =L9*H25 -> 66 | M25: =M9*H25 -> 63 | N25: =N9*H25 -> 69 | O25: =O9*H25 -> 60 | P25: =P9*H25 -> 60 | Q25: =Q9*H25 -> 60 | R25: =R9*H25 -> 57 | T25: =SUM(J25:R25) -> 543
B26: 9 | C26: SUBRECAUDACIÓN AUXILIAR DE RENTAS GUADALUPE VICTORIA | D26: CALLE 8 CON MIGUEL HIDALGO, DEL SOL, 21720, GUADALUPE VICTORIA | E26: Lunes a viernes 8:00 a 10:00 | F26: 1 | G26: 2 | H26: =F26*G26 -> 2 | J26: =+J9*H26 -> 30 | K26: =K9*H26 -> 42 | L26: =L9*H26 -> 44 | M26: =M9*H26 -> 42 | N26: =N9*H26 -> 46 | O26: =O9*H26 -> 40 | P26: =P9*H26 -> 40 | Q26: =Q9*H26 -> 40 | R26: =R9*H26 -> 38 | T26: =SUM(J26:R26) -> 362
B27: 10 | C27: SUBRECAUDACIÓN AUXILIAR DE RENTAS SAN FELIPE | D27: AV. MAR CARIBE NORTE #182, AMPLIACIÓN SEGUNDA SECCIÓN, 21850. SAN FELIPE | E27: Lunes a viernes 8:00 a 10:00 | F27: 1 | G27: 2 | H27: =F27*G27 -> 2 | J27: =+J9*H27 -> 30 | K27: =K9*H27 -> 42 | L27: =L9*H27 -> 44 | M27: =M9*H27 -> 42 | N27: =N9*H27 -> 46 | O27: =O9*H27 -> 40 | P27: =P9*H27 -> 40 | Q27: =Q9*H27 -> 40 | R27: =R9*H27 -> 38 | T27: =SUM(J27:R27) -> 362
B28: 9.6923077 | C28: ARCHIVO GENERAL (CAIPE) | D28: MIMIAHUAPAN #1684, CALAFIA, 21040 | E28: Lunes a viernes 8:00 a 11:00 | F28: 1 | G28: 3 | H28: =F28*G28 -> 3 | J28: =+J9*H28 -> 45 | K28: =K9*H28 -> 63 | L28: =L9*H28 -> 66 | M28: =M9*H28 -> 63 | N28: =N9*H28 -> 69 | O28: =O9*H28 -> 60 | P28: =P9*H28 -> 60 | Q28: =Q9*H28 -> 60 | R28: =R9*H28 -> 57 | T28: =SUM(J28:R28) -> 543
B29: 10.153846 | C29: SUBSECRETARÍA DE TECNOLOGÍAS DE INFORMACIÓN Y COMUNICACIONES | E29: Lunes a viernes 7:00 a 14:00 | F29: 1 | G29: 7 | H29: =F29*G29 -> 7 | J29: =+J9*H29 -> 105 | K29: =K9*H29 -> 147 | L29: =L9*H29 -> 154 | M29: =M9*H29 -> 147 | N29: =N9*H29 -> 161 | O29: =O9*H29 -> 140 | P29: =P9*H29 -> 140 | Q29: =Q9*H29 -> 140 | R29: =R9*H29 -> 133 | T29: =SUM(J29:R29) -> 1267
B30: 11 | C30: OFICINAS DE LA SECRETARÍA DE HACIENDA | D30: CUARTO PISO EDIFICIO DEL PODER EJECUTIVO | E30: Lunes a viernes 7:00 a 14:00 | F30: 1 | G30: 7 | H30: =F30*G30 -> 7 | J30: =+J9*H30 -> 105 | K30: =K9*H30 -> 147 | L30: =L9*H30 -> 154 | M30: =M9*H30 -> 147 | N30: =N9*H30 -> 161 | O30: =O9*H30 -> 140 | P30: =P9*H30 -> 140 | Q30: =Q9*H30 -> 140 | R30: =R9*H30 -> 133 | T30: =SUM(J30:R30) -> 1267
B31: 12 | C31: PROCURADURÍA FISCAL | D31: CALZADA INDEPENDENCIA Y AVENIDA DE LOS HÉROES #994, CENTRO CIVICO, 21000. PRIMER PISO DEL EDIFICIO DEL PODER EJECUTIVO. | E31: Lunes a viernes 13:00 a 14:00 | F31: 1 | G31: 1 | H31: =F31*G31 -> 1 | J31: =+J9*H31 -> 15 | K31: =K9*H31 -> 21 | L31: =L9*H31 -> 22 | M31: =M9*H31 -> 21 | N31: =N9*H31 -> 23 | O31: =O9*H31 -> 20 | P31: =P9*H31 -> 20 | Q31: =Q9*H31 -> 20 | R31: =R9*H31 -> 19 | T31: =SUM(J31:R31) -> 181
B32: 13 | C32: DIRECCIÓN DE SEGUIMIENTO A PARAESTATALES | E32: Lunes a viernes 13:00 a 14:00 | F32: 1 | G32: 1 | H32: =F32*G32 -> 1 | J32: =+J9*H32 -> 15 | K32: =K9*H32 -> 21 | L32: =L9*H32 -> 22 | M32: =M9*H32 -> 21 | N32: =N9*H32 -> 23 | O32: =O9*H32 -> 20 | P32: =P9*H32 -> 20 | Q32: =Q9*H32 -> 20 | R32: =R9*H32 -> 19 | T32: =SUM(J32:R32) -> 181
B33: 12 | C33: CONTABILIDAD, BAÑOS COMUNES Y SERVICIO ADMINISTRATIVO | E33: Lunes a viernes 12:00 a 14:00 | F33: 1 | G33: 2 | H33: =F33*G33 -> 2 | J33: =+J9*H33 -> 30 | K33: =K9*H33 -> 42 | L33: =L9*H33 -> 44 | M33: =M9*H33 -> 42 | N33: =N9*H33 -> 46 | O33: =O9*H33 -> 40 | P33: =P9*H33 -> 40 | Q33: =Q9*H33 -> 40 | R33: =R9*H33 -> 38 | T33: =SUM(J33:R33) -> 362
B34: 12.461538 | C34: DIRECCIÓN DE GESTIÓN FINANCIERA | E34: Lunes a viernes 7:00 a 12:00 | F34: 1 | G34: 5 | H34: =F34*G34 -> 5 | J34: =+J9*H34 -> 75 | K34: =K9*H34 -> 105 | L34: =L9*H34 -> 110 | M34: =M9*H34 -> 105 | N34: =N9*H34 -> 115 | O34: =O9*H34 -> 100 | P34: =P9*H34 -> 100 | Q34: =Q9*H34 -> 100 | R34: =R9*H34 -> 95 | T34: =SUM(J34:R34) -> 905
B35: 14 | C35: DIRECCIÓN DE AUDITORIA FISCAL | D35: PRIMER PISO EDIFICIO DEL PODER EJECUTIVO | E35: Lunes a viernes 8:00 a 12:00 | F35: 1 | G35: 4 | H35: =F35*G35 -> 4 | J35: =+J9*H35 -> 60 | K35: =+K9*H35 -> 84 | L35: =L9*H35 -> 88 | M35: =M9*H35 -> 84 | N35: =N9*H35 -> 92 | O35: =O9*H35 -> 80 | P35: =P9*H35 -> 80 | Q35: =Q9*H35 -> 80 | R35: =R9*H35 -> 76 | T35: =SUM(J35:R35) -> 724
B36: 15 | C36: UNIDAD DE CUENTA PÚBLICA | E36: Lunes a viernes 8:00 a 11:00 | F36: 1 | G36: 3 | H36: =F36*G36 -> 3 | J36: =+J9*H36 -> 45 | K36: =K9*H36 -> 63 | L36: =L9*H36 -> 66 | M36: =M9*H36 -> 63 | N36: =N9*H36 -> 69 | O36: =O9*H36 -> 60 | P36: =P9*H36 -> 60 | Q36: =Q9*H36 -> 60 | R36: =R9*H36 -> 57 | T36: =SUM(J36:R36) -> 543
B37: 16 | C37: DIRECCIÓN DE AUDITORIA INTERNA Y BAÑOS COMUNES | D37: SOTANO EDIFICIO DEL PODER EJECUTIVO | E37: Lunes a viernes 7:00 a 12:00 | F37: 1 | G37: 5 | H37: =F37*G37 -> 5 | J37: =+J9*H37 -> 75 | K37: =+K9*H37 -> 105 | L37: =L9*H37 -> 110 | M37: =M9*H37 -> 105 | N37: =N9*H37 -> 115 | O37: =O9*H37 -> 100 | P37: =P9*H37 -> 100 | Q37: =Q9*H37 -> 100 | R37: =R9*H37 -> 95 | T37: =SUM(J37:R37) -> 905
F38: =SUM(F16:F37) -> 22 | G38: TOTALES DE HORAS/MES | J38: =SUM(J16:J37) -> 1317 | K38: =SUM(K16:K37) -> 1840 | L38: =SUM(L16:L37) -> 1929 | M38: =SUM(M16:M37) -> 1849 | N38: =SUM(N16:N37) -> 2013 | O38: =SUM(O16:O37) -> 1761 | P38: =SUM(P16:P37) -> 1756 | Q38: =SUM(Q16:Q37) -> 1751 | R38: =SUM(R16:R37) -> 1676 | T38: =SUM(T16:T37) -> 15892
B40: PARTIDA | C40: UBICACION | D40: DIRECCIÓN | E40: HORARIOS | F40: PERSONAL SOLICITADO | G40: HORAS POR DIA POR PERSONA | H40: HORAS DIARIAS POR TURNO | J40: ABR | K40: MAY | L40: JUN | M40: JUL | N40: AGO | O40: SEP | P40: OCT | Q40: NOV | R40: DIC | T40: TOTAL HORAS
C41: TIJUANA /TECATE
B42: 17 | C42: RECAUDACIÓN DE RENTAS TECATE | D42: MISIÓN SAN FRANCISCO S/N | E42: Lunes a viernes 7:00 a 11:00 | F42: 1 | G42: 4 | H42: 4 | J42: =+J9*H42 -> 60 | K42: =$H$42*K9 -> 84 | L42: =$H$42*L9 -> 88 | M42: =$H$42*M9 -> 84 | N42: =$H$42*N9 -> 92 | O42: =$H$42*O9 -> 80 | P42: =$H$42*P9 -> 80 | Q42: =$H$42*Q9 -> 80 | R42: =$H$42*R9 -> 76 | T42: =SUM(J42:R42) -> 724
E43: Sábados 9:00 a 12:00 | F43: 1 | G43: 3 | H43: 3 | J43: =+J10*H43 -> 9 | K43: =$H$43*K10 -> 12 | L43: =$H$43*L10 -> 12 | M43: =$H$43*M10 -> 15 | N43: =$H$43*N10 -> 12 | O43: =$H$43*O10 -> 12 | P43: =$H$43*P10 -> 12 | Q43: =$H$43*Q10 -> 12 | R43: =$H$43*R10 -> 15 | T43: =SUM(J43:R43) -> 111
B44: 18 | C44: RECAUDACIÓN CENTRAL TIJUANA (INCLUYE OFICINA DE CENCAFI) | D44: CONSORCIO TECNOLÓGICO EN LA CARRETERA LIBRE TIJUANA - TECATE KM 26.5, COLONIA EL FLORIDO | E44: Lunes a viernes 7:00 a 14:00 | F44: 1 | G44: 7 | H44: 7 | J44: =+J9*H44 -> 105 | K44: =+K9*H44 -> 147 | L44: =$H$44*L9 -> 154 | M44: =$H$44*M9 -> 147 | N44: =$H$44*N9 -> 161 | O44: =$H$44*O9 -> 140 | P44: =$H$44*P9 -> 140 | Q44: =$H$44*Q9 -> 140 | R44: =$H$44*R9 -> 133 | T44: =SUM(J44:R44) -> 1267
E45: Lunes a viernes 11:00 a 17:00 | F45: 1 | G45: 6 | H45: 6 | J45: =+J9*H45 -> 90 | K45: =+K9*H45 -> 126 | L45: =$H$45*L9 -> 132 | M45: =$H$45*M9 -> 126 | N45: =$H$45*N9 -> 138 | O45: =$H$45*O9 -> 120 | P45: =$H$45*P9 -> 120 | Q45: =$H$45*Q9 -> 120 | R45: =$H$45*R9 -> 114 | T45: =SUM(J45:R45) -> 1086
B46: 19 | C46: PLAZA MONARCAS | D46: BLVD. MANUEL J. CLOUTHIER #5561, EL LAGO DE LOS BUENOS, C.P. 22550, TIJUANA | E46: Lunes a viernes 8:00 a 16:00 | F46: 1 | G46: 8 | H46: =F46*G46 -> 8 | J46: 0 | K46: 0 | L46: =L9*H46 -> 176 | M46: =M9*H46 -> 168 | N46: =N9*H46 -> 184 | O46: =O9*H46 -> 160 | P46: =P9*H46 -> 160 | Q46: =Q9*H46 -> 160 | R46: =R9*H46 -> 152 | T46: =SUM(J46:R46) -> 1160
E47: Sábado 8:00 a 16:00 | F47: 1 | G47: 8 | H47: =F47*G47 -> 8 | J47: 0 | K47: 0 | L47: =L10*H47 -> 32 | M47: =M10*H47 -> 40 | N47: =N10*H47 -> 32 | O47: =O10*H47 -> 32 | P47: =P10*H47 -> 32 | Q47: =Q10*H47 -> 32 | R47: =R10*H47 -> 40 | T47: =SUM(J47:R47) -> 240
B48: 20 | C48: SUBRECAUDACIÓN AUXILIAR VÍA RÁPIDA | D48: VÍA RÁPIDA #12651, COLONIA 20 DE NOVIEMBRE, C.P. 22436, TIJUANA | E48: Lunes a viernes 9:00 a 17:00 | F48: 1 | G48: 8 | H48: 8 | J48: =+J9*H48 -> 120 | K48: =+K9*H48 -> 168 | L48: =$H$48*L9 -> 176 | M48: =$H$48*M9 -> 168 | N48: =$H$48*N9 -> 184 | O48: =$H$48*O9 -> 160 | P48: =$H$48*P9 -> 160 | Q48: =$H$48*Q9 -> 160 | R48: =$H$48*R9 -> 152 | T48: =SUM(J48:R48) -> 1448
E49: Lunes a viernes 7:00 a 12:00 | F49: 1 | G49: 5 | H49: 5 | J49: =+J9*H49 -> 75 | K49: =$H$49*K9 -> 105 | L49: =$H$49*L9 -> 110 | M49: =$H$49*M9 -> 105 | N49: =$H$49*N9 -> 115 | O49: =$H$49*O9 -> 100 | P49: =$H$49*P9 -> 100 | Q49: =$H$49*Q9 -> 100 | R49: =$H$49*R9 -> 95 | T49: =SUM(J49:R49) -> 905
E50: Sábado 9:00 a 13:00 | F50: 1 | G50: 4 | H50: 4 | J50: =+J10*H50 -> 12 | K50: =$H$50*K10 -> 16 | L50: =$H$50*L10 -> 16 | M50: =$H$50*M10 -> 20 | N50: =$H$50*N10 -> 16 | O50: =$H$50*O10 -> 16 | P50: =$H$50*P10 -> 16 | Q50: =$H$50*Q10 -> 16 | R50: =$H$50*R10 -> 20 | T50: =SUM(J50:R50) -> 148
B51: 21 | C51: SUBRECAUDACIÓN AUXILIAR CERRO COLORADO | D51: BLVD. MANUEL J. CLOUTHIER #19724 COLONIA EL LAGO, C.P. 22210, FRENTE A PLAZA MONARCA. | E51: Lunes a viernes 10:00 a 16:00 | F51: 1 | G51: 6 | H51: 6 | J51: =+J9*H51 -> 90 | K51: =$H$51*K9 -> 126 | L51: =$H$51*L9 -> 132 | M51: =$H$51*M9 -> 126 | N51: =$H$51*N9 -> 138 | O51: =$H$51*O9 -> 120 | P51: =$H$51*P9 -> 120 | Q51: =$H$51*Q9 -> 120 | R51: =$H$51*R9 -> 114 | T51: =SUM(J51:R51) -> 1086
E52: Lunes a viernes 8:00 a 13:00 | F52: 1 | G52: 5 | H52: 5 | J52: =+J9*H52 -> 75 | K52: =$H$52*K9 -> 105 | L52: =$H$52*L9 -> 110 | M52: =$H$52*M9 -> 105 | N52: =$H$52*N9 -> 115 | O52: =$H$52*O9 -> 100 | P52: =$H$52*P9 -> 100 | Q52: =$H$52*Q9 -> 100 | R52: =$H$52*R9 -> 95 | T52: =SUM(J52:R52) -> 905
E53: Sábado 9:00 a 13:00 | F53: 1 | G53: 4 | H53: 4 | J53: =+J10*H53 -> 12 | K53: =$H$53*K10 -> 16 | L53: =$H$53*L10 -> 16 | M53: =$H$53*M10 -> 20 | N53: =$H$53*N10 -> 16 | O53: =$H$53*O10 -> 16 | P53: =$H$53*P10 -> 16 | Q53: =$H$53*Q10 -> 16 | R53: =$H$53*R10 -> 20 | T53: =SUM(J53:R53) -> 148
B54: 22 | C54: PROCURADURÍA FISCAL TIJUANA | D54: CALLE RÍO SUCHIATE #10036, REVOLUCIÓN, TIJUANA B.C. 22015 | E54: Lunes a viernes 9:00 a 11:00 | F54: 1 | G54: 2 | H54: 2 | J54: =+J9*H54 -> 30 | K54: =$H$54*K9 -> 42 | L54: =$H$54*L9 -> 44 | M54: =$H$54*M9 -> 42 | N54: =$H$54*N9 -> 46 | O54: =$H$54*O9 -> 40 | P54: =$H$54*P9 -> 40 | Q54: =$H$54*Q9 -> 40 | R54: =$H$54*R9 -> 38 | T54: =SUM(J54:R54) -> 362
B55: 23 | C55: INVERSIÓN PÚBLICA / CENCAFI | E55: Martes y viernes 10:00 a 11:00 | F55: 1 | G55: 1 | H55: 1 | J55: =+J12*H55 -> 6 | K55: =$H$55*K12 -> 8 | L55: =$H$55*L12 -> 9 | M55: =$H$55*M12 -> 8 | N55: =$H$55*N12 -> 9 | O55: =$H$55*O12 -> 8 | P55: =$H$55*P12 -> 8 | Q55: =$H$55*Q12 -> 8 | R55: =$H$55*R12 -> 8 | T55: =SUM(J55:R55) -> 72
B56: 24 | C56: SAT BC CONSORCIO | D56: CARRETERA LIBRE TIJUANA - TECATE KM 26.5, EL FLORIDO, TIJUANA B.C. | E56: Lunes a viernes 6:00 a 14:00 | F56: 4 | G56: 8 | H56: =G56*F56 -> 32 | J56: =+J9*H56 -> 480 | K56: =$H$56*K9 -> 672 | L56: =$H$56*L9 -> 704 | M56: =$H$56*M9 -> 672 | N56: =$H$56*N9 -> 736 | O56: =$H$56*O9 -> 640 | P56: =$H$56*P9 -> 640 | Q56: =$H$56*Q9 -> 640 | R56: =$H$56*R9 -> 608 | T56: =SUM(J56:R56) -> 5792
E57: Lunes a viernes 13:00 a 20:00 | F57: 3 | G57: 7 | H57: =G57*F57 -> 21 | J57: =+J9*H57 -> 315 | K57: =$H$57*K9 -> 441 | L57: =$H$57*L9 -> 462 | M57: =$H$57*M9 -> 441 | N57: =$H$57*N9 -> 483 | O57: =$H$57*O9 -> 420 | P57: =$H$57*P9 -> 420 | Q57: =$H$57*Q9 -> 420 | R57: =$H$57*R9 -> 399 | T57: =SUM(J57:R57) -> 3801
E58: Sábado 7:00 a 15:00 | F58: 5 | G58: 8 | H58: =G58*F58 -> 40 | J58: =+J10*H58 -> 120 | K58: =$H$58*K10 -> 160 | L58: =$H$58*L10 -> 160 | M58: =$H$58*M10 -> 200 | N58: =$H$58*N10 -> 160 | O58: =$H$58*O10 -> 160 | P58: =$H$58*P10 -> 160 | Q58: =$H$58*Q10 -> 160 | R58: =$H$58*R10 -> 200 | T58: =SUM(J58:R58) -> 1480
F59: =SUM(F42:F58) -> 26 | G59: TOTALES DE HORAS/MES | J59: =SUM(J42:J58) -> 1599 | K59: =SUM(K42:K58) -> 2228 | L59: =SUM(L42:L58) -> 2533 | M59: =SUM(M42:M58) -> 2487 | N59: =SUM(N42:N58) -> 2637 | O59: =SUM(O42:O58) -> 2324 | P59: =SUM(P42:P58) -> 2324 | Q59: =SUM(Q42:Q58) -> 2324 | R59: =SUM(R42:R58) -> 2279 | T59: =SUM(T42:T58) -> 20735
C61: SECRETARIA DE HACIENDA DEL ESTADO
C62: CALCULO DEL SERVICIO DE LIMPIEZA PARA EL PERIODO DEL 10 DE ABRIL AL 31 DE DICIEMBRE DE 2023
B64: PARTIDA | C64: UBICACION | E64: HORARIOS | F64: PERSONAL SOLICITADO | G64: HORAS POR DIA POR PERSONA | H64: HORAS DIARIAS POR TURNO | J64: ABR | K64: MAY | L64: JUN | M64: JUL | N64: AGO | O64: SEP | P64: OCT | Q64: NOV | R64: DIC | T64: TOTAL HORAS
C65: ENSENADA
B66: 25 | C66: RECAUDACIÓN ENSENADA | D66: CARRETERA TRANSPENINSULAR LA PAZ - ENSENADA # 6500 EX. EJIDO CHAPULTEPEC, C.P. 22785 | E66: Lunes a viernes 7:00 a 14:00 | F66: 1 | G66: 7 | H66: 7 | J66: =+J9*H66 -> 105 | K66: =$H$66*K9 -> 147 | L66: =$H$66*L9 -> 154 | M66: =$H$66*M9 -> 147 | N66: =$H$66*N9 -> 161 | O66: =$H$66*O9 -> 140 | P66: =$H$66*P9 -> 140 | Q66: =$H$66*Q9 -> 140 | R66: =$H$66*R9 -> 133 | T66: =SUM(J66:R66) -> 1267
E67: Sabado 9:00 a 13:00 | F67: 1 | G67: 4 | H67: 4 | J67: =+J10*H67 -> 12 | K67: =$H$67*K10 -> 16 | L67: =$H$67*L10 -> 16 | M67: =$H$67*M10 -> 20 | N67: =$H$67*N10 -> 16 | O67: =$H$67*O10 -> 16 | P67: =$H$67*P10 -> 16 | Q67: =$H$67*Q10 -> 16 | R67: =$H$67*R10 -> 20 | T67: =SUM(J67:R67) -> 148
B68: 26 | C68: MÓDULO DE RECAUDACIÓN MANZANA 8 | D68: BLVD. LAS DUNAS S/N PLAYA ENSENADA | E68: Lunes, miercoles y viernes 10:00 a 11:00 | F68: 1 | G68: 1 | H68: 1 | J68: =+J11*H68 -> 9 | K68: =$H$68*K11 -> 12 | L68: =$H$68*L11 -> 13 | M68: =$H$68*M11 -> 13 | N68: =$H$68*N11 -> 13 | O68: =$H$68*O11 -> 13 | P68: =$H$68*P11 -> 12 | Q68: =$H$68*Q11 -> 11 | R68: =$H$68*R11 -> 12 | T68: =SUM(J68:R68) -> 108
B69: 27 | C69: COORDINACIÓN DE TECNOLOGÍAS DE INFORMACIÓN Y COMUNICACIONES | E69: Lunes, miercoles y viernes 15:00 a 16:00 | F69: 1 | G69: 1 | H69: 1 | J69: =+J11*H69 -> 9 | K69: =$H$69*K11 -> 12 | L69: =$H$69*L11 -> 13 | M69: =$H$69*M11 -> 13 | N69: =$H$69*N11 -> 13 | O69: =$H$69*O11 -> 13 | P69: =$H$69*P11 -> 12 | Q69: =$H$69*Q11 -> 11 | R69: =$H$69*R11 -> 12 | T69: =SUM(J69:R69) -> 108
B70: 28 | C70: CENCAFI ENSENADA | D70: TRANSPENINSULAR (REFORMA) 0 COLONIA EL CIPRES (GUARNICION MILITAR) | E70: Lunes a viernes 12:00 a 15:00 | F70: 1 | G70: 3 | H70: 3 | J70: =+J9*H70 -> 45 | K70: =+K9*H70 -> 63 | L70: =$H$70*L9 -> 66 | M70: =$H$70*M9 -> 63 | N70: =$H$70*N9 -> 69 | O70: =$H$70*O9 -> 60 | P70: =$H$70*P9 -> 60 | Q70: =$H$70*Q9 -> 60 | R70: =$H$70*R9 -> 57 | T70: =SUM(J70:R70) -> 543
B71: 29 | C71: AUDITORIA FISCAL | E71: Lunes a viernes 8:00 a 12:00 | F71: 1 | G71: 4 | H71: 4 | J71: =+J9*H71 -> 60 | K71: =$H$71*K9 -> 84 | L71: =$H$71*L9 -> 88 | M71: =$H$71*M9 -> 84 | N71: =$H$71*N9 -> 92 | O71: =$H$71*O9 -> 80 | P71: =$H$71*P9 -> 80 | Q71: =$H$71*Q9 -> 80 | R71: =$H$71*R9 -> 76 | T71: =SUM(J71:R71) -> 724
F72: =SUM(F66:F71) -> 6 | G72: TOTALES DE HORAS/MES | J72: =SUM(J66:J71) -> 240 | K72: =SUM(K66:K71) -> 334 | L72: =SUM(L66:L71) -> 350 | M72: =SUM(M66:M71) -> 340 | N72: =SUM(N66:N71) -> 364 | O72: =SUM(O66:O71) -> 322 | P72: =SUM(P66:P71) -> 320 | Q72: =SUM(Q66:Q71) -> 318 | R72: =SUM(R66:R71) -> 310 | T72: =SUM(T66:T71) -> 2898
B76: SECRETARIA DE HACIENDA DEL ESTADO
B77: CALCULO DEL SERVICIO DE LIMPIEZA PARA EL PERIODO DEL 10 DE ABRIL AL 31 DE DICIEMBRE DE 2023
B80: PARTIDA | C80: UBICACION | D80: DIRECCIÓN | E80: HORARIOS | F80: PERSONAL SOLICITADO | G80: HORAS POR DIA POR PERSONA | H80: HORAS DIARIAS POR TURNO | J80: ABR | K80: MAY | L80: JUN | M80: JUL | N80: AGO | O80: SEP | P80: OCT | Q80: NOV | R80: DIC | T80: TOTAL HORAS
C81: ROSARITO
B82: 30 | C82: RECAUDACIÓN DE RENTAS ROSARITO | D82: CALLE JOSÉ HAROS #2004 | E82: Lunes a viernes 8:00 a 13:00 | F82: 1 | G82: 5 | H82: 5 | J82: =+J9*H82 -> 75 | K82: =$H$82*K9 -> 105 | L82: =$H$82*L9 -> 110 | M82: =$H$82*M9 -> 105 | N82: =$H$82*N9 -> 115 | O82: =$H$82*O9 -> 100 | P82: =$H$82*P9 -> 100 | Q82: =$H$82*Q9 -> 100 | R82: =$H$82*R9 -> 95 | T82: =SUM(J82:R82) -> 905
E83: Sábado 9:00 a 12:00 | F83: 1 | G83: 3 | H83: 3 | J83: =+J10*H83 -> 9 | K83: =$H$83*K10 -> 12 | L83: =$H$83*L10 -> 12 | M83: =$H$83*M10 -> 15 | N83: =$H$83*N10 -> 12 | O83: =$H$83*O10 -> 12 | P83: =$H$83*P10 -> 12 | Q83: =$H$83*Q10 -> 12 | R83: =$H$83*R10 -> 15 | T83: =SUM(J83:R83) -> 111
F84: =SUM(F82:F83) -> 2 | G84: TOTALES DE HORAS/MES | J84: =SUM(J82:J83) -> 84 | K84: =SUM(K82:K83) -> 117 | L84: =SUM(L82:L83) -> 122 | M84: =SUM(M82:M83) -> 120 | N84: =SUM(N82:N83) -> 127 | O84: =SUM(O82:O83) -> 112 | P84: =SUM(P82:P83) -> 112 | Q84: =SUM(Q82:Q83) -> 112 | R84: =SUM(R82:R83) -> 110 | T84: =SUM(T82:T83) -> 1016

Sheet S.A.D.E.R.
B2: COMITÉ DE ADQUISICIONES, ARRENDAMIENTOS Y SERVICIOS DEL PODER EJECUTIVO DEL GOBIERNO DEL ESTADO DE BAJA CALIFORNIA Licitación Pública Regional Número 32065001-015-2023 “SERVICIO DE LIMPIEZA PARA DEPENDENCIAS DE GOBIERNO DEL ESTADO DE BAJA CALIFORNIA”
B4: CALCULO DEL SERVICIO DE LIMPIEZA PARA EL PERIODO DEL 10 DE ABRIL AL 31 DE DICIEMBRE DE 2023
B6: SECRETARIA DE AGRICULTURA Y DESARROLLO RURAL
H8: DIAS DE SERVICIO | J8: ENE | K8: FEB | L8: MAR | M8: ABR | N8: MAY | O8: JUN | P8: JUL | Q8: AGO | R8: SEP | S8: OCT | T8: NOV | U8: DIC | W8: TOTAL DIAS
H9: LUNES-VIERNES | J9: 0 | K9: 0 | L9: 0 | M9: 15 | N9: 21 | O9: 22 | P9: 21 | Q9: 23 | R9: 20 | S9: 20 | T9: 20 | U9: 19 | W9: =SUM(K9:U9) -> 181
B12: PARTIDA | C12: UBICACION | D12: DIRECCIÓN | E12: HORARIOS | F12: PERSONAL SOLICITADO | G12: HORAS POR DIA POR PERSONA | H12: HORAS DIARIAS POR TURNO | J12: ENE | K12: FEB | L12: MAR | M12: ABR | N12: MAY | O12: JUN | P12: JUL | Q12: AGO | R12: SEP | S12: OCT | T12: NOV | U12: DIC | W12: TOTAL HORAS
C13: MEXICALI
B14: MEXICALI | C14: OFICINA DE LA SECRETARIA DEL CAMPO Y SEGURIDAD ALIMENTARIA | D14: CARRETERA MEXICALI - SAN LUIS R.C. KM. 22.5 EJIDO SINALOA, 21620. | E14: Lunes a viernes 6:00 a 14:00 | F14: 5 | G14: 8 | H14: =F14*G14 -> 40 | J14: =+J9*H14 -> 0 | K14: =+K9*H14 -> 0 | L14: =+L9*H14 -> 0 | M14: =+M9*H14 -> 600 | N14: =$H$14*N9 -> 840 | O14: =$H$14*O9 -> 880 | P14: =$H$14*P9 -> 840 | Q14: =$H$14*Q9 -> 920 | R14: =$H$14*R9 -> 800 | S14: =$H$14*S9 -> 800 | T14: =$H$14*T9 -> 800 | U14: =$H$14*U9 -> 760 | W14: =SUM(K14:U14) -> 7240
B15: MEXICALI | C15: SECRETARIA DEL CAMPO Y SEGURIDAD ALIMENTARIA (CCIIAA MEXICALI) | D15: CARRETERA MEXICALI - SAN LUIS R.C. KM. 22.5 EJIDO SINALOA, 21620. | E15: Lunes a viernes 6:00 a 14:00 | F15: 1 | G15: 8 | H15: =F15*G15 -> 8 | J15: =+J9*H15 -> 0 | K15: =+K9*H15 -> 0 | L15: =+L9*H15 -> 0 | M15: =+M9*H15 -> 120 | N15: =+N9*H15 -> 168 | O15: =$H$15*O9 -> 176 | P15: =$H$15*P9 -> 168 | Q15: =$H$15*Q9 -> 184 | R15: =$H$15*R9 -> 160 | S15: =$H$15*S9 -> 160 | T15: =$H$15*T9 -> 160 | U15: =$H$15*U9 -> 152 | W15: =SUM(K15:U15) -> 1448
F16: =SUM(F14:F15) -> 6 | T16: SUMA MEXICALI | W16: =SUM(W14:W15) -> 8688
B18: PARTIDA | C18: UBICACION | D18: DIRECCIÓN | E18: HORARIOS | F18: PERSONAL SOLICITADO | G18: HORAS POR DIA POR PERSONA | H18: HORAS DIARIAS POR TURNO | J18: ENE | K18: FEB | L18: MAR | M18: ABR | N18: MAY | O18: JUN | P18: JUL | Q18: AGO | R18: SEP | S18: OCT | T18: NOV | U18: DIC | W18: TOTAL HORAS
C19: TIJUANA
B20: TIJUANA | C20: SCSA CENTRO DE OBIERNO TIJUANA | D20: CARRETERA LIBRE TIJUANA - TECATE KM 26.5 ESQUINA BLVD. NOGALES, EL FLORIDO, 22253. | E20: Lunes a viernes 9:00 a 11:00 | F20: 1 | G20: 2 | H20: =F20*G20 -> 2 | J20: =+J9*H20 -> 0 | K20: =+K9*H20 -> 0 | L20: =+L9*H20 -> 0 | M20: =+M9*H20 -> 30 | N20: =+N9*H20 -> 42 | O20: =$H$20*O9 -> 44 | P20: =$H$20*P9 -> 42 | Q20: =$H$20*Q9 -> 46 | R20: =$H$20*R9 -> 40 | S20: =$H$20*S9 -> 40 | T20: =$H$20*T9 -> 40 | U20: =$H$20*U9 -> 38 | W20: =SUM(K20:U20) -> 362
T21: SUMA TIJUANA | W21: =SUM(W20) -> 362
B23: PARTIDA | C23: UBICACION | D23: DIRECCIÓN | E23: HORARIOS | F23: PERSONAL SOLICITADO | G23: HORAS POR DIA POR PERSONA | H23: HORAS DIARIAS POR TURNO | J23: ENE | K23: FEB | L23: MAR | M23: ABR | N23: MAY | O23: JUN | P23: JUL | Q23: AGO | R23: SEP | S23: OCT | T23: NOV | U23: DIC | W23: TOTAL HORAS
C24: TECATE
B25: 4 | C25: SCSA TECATE | D25: MISION SANTO DOMINGO #1016 | E25: Lunes a viernes 9:00 a 11:00 | F25: 1 | G25: 2 | H25: =F25*G25 -> 2 | J25: =+J9*H25 -> 0 | K25: =+K9*H25 -> 0 | L25: =+L9*H25 -> 0 | M25: =+M9*H25 -> 30 | N25: =$H$25*N9 -> 42 | O25: =$H$25*O9 -> 44 | P25: =$H$25*P9 -> 42 | Q25: =$H$25*Q9 -> 46 | R25: =$H$25*R9 -> 40 | S25: =$H$25*S9 -> 40 | T25: =$H$25*T9 -> 40 | U25: =$H$25*U9 -> 38 | W25: =SUM(K25:U25) -> 362
T26: SUMA TECATE | W26: =SUM(W25) -> 362
B28: PARTIDA | C28: UBICACION | E28: HORARIOS | F28: PERSONAL SOLICITADO | G28: HORAS POR DIA POR PERSONA | H28: HORAS DIARIAS POR TURNO | J28: ENE | K28: FEB | L28: MAR | M28: ABR | N28: MAY | O28: JUN | P28: JUL | Q28: AGO | R28: SEP | S28: OCT | T28: NOV | U28: DIC | W28: TOTAL HORAS
C29: ENSENADA
B30: 5 | C30: SCSA CENTRO DE GOBIERNO ENSENADA | D30: CARRETERA TRANSPENINSULAR ENSENADA - LA PAZ #6500, EX EJIDO CHAPULTEPEC, 22785, ENSENADA. | E30: Lunes a viernes 7:00 a 10:00 | F30: 1 | G30: 3 | H30: =F30*G30 -> 3 | J30: =+J9*H30 -> 0 | K30: =+K9*H30 -> 0 | L30: =+L9*H30 -> 0 | M30: =+M9*H30 -> 45 | N30: =$H$30*N9 -> 63 | O30: =$H$30*O9 -> 66 | P30: =$H$30*P9 -> 63 | Q30: =$H$30*Q9 -> 69 | R30: =$H$30*R9 -> 60 | S30: =$H$30*S9 -> 60 | T30: =$H$30*T9 -> 60 | U30: =$H$30*U9 -> 57 | W30: =SUM(K30:U30) -> 543
B31: 6 | C31: SCSA CENTRO DE GOBIERNO SAN QUINTIN | D31: AVENIDA "A" S/N, FRACCIONAMIENTO CIUDAD DE SAN QUINTÍN, 22930. | E31: Lunes a viernes 7:00 a 9:00 | F31: 1 | G31: 2 | H31: =F31*G31 -> 2 | J31: =+J9*H31 -> 0 | K31: =+K9*H31 -> 0 | L31: =+L9*H31 -> 0 | M31: =+M9*H31 -> 30 | N31: =$H$31*N9 -> 42 | O31: =$H$31*O9 -> 44 | P31: =$H$31*P9 -> 42 | Q31: =$H$31*Q9 -> 46 | R31: =$H$31*R9 -> 40 | S31: =$H$31*S9 -> 40 | T31: =$H$31*T9 -> 40 | U31: =$H$31*U9 -> 38 | W31: =SUM(K31:U31) -> 362
F32: =F14+F15+F20+F25+F30+F31 -> 10 | T32: SUMA ENSENADA | W32: =SUM(W30:W31) -> 905
T34: SUMA ESTATAL | W34: =W16+W21+W26+W32 -> 10317

Sheet S.S.C.
B2: COMITÉ DE ADQUISICIONES, ARRENDAMIENTOS Y SERVICIOS DEL PODER EJECUTIVO DEL GOBIERNO DEL ESTADO DE BAJA CALIFORNIA Licitación Pública Regional Número 32065001-015-2023 “SERVICIO DE LIMPIEZA PARA DEPENDENCIAS DE GOBIERNO DEL ESTADO DE BAJA CALIFORNIA”
B4: CALCULO DEL SERVICIO DE LIMPIEZA PARA EL PERIODO DEL 10 DE ABRIL AL 31 DE DICIEMBRE DE 2023
B5: SECRETARIA DE SEGURIDAD CIUDADANA DE BAJA CALIFORNIA
G7: DIAS DE SERVICIO | J7: ABR | K7: MAY | L7: JUN | M7: JUL | N7: AGO | O7: SEP | P7: OCT | Q7: NOV | R7: DIC | T7: TOTAL DIAS
G8: LUNES A VIERNES | J8: 15 | K8: 21 | L8: 22 | M8: 21 | N8: 23 | O8: 20 | P8: 20 | Q8: 20 | R8: 19 | T8: =SUM(J8:R8) -> 181
G9: LUNES A DOMINGO | J9: 21 | K9: 31 | L9: 30 | M9: 31 | N9: 31 | O9: 30 | P9: 31 | Q9: 30 | R9: 31 | T9: =SUM(J9:R9) -> 266
G10: LUNES A SABADO | J10: 18 | K10: 27 | L10: 26 | M10: 26 | N10: 27 | O10: 26 | P10: 26 | Q10: 26 | R10: 26 | T10: =SUM(J10:R10) -> 228
G11: SABADO | J11: 3 | K11: 4 | L11: 4 | M11: 5 | N11: 4 | O11: 4 | P11: 4 | Q11: 4 | R11: 5 | T11: =SUM(J11:R11) -> 37
T12: =SUM(T8:T11) -> 712
B14: PARTIDA | C14: UBICACION | D14: DIRECCIÓN | E14: HORARIOS | F14: PERSONAL SOLICITADO | G14: HORAS POR DIA POR PERSONA | H14: HORAS DIARIAS POR TURNO | J14: ABR | K14: MAY | L14: JUN | M14: JUL | N14: AGO | O14: SEP | P14: OCT | Q14: NOV | R14: DIC | T14: TOTAL HORAS
C15: MEXICALI
B16: 1 | C16: C4 | D16: CALZADA ANAHUAC #958, JARDINES DEL LAGO, 21330. | E16: Lunes a Domingo 7:00 a 15:00 | F16: 2 | G16: 8 | H16: =F16*G16 -> 16 | J16: =+J9*H16 -> 336 | K16: =+K9*H16 -> 496 | L16: =+L9*H16 -> 480 | M16: =+M9*H16 -> 496 | N16: =+N9*H16 -> 496 | O16: =+O9*H16 -> 480 | P16: =+P9*H16 -> 496 | Q16: =+Q9*H16 -> 480 | R16: =+R9*H16 -> 496 | T16: =SUM(J16:R16) -> 4256
E17: Lunes a Domingo 14:00 a 21:00 | F17: 1 | G17: 4 | H17: =F17*G17 -> 4 | J17: =+J9*H17 -> 84 | K17: =+K9*H17 -> 124 | L17: =+L9*H17 -> 120 | M17: =+M9*H17 -> 124 | N17: =+N9*H17 -> 124 | O17: =+O9*H17 -> 120 | P17: =+P9*H17 -> 124 | Q17: =+Q9*H17 -> 120 | R17: =+R9*H17 -> 124 | T17: =SUM(J17:R17) -> 1064
B18: 2 | C18: EDIFICIO ESCORPIO | D18: AV. DE LOS HEROES Y CALLE LIBERTAD S/N, CENTRO CIVICO | E18: Lunes a viernes 07:00 a 15:00 | F18: 3 | G18: 8 | H18: =F18*G18 -> 24 | J18: =+J8*H18 -> 360 | K18: =+K8*H18 -> 504 | L18: =+L8*H18 -> 528 | M18: =+M8*H18 -> 504 | N18: =+N8*H18 -> 552 | O18: =+O8*H18 -> 480 | P18: =+P8*H18 -> 480 | Q18: =+Q8*H18 -> 480 | R18: =+R8*H18 -> 456 | T18: =SUM(J18:R18) -> 4344
E19: Lunes a viernes 09:00 a 17:00 | F19: 1 | G19: 8 | H19: =F19*G19 -> 8 | J19: =+J8*H19 -> 120 | K19: =+K8*H19 -> 168 | L19: =+L8*H19 -> 176 | M19: =+M8*H19 -> 168 | N19: =+N8*H19 -> 184 | O19: =+O8*H19 -> 160 | P19: =+P8*H19 -> 160 | Q19: =+Q8*H19 -> 160 | R19: =+R8*H19 -> 152 | T19: =SUM(J19:R19) -> 1448
E20: Sabado 10:00 a 14:00 | F20: 1 | G20: 4 | H20: =F20*G20 -> 4 | J20: =+J11*H20 -> 12 | K20: =+K11*H20 -> 16 | L20: =+L11*H20 -> 16 | M20: =+M11*H20 -> 20 | N20: =+N11*H20 -> 16 | O20: =+O11*H20 -> 16 | P20: =+P11*H20 -> 16 | Q20: =+Q11*H20 -> 16 | R20: =+R11*H20 -> 20 | T20: =SUM(J20:R20) -> 148
F21: =SUM(F16:F20) -> 8 | Q21: TOTAL MEXICALI | T21: =SUM(T16:T20) -> 11260
B23: PARTIDA | C23: UBICACION | D23: DIRECCIÓN | E23: HORARIOS | F23: PERSONAL SOLICITADO | G23: HORAS POR DIA POR PERSONA | H23: HORAS DIARIAS POR TURNO | J23: ABR | K23: MAY | L23: JUN | M23: JUL | N23: AGO | O23: SEP | P23: OCT | Q23: NOV | R23: DIC | T23: TOTAL HORAS
C24: TIJUANA
B25: 3 | C25: C4 | D25: PARQUE INDUSTRIAL EL FLORIDO, 22254. | E25: Lunes a Domingo 7:00 a 15:00 | F25: 3 | G25: 8 | H25: =F25*G25 -> 24 | J25: =+J9*H25 -> 504 | K25: =+K9*H25 -> 744 | L25: =+L9*H25 -> 720 | M25: =+M9*H25 -> 744 | N25: =+N9*H25 -> 744 | O25: =+O9*H25 -> 720 | P25: =+P9*H25 -> 744 | Q25: =+Q9*H25 -> 720 | R25: =+R9*H25 -> 744 | T25: =SUM(J25:R25) -> 6384
B26: 4 | C26: FUERZA ESTATAL | D26: ANTIGUA CARRETERA LIBRE TECATE-TIJUANA KM. 15/133, COL. PIEDRAS BLANCAS, TIJUANA, B.C. | E26: Lunes a viernes 7:00 a 15:00 | F26: 4 | G26: 8 | H26: =F26*G26 -> 32 | J26: =+J8*H26 -> 480 | K26: =+K8*H26 -> 672 | L26: =+L8*H26 -> 704 | M26: =$H$26*M8 -> 672 | N26: =$H$26*N8 -> 736 | O26: =$H$26*O8 -> 640 | P26: =$H$26*P8 -> 640 | Q26: =$H$26*Q8 -> 640 | R26: =$H$26*R8 -> 608 | T26: =SUM(J26:R26) -> 5792
E27: Sabado 8:00 a 12:00 | F27: 4 | G27: 4 | H27: =F27*G27 -> 16 | J27: =+J11*H27 -> 48 | K27: =+K11*H27 -> 64 | L27: =+L11*H27 -> 64 | M27: =+M11*H27 -> 80 | N27: =+N11*H27 -> 64 | O27: =+O11*H27 -> 64 | P27: =+P11*H27 -> 64 | Q27: =+Q11*H27 -> 64 | R27: =+R11*H27 -> 80 | T27: =SUM(J27:R27) -> 592
B28: 5 | C28: BACHILLERATO MILITARIZADO | D28: CALLE PRIVADA NATURA #17341-0 SECCION BOSQUES FRACC NATURA | E28: Lunes a viernes 7:00 a 15:00 | F28: 1 | G28: 8 | H28: =F28*G28 -> 8 | J28: =J8*H28 -> 120 | K28: =K8*H28 -> 168 | L28: =L8*H28 -> 176 | M28: =M8*H28 -> 168 | N28: =N8*H28 -> 184 | O28: =O8*H28 -> 160 | P28: =P8*H28 -> 160 | Q28: =Q8*H28 -> 160 | R28: =R8*H28 -> 152 | T28: =SUM(J28:R28) -> 1448
E29: Lunes a viernes 10:00 a 18:00 | F29: 1 | G29: 8 | H29: =F29*G29 -> 8 | J29: =J8*H29 -> 120 | K29: =K8*H29 -> 168 | L29: =L8*H29 -> 176 | M29: =M8*H29 -> 168 | N29: =N8*H29 -> 184 | O29: =O8*H29 -> 160 | P29: =P8*H29 -> 160 | Q29: =Q8*H29 -> 160 | R29: =R8*H29 -> 152 | T29: =SUM(J29:R29) -> 1448
F30: =SUM(F25:F29) -> 13 | Q30: TOTAL TIJUANA | T30: =SUM(T25:T29) -> 15664
B32: PARTIDA | C32: UBICACION | D32: DIRECCIÓN | E32: HORARIOS | F32: PERSONAL SOLICITADO | G32: HORAS POR DIA POR PERSONA | H32: HORAS DIARIAS POR TURNO | J32: ABR | K32: MAY | L32: JUN | M32: JUL | N32: AGO | O32: SEP | P32: OCT | Q32: NOV | R32: DIC | T32: TOTAL HORAS
C33: TECATE
B34: 6 | C34: CENFOCAP | D34: CARRETERA LIBRE TECATE - TIJUANA KM. 140 TECATE. | E34: Lunes a viernes 7:00 a 15:00 | F34: 3 | G34: 8 | H34: =F34*G34 -> 24 | J34: =J8*H34 -> 360 | K34: =K8*H34 -> 504 | L34: =L8*H34 -> 528 | M34: =M8*H34 -> 504 | N34: =N8*H34 -> 552 | O34: =O8*H34 -> 480 | P34: =P8*H34 -> 480 | Q34: =Q8*H34 -> 480 | R34: =R8*H34 -> 456 | T34: =SUM(J34:R34) -> 4344
E35: Sabado 7:00 a 13:00 | F35: 1 | G35: 6 | H35: =F35*G35 -> 6 | J35: =+J11*H35 -> 18 | K35: =+K11*H35 -> 24 | L35: =+L11*H35 -> 24 | M35: =+M11*H35 -> 30 | N35: =+N11*H35 -> 24 | O35: =+O11*H35 -> 24 | P35: =+P11*H35 -> 24 | Q35: =+Q11*H35 -> 24 | R35: =+R11*H35 -> 30 | T35: =SUM(J35:R35) -> 222
B36: 7 | C36: BASE GUARDIA ESTATAL, DORMITORIOS DENTRO DE CENFOCAP | D36: CARRETERA LIBRE TECATE - TIJUANA KM. 140 TECATE. | E36: Lunes a Sabado 7:00 a 15:00 | F36: 1 | G36: 8 | H36: =F36*G36 -> 8 | J36: =+J10*H36 -> 144 | K36: =+K10*H36 -> 216 | L36: =$H$36*L10 -> 208 | M36: =$H$36*M10 -> 208 | N36: =$H$36*N10 -> 216 | O36: =$H$36*O10 -> 208 | P36: =$H$36*P10 -> 208 | Q36: =$H$36*Q10 -> 208 | R36: =$H$36*R10 -> 208 | T36: =SUM(J36:R36) -> 1824
B37: 8 | C37: C4 TECATE | D37: MISIÓN DE SANTA ROSALIA #1, EL DESCANSO, 21478, TECATE. | E37: Lunes a Sabado 6:00 a 14:00 | F37: 1 | G37: 8 | H37: =F37*G37 -> 8 | J37: =+J10*H37 -> 144 | K37: =+K10*H37 -> 216 | L37: =+L10*H37 -> 208 | M37: =+M10*H37 -> 208 | N37: =+N10*H37 -> 216 | O37: =+O10*H37 -> 208 | P37: =+P10*H37 -> 208 | Q37: =+Q10*H37 -> 208 | R37: =+R10*H37 -> 208 | T37: =SUM(J37:R37) -> 1824
F38: =SUM(F34:F37) -> 6 | Q38: TOTAL TECATE | T38: =SUM(T34:T37) -> 8214
B40: PARTIDA | C40: UBICACION | D40: DIRECCIÓN | E40: HORARIOS | F40: PERSONAL SOLICITADO | G40: HORAS POR DIA POR PERSONA | H40: HORAS DIARIAS POR TURNO | J40: ABR | K40: MAY | L40: JUN | M40: JUL | N40: AGO | O40: SEP | P40: OCT | Q40: NOV | R40: DIC | T40: TOTAL HORAS
C41: ROSARITO
B42: 9 | C42: C4 ROSARITO | D42: GENERAL JUAN VICARIO #16, BENITO JUÁREZ, 22710, ROSARITO. | E42: Lunes a viernes 6:00 a 14:00 | F42: 2 | G42: 8 | H42: =F42*G42 -> 16 | J42: =+J10*H42 -> 288 | K42: =+K10*H42 -> 432 | L42: =+L10*H42 -> 416 | M42: =+M10*H42 -> 416 | N42: =+N10*H42 -> 432 | O42: =+O10*H42 -> 416 | P42: =+P10*H42 -> 416 | Q42: =+Q10*H42 -> 416 | R42: =+R10*H42 -> 416 | T42: =SUM(J42:R42) -> 3648
F43: =SUM(F42) -> 2 | Q43: TOTAL ROSARITO | T43: =SUM(T42:T42) -> 3648
B45: PARTIDA | C45: UBICACION | D45: DIRECCIÓN | E45: HORARIOS | F45: PERSONAL SOLICITADO | G45: HORAS POR DIA POR PERSONA | H45: HORAS DIARIAS POR TURNO | J45: ABR | K45: MAY | L45: JUN | M45: JUL | N45: AGO | O45: SEP | P45: OCT | Q45: NOV | R45: DIC | T45: TOTAL HORAS
C46: ENSENADA
B47: 10 | C47: C4 ENSENADA | D47: ADOLFO RUÍZ CORTINES 22895, ENSENADA. | E47: Lunes a viernes 6:00 a 14:00 | F47: 2 | G47: 8 | H47: =F47*G47 -> 16 | J47: =+J10*H47 -> 288 | K47: =+K10*H47 -> 432 | L47: =+L10*H47 -> 416 | M47: =+M10*H47 -> 416 | N47: =+N10*H47 -> 432 | O47: =+O10*H47 -> 416 | P47: =+P10*H47 -> 416 | Q47: =+Q10*H47 -> 416 | R47: =+R10*H47 -> 416 | T47: =SUM(J47:R47) -> 3648
B48: 11 | C48: FESC | D48: BULEVARD ZERTUCHE S/N COL PRADERAS DEL CYPREES | E48: Lunes a viernes 8:00 a 16:00 | F48: 1 | G48: 8 | H48: =F48*G48 -> 8 | J48: =J8*H48 -> 120 | K48: =K8*H48 -> 168 | L48: =L8*H48 -> 176 | M48: =M8*H48 -> 168 | N48: =N8*H48 -> 184 | O48: =O8*H48 -> 160 | P48: =P8*H48 -> 160 | Q48: =Q8*H48 -> 160 | R48: =R8*H48 -> 152 | T48: =SUM(J48:R48) -> 1448
F49: =SUM(F47:F48) -> 3 | Q49: TOTAL ENSENADA | T49: =SUM(T47:T48) -> 5096

Sheet RESUMEN DETALLADO DE CONTRATO
A2: COMITÉ DE ADQUISICIONES, ARRENDAMIENTOS Y SERVICIOS DEL PODER EJECUTIVO DEL GOBIERNO DEL ESTADO DE BAJA CALIFORNIA Licitación Pública Regional Número 32065001-015-2023 “SERVICIO DE LIMPIEZA PARA DEPENDENCIAS DE GOBIERNO DEL ESTADO DE BAJA CALIFORNIA”
A4: SERVICIO DE LIMPIEZA PARA EL EJERCICIO FISCAL 2023
A6: PARTIDA | B6: DEPENDENCIA | C6: MUNICIPIO | D6: REQUERIMIENTO
D7: PERSONAL SOLICITADO | E7: PERSONAL SOLICITADO (TOTAL) | F7: TOTAL HORAS
A8: 4 | B8: SECRETARIA DE HACIENDA | C8: MEXICALI | D8: =S.H.!F38 -> 22 | E8: =SUM(D8:D11) -> 58 | F8: =S.H.!T38+S.H.!T59+S.H.!T72+S.H.!T84 -> 40541
C9: TIJUANA - TECATE | D9: 28
C10: ENSENADA | D10: =S.H.!F72 -> 6
C11: ROSARITO | D11: =S.H.!F84 -> 2
A12: 8 | B12: SECRETARIA DE AGRICULTURA Y DESARROLLO RURAL | C12: MEXICALI | D12: 6 | E12: =SUM(D12:D15) -> 10 | F12: =S.A.D.E.R.!W34 -> 10317
C13: TIJUANA | D13: 1
C14: TECATE | D14: 1
C15: ENSENADA | D15: 2
A16: 15 | B16: SECRETARIA DE SEGURIDAD CIUDADANA | C16: MEXICALI | D16: =S.S.C.!F21 -> 8 | E16: =SUM(D16:D20) -> 32 | F16: =S.S.C.!T21+S.S.C.!T30+S.S.C.!T38+S.S.C.!T43+S.S.C.!T49 -> 43882
C17: TIJUANA | D17: =S.S.C.!F30 -> 13
C18: TECATE | D18: =S.S.C.!F38 -> 6
C19: ROSARITO | D19: =S.S.C.!F43 -> 2
C20: ENSENADA | D20: =S.S.C.!F49 -> 3
C21: Total | D21: =SUM(D8:D20) -> 100 | E21: =SUM(E8:E20) -> 100 | F21: =SUM(F8:F20) -> 94740
