Workbook

Sheet CATALOGO DE CONCEPTOS
A1: COMISIÓN ESTATAL DE SERVICIOS PÚBLICOS DE MEXICALI
A2: SUBDIRECCIÓN DE ADMINISTRACIÓN Y FINANZAS
A3: OFICINA DE LICITACIÓN Y CONTRATOS
A4: CATÁLOGO DE CONCEPTOS
A5: SERVICIO DE SEGURIDAD Y VIGILANCIA
A6: PAQUETE No. 2 ZONA PONIENTE
A7: No. | B7: Área y/o Zona | C7: Unidad de Medida | D7: 06:00 a 18:00 Hrs | E7: 18:00 a 06:00 Hrs | F7: Total de horas del 12 de Abril de 2021 al 31 de Diciembre de 2021 | G7: Importe Unitario | H7: Importe Total
A9: 1 | B9: Planta Zaragoza CCM A | C9: HORA | D9: 1 | E9: 1 | F9: =PROGRAMA!F10 -> 6312 | G9: =C38 -> 0 | H9: =G9*F9 -> 0
A10: 2 | B10: Planta Zaragoza CCM B | C10: HORA | D10: 0 | E10: 1 | F10: =PROGRAMA!F11 -> 3156 | G10: =C38 -> 0 | H10: =G10*F10 -> 0
A11: 3 | B11: Planta Zaragoza CCM C | C11: HORA | D11: 0 | E11: 1 | F11: =PROGRAMA!F12 -> 3156 | G11: =C38 -> 0 | H11: =F11*G11 -> 0
A12: 4 | B12: Planta Zaragoza CCM D | C12: HORA | D12: 0 | E12: 1 | F12: =PROGRAMA!F13 -> 3156 | G12: =C38 -> 0 | H12: =G12*F12 -> 0
A13: 5 | B13: Planta de Trat. De Aguas resid. Mex 1 (Caseta) | C13: HORA | D13: 1 | E13: 1 | F13: =PROGRAMA!F14 -> 6312 | G13: =C38 -> 0 | H13: =G12*F13 -> 0
A14: 6 | B14: Planta de Trat. De Aguas resid. Mex 1(Filtros) | C14: HORA | D14: 1 | E14: 1 | F14: =PROGRAMA!F15 -> 6312 | G14: =C38 -> 0 | H14: =G14*F14 -> 0
A15: 7 | B15: Planta de trat. De Aguas resid. Mex 1(Cloración) | C15: HORA | D15: 0 | E15: 1 | F15: =PROGRAMA!F16 -> 3156 | G15: =C38 -> 0 | H15: =G15*F15 -> 0
A16: 8 | B16: PBAR # 2 (RIO NUEVO) | C16: HORA | D16: 1 | E16: 1 | F16: =PROGRAMA!F17 -> 6312 | G16: =C38 -> 0 | H16: =G16*F16 -> 0
A17: 9 | B17: Carcamo Margen derecho | C17: HORA | D17: 1 | E17: 1 | F17: =PROGRAMA!F18 -> 6312 | G17: =C38 -> 0 | H17: =G17*F17 -> 0
A18: 10 | B18: PBAR # 5 (LAGUNA XOCHIMILCO) | C18: HORA | D18: 1 | E18: 1 | F18: =PROGRAMA!F19 -> 6312 | G18: =C38 -> 0 | H18: =G18*F18 -> 0
A19: 11 | B19: PBAR # 6 (ORIZABA) | C19: HORA | D19: 1 | E19: 1 | F19: =PROGRAMA!F20 -> 6312 | G19: =C38 -> 0 | H19: =G19*F19 -> 0
A20: 12 | B20: PBAR # 7 (SANTORALES) | C20: HORA | D20: 1 | E20: 1 | F20: =PROGRAMA!F21 -> 6312 | G20: =C38 -> 0 | H20: =G20*F20 -> 0
A21: 13 | B21: PBAR # 8 (ZARAGOZA) | C21: HORA | D21: 1 | E21: 1 | F21: =PROGRAMA!F22 -> 6312 | G21: =C38 -> 0 | H21: =G21*F21 -> 0
A22: 14 | B22: PBAR # 9 (PROGRESO) | C22: HORA | D22: 1 | E22: 1 | F22: =PROGRAMA!F23 -> 6312 | G22: =C38 -> 0 | H22: =G22*F22 -> 0
A23: 15 | B23: Planta Potabilizadora 3 "Xochimilco" | C23: HORA | D23: 1 | E23: 1 | F23: =PROGRAMA!F24 -> 6312 | G23: =C38 -> 0 | H23: =G23*F23 -> 0
A24: 16 | B24: Planta Progreso | C24: HORA | D24: 1 | E24: 1 | F24: =PROGRAMA!F25 -> 6312 | G24: =C38 -> 0 | H24: =G24*F24 -> 0
A25: 17 | B25: Zona Comercial I | C25: HORA | D25: 1 | E25: 1 | F25: =PROGRAMA!F26 -> 6312 | G25: =C38 -> 0 | H25: =G25*F25 -> 0
A26: 18 | B26: Redes I | C26: HORA | D26: 1 | E26: 1 | F26: =PROGRAMA!F27 -> 6312 | G26: =C38 -> 0 | H26: =G26*F26 -> 0
A27: 19 | B27: Zona Comercial II | C27: HORA | D27: 1 | E27: 1 | F27: =PROGRAMA!F28 -> 6312 | G27: =C38 -> 0 | H27: =G27*F27 -> 0
A28: 20 | B28: Redes II | C28: HORA | D28: 1 | E28: 1 | F28: =PROGRAMA!F29 -> 6312 | G28: =C38 -> 0 | H28: =G28*F28 -> 0
A29: 21 | B29: Zona Comercial III (Centro Civico) | C29: HORA | D29: 1 | E29: 1 | F29: =PROGRAMA!F30 -> 6312 | G29: =C38 -> 0 | H29: =G29*F29 -> 0
A30: 22 | B30: Zona III estacionamiento (Centro Civico) | C30: HORA | D30: 1 | E30: 0 | F30: =PROGRAMA!F31 -> 3156 | G30: =C38 -> 0 | H30: =G30*F30 -> 0
A31: 23 | B31: Zona Comercial III (Rio nuevo) | C31: HORA | D31: 1 | E31: 1 | F31: =PROGRAMA!F32 -> 6312 | G31: =C38 -> 0 | H31: =G31*F31 -> 0
A32: 24 | B32: Redes III (Rio nuevo) | C32: HORA | D32: 1 | E32: 1 | F32: =PROGRAMA!F33 -> 6312 | G32: =C38 -> 0 | H32: =G32*F32 -> 0
A33: 25 | B33: Zona VII | C33: HORA | D33: 1 | E33: 1 | F33: =PROGRAMA!F34 -> 6312 | G33: =C38 -> 0 | H33: =G33*F33 -> 0
A34: 26 | B34: Redes VII | C34: HORA | D34: 1 | E34: 1 | F34: =PROGRAMA!F35 -> 6312 | G34: =C38 -> 0 | H34: =G34*F34 -> 0
D35: =SUM(D9:D34) -> 22 | E35: =SUM(E9:E34) -> 25 | F35: =SUM(F9:F34) -> 148332 | H35: =SUM(H9:H34) -> 0
B36: TOTAL DE AGENTES DE SEGURIDAD: | C36: =D35+E35 -> 47
B37: UNIDAD DE MEDIDA: | C37: Hora
B38: COSTO POR HORA | D38: Pesos M.N.
B39: TOTAL HORAS: | C39: =F35 -> 148332
B40: PLAZO DE LOS SERVICIOS: | C40: 263 | D40: Dias Naturales
B41: FECHA DE INICIO: | C41: DE LAS 18:00 HORAS DEL DÍA 12 DE ABRIL DE 2021
...

Sheet PROGRAMA
A1: COMISIÓN ESTATAL DE SERVICIOS PÚBLICOS DE MEXICALI
A2: SUBDIRECCIÓN DE ADMINISTRACIÓN Y FINANZAS
A3: OFICINA DE LICITACIÓN Y CONTRATOS
A5: PROGRAMA DE SERVICIOS
A7: PAQUETE No. 2 ZONA PONIENTE
A8: No. | B8: Área y/o Zona | C8: Horarios a cubrir | E8: Total de horas diarias | F8: Total de horas del 12 de Abril de 2021 al 31 de Diciembre de 2021
C9: 06:00 a 18:00 Hrs | D9: 18:00 a 06:00 Hrs
A10: 1 | B10: Planta Zaragoza CCM A | C10: 1 | D10: 1 | E10: 24 | F10: =(E10*C41) -> 6312
A11: 2 | B11: Planta Zaragoza CCM B | C11: 0 | D11: 1 | E11: 12 | F11: =(E11*C41) -> 3156
A12: 3 | B12: Planta Zaragoza CCM C | C12: 0 | D12: 1 | E12: 12 | F12: =(E12*C41) -> 3156
A13: 4 | B13: Planta Zaragoza CCM D | C13: 0 | D13: 1 | E13: 12 | F13: =(E13*C41) -> 3156
A14: 5 | B14: Planta de Trat. De Aguas resid. Mex 1 (Caseta) | C14: 1 | D14: 1 | E14: 24 | F14: =(E14*C41) -> 6312
A15: 6 | B15: Planta de Trat. De Aguas resid. Mex 1(Filtros) | C15: 1 | D15: 1 | E15: 24 | F15: =(E15*C41) -> 6312
A16: 7 | B16: Planta de trat. De Aguas resid. Mex 1(Cloración) | C16: 0 | D16: 1 | E16: 12 | F16: =(E16*C41) -> 3156
A17: 8 | B17: PBAR # 2 (RIO NUEVO) | C17: 1 | D17: 1 | E17: 24 | F17: =(E17*C41) -> 6312
A18: 9 | B18: Carcamo Margen derecho | C18: 1 | D18: 1 | E18: 24 | F18: =(E18*C41) -> 6312
A19: 10 | B19: PBAR # 5 (LAGUNA XOCHIMILCO) | C19: 1 | D19: 1 | E19: 24 | F19: =(E19*C41) -> 6312
A20: 11 | B20: PBAR # 6 (ORIZABA) | C20: 1 | D20: 1 | E20: 24 | F20: =(E20*C41) -> 6312
A21: 12 | B21: PBAR # 7 (SANTORALES) | C21: 1 | D21: 1 | E21: 24 | F21: =(E21*C41) -> 6312
A22: 13 | B22: PBAR # 8 (ZARAGOZA) | C22: 1 | D22: 1 | E22: 24 | F22: =(E22*C41) -> 6312
A23: 14 | B23: PBAR # 9 (PROGRESO) | C23: 1 | D23: 1 | E23: 24 | F23: =(E23*C41) -> 6312
A24: 15 | B24: Planta Potabilizadora 3 "Xochimilco" | C24: 1 | D24: 1 | E24: 24 | F24: =(E24*C41) -> 6312
A25: 16 | B25: Planta Progreso | C25: 1 | D25: 1 | E25: 24 | F25: =(E25*C41) -> 6312
A26: 17 | B26: Zona Comercial I | C26: 1 | D26: 1 | E26: 24 | F26: =(E26*C41) -> 6312
A27: 18 | B27: Redes I | C27: 1 | D27: 1 | E27: 24 | F27: =(E27*C41) -> 6312
A28: 19 | B28: Zona Comercial II | C28: 1 | D28: 1 | E28: 24 | F28: =(E28*C41) -> 6312
A29: 20 | B29: Redes II | C29: 1 | D29: 1 | E29: 24 | F29: =(E29*C41) -> 6312
A30: 21 | B30: Zona Comercial III (Centro Civico) | C30: 1 | D30: 1 | E30: 24 | F30: =(E30*C41) -> 6312
A31: 22 | B31: Zona III estacionamiento (Centro Civico) | C31: 1 | D31: 0 | E31: 12 | F31: =(E31*C41) -> 3156
A32: 23 | B32: Zona Comercial III (Rio nuevo) | C32: 1 | D32: 1 | E32: 24 | F32: =(E32*C41) -> 6312
A33: 24 | B33: Redes III (Rio nuevo) | C33: 1 | D33: 1 | E33: 24 | F33: =(E33*C41) -> 6312
A34: 25 | B34: Zona VII | C34: 1 | D34: 1 | E34: 24 | F34: =(E34*C41) -> 6312
A35: 26 | B35: Redes VII | C35: 1 | D35: 1 | E35: 24 | F35: =(E35*C41) -> 6312
F36: =SUM(F10:F35) -> 148332
C37: =SUM(C8:C36) -> 22 | D37: =SUM(D8:D36) -> 25
B38: TOTAL DE AGENTES DE SEGURIDAD: | C38: =C37+D37 -> 47
B39: UNIDAD DE MEDIDA: | C39: HORA
B40: TOTAL HORAS: | C40: =F36 -> 148332
B41: PLAZO DE LOS SERVICIOS: | C41: 263 | D41: Dias Naturales
B42: FECHA DE INICIO: | C42: DE LAS 18:00 HORAS DEL DÍA 12 DE ABRIL DE 2021
...

Sheet Hoja1

Sheet Hoja2
